Workbook

Sheet DMG
A1: Item Name | B1: Rarity | C1: Attunement | D1: Cost (gp) | E1: Note | F1: Armor Cost | G1: Rare Material | H1: AC Bonus | I1: Save Bonus | J1: Set Score (Modifier) | K1: +2 Bonus To Score (Y/N) | L1: Weapon Bonus | M1: Spell Level | N1: Unlimited Charges (Y/N) | O1: Charges/Day (Unlimit = 7) | P1: Charges/Item (Destroyed) | Q1: Spells Share Charges | R1: Condition (1Min, Save) | S1: Consumable Damage (Avg) | T1: Consumable Save? (Y/N) | U1: Semi-Permanent Damage (Avg) | V1: Semi-Perm Save? (Y/N) | W1: Duration? (Minutes) | X1: Permanent Damage (Avg) | Y1: Perm Save? (Y/N) | Z1: Specific Situations (Y/N) | AA1: Restore HP (Avg) | AB1: Misc. Costs | AC1: 2 Spell Level | AD1: 2 Unlimited Charges (Y/N) | AE1: 2 Charges/Day (Unlimit = 7) | AF1: 3 Spell Level | AG1: 3 Unlimited Charges (Y/N) | AH1: 3 Charges/Day (Unlimit = 7) | AI1: MatCost | AJ1: ACCost | AK1: SaveCost | AL1: SetScore Cost | AM1: BonusScore Cost | AN1: WeaponCost | AO1: Consum Spell Cost | AP1: PermCharges Cost | AQ1: Charges - Destroyed | AR1: SpellShare ChargesCost | AS1: ConditionCost | AT1: ConsDMG Cost | AU1: Sm-PrDMG Cost | AV1: PerDMG Cost | AW1: AVGHP Cost | AX1: MiscCost | AY1: 2 Consum Spell Cost | AZ1: 2 Perm Charges Cost | BA1: 3 Consum Spell Cost | BB1: 3 Perm Charges Cost
A2: Adamantine Chain Shirt | B2: Uncommon | C2: No | D2: =IF(A2="","",ROUNDUP(SUM(AI2:BB2)*VLOOKUP(B2,RarityBackground!$A$1:$B$6,2,0)*IF(C2="Yes",1,1.1),0)) -> 5033 | F2: 50 | G2: Adamantine | AI2: =IF(F2="","",F2+IF(G2="",0,VLOOKUP(G2,RarityBackground!$E$7:$F$9,2,0))) -> 3050 | AJ2: =IF(H2="","",F2+IF(H2=1,RarityBackground!$F$1,IF(H2=2,RarityBackground!$F$1*3,IF(H2=3,RarityBackground!$F$1*6,"Error")))) | AK2: =IF(I2="","",IF(I2=1,RarityBackground!$F$2,IF(I2=2,RarityBackground!$F$2*3,IF(I2=3,RarityBackground!$F$2*6,"Error")))) | AL2: =IF(J2="","",ROUNDUP(RarityBackground!$F$6*VLOOKUP(J2, RarityBackground!$A$18:$B$27,2,0),-1)) | AM2: =IF(K2="","",IF(K2="N","",IF(K2="Y",ROUNDUP(RarityBackground!$F$6,-1),""))) | AN2: =IF(L2="","",IF(L2=1,RarityBackground!$D$1,IF(L2=2,RarityBackground!$D$1*3,IF(L2=3,RarityBackground!$D$1*6,"Error")))) | AO2: =IF(M2="","",VLOOKUP(M2,RarityBackground!$A$7:$B$17,2,0)) | AP2: =IF(N2="","",IF(N2="Y",AO2*RarityBackground!$F$5,IF(N2="N",AO2*(IF(RarityBackground!$F$3+(O2-1)>10,10,RarityBackground!$F$3+(O2-1)))))-AO2) | AQ2: =IF(P2="","",(P2*AO2)-AO2) | AR2: =IF(Q2="","",Q2*RarityBackground!$D$5) | AS2: =IF(R2="","",VLOOKUP(R2&"Save1Minute", RarityBackground!$C$6:$D$20,2,0)) | AT2: =IF(S2="","",IF(T2="Y",ROUNDUP(S2*RarityBackground!$D$4,0),IF(T2="N",ROUNDUP(S2*RarityBackground!$D$3,0)))) | AU2: =IF(U2="","",IF(V2="Y",((RarityBackground!$D$4*U2)*(RarityBackground!$F$3+W2)),((RarityBackground!$D$3*U2)*(RarityBackground!$F$3+W2)))) | AV2: =IF(X2="","",IF(Y2="Y",(RarityBackground!$D$4*X2)*IF(Z2="Y",RarityBackground!$F$9,RarityBackground!$F$10),(RarityBackground!$D$3*X2)*IF(Z2="Y",RarityBackground!$F$9,RarityBackground!$F$10))) | AW2: =IF(AA2="","",AA2*RarityBackground!$D$2) | AX2: =IF(AB2="","",AB2) | AY2: =IF(AC2="","",VLOOKUP(AC2,RarityBackground!$A$7:$B$17,2,0)) | AZ2: =IF(AD2="","",IF(AD2="Y",AY2*RarityBackground!$F$5,IF(AD2="N",AY2*(IF(RarityBackground!$F$3+(AE2-1)>10,10,RarityBackground!$F$3+(AE2-1)))))-AY2) | BA2: =IF(AF2="","",VLOOKUP(AF2,RarityBackground!$A$7:$B$17,2,0)) | BB2: =IF(AG2="","",IF(AG2="Y",BA2*RarityBackground!$F$5,IF(AG2="N",BA2*(IF(RarityBackground!$F$3+(AH2-1)>10,10,RarityBackground!$F$3+(AH2-1)))))-BA2)
A3: Adamantine Scale Mail | B3: Uncommon | C3: No | D3: =IF(A3="","",ROUNDUP(SUM(AI3:BB3)*VLOOKUP(B3,RarityBackground!$A$1:$B$6,2,0)*IF(C3="Yes",1,1.1),0)) -> 5033 | F3: 50 | G3: Adamantine | AI3: =IF(F3="","",F3+IF(G3="",0,VLOOKUP(G3,RarityBackground!$E$7:$F$9,2,0))) -> 3050 | AJ3: =IF(H3="","",F3+IF(H3=1,RarityBackground!$F$1,IF(H3=2,RarityBackground!$F$1*3,IF(H3=3,RarityBackground!$F$1*6,"Error")))) | AK3: =IF(I3="","",IF(I3=1,RarityBackground!$F$2,IF(I3=2,RarityBackground!$F$2*3,IF(I3=3,RarityBackground!$F$2*6,"Error")))) | AL3: =IF(J3="","",ROUNDUP(RarityBackground!$F$6*VLOOKUP(J3, RarityBackground!$A$18:$B$27,2,0),-1)) | AM3: =IF(K3="","",IF(K3="N","",IF(K3="Y",ROUNDUP(RarityBackground!$F$6,-1),""))) | AN3: =IF(L3="","",IF(L3=1,RarityBackground!$D$1,IF(L3=2,RarityBackground!$D$1*3,IF(L3=3,RarityBackground!$D$1*6,"Error")))) | AO3: =IF(M3="","",VLOOKUP(M3,RarityBackground!$A$7:$B$17,2,0)) | AP3: =IF(N3="","",IF(N3="Y",AO3*RarityBackground!$F$5,IF(N3="N",AO3*(IF(RarityBackground!$F$3+(O3-1)>10,10,RarityBackground!$F$3+(O3-1)))))-AO3) | AQ3: =IF(P3="","",(P3*AO3)-AO3) | AR3: =IF(Q3="","",Q3*RarityBackground!$D$5) | AS3: =IF(R3="","",VLOOKUP(R3&"Save1Minute", RarityBackground!$C$6:$D$20,2,0)) | AT3: =IF(S3="","",IF(T3="Y",ROUNDUP(S3*RarityBackground!$D$4,0),IF(T3="N",ROUNDUP(S3*RarityBackground!$D$3,0)))) | AU3: =IF(U3="","",IF(V3="Y",((RarityBackground!$D$4*U3)*(RarityBackground!$F$3+W3)),((RarityBackground!$D$3*U3)*(RarityBackground!$F$3+W3)))) | AV3: =IF(X3="","",IF(Y3="Y",(RarityBackground!$D$4*X3)*IF(Z3="Y",RarityBackground!$F$9,RarityBackground!$F$10),(RarityBackground!$D$3*X3)*IF(Z3="Y",RarityBackground!$F$9,RarityBackground!$F$10))) | AW3: =IF(AA3="","",AA3*RarityBackground!$D$2) | AX3: =IF(AB3="","",AB3) | AY3: =IF(AC3="","",VLOOKUP(AC3,RarityBackground!$A$7:$B$17,2,0)) | AZ3: =IF(AD3="","",IF(AD3="Y",AY3*RarityBackground!$F$5,IF(AD3="N",AY3*(IF(RarityBackground!$F$3+(AE3-1)>10,10,RarityBackground!$F$3+(AE3-1)))))-AY3) | BA3: =IF(AF3="","",VLOOKUP(AF3,RarityBackground!$A$7:$B$17,2,0)) | BB3: =IF(AG3="","",IF(AG3="Y",BA3*RarityBackground!$F$5,IF(AG3="N",BA3*(IF(RarityBackground!$F$3+(AH3-1)>10,10,RarityBackground!$F$3+(AH3-1)))))-BA3)
A4: Adamantine Breastplate | B4: Uncommon | C4: No | D4: =IF(A4="","",ROUNDUP(SUM(AI4:BB4)*VLOOKUP(B4,RarityBackground!$A$1:$B$6,2,0)*IF(C4="Yes",1,1.1),0)) -> 5610 | F4: 400 | G4: Adamantine | AI4: =IF(F4="","",F4+IF(G4="",0,VLOOKUP(G4,RarityBackground!$E$7:$F$9,2,0))) -> 3400 | AJ4: =IF(H4="","",F4+IF(H4=1,RarityBackground!$F$1,IF(H4=2,RarityBackground!$F$1*3,IF(H4=3,RarityBackground!$F$1*6,"Error")))) | AK4: =IF(I4="","",IF(I4=1,RarityBackground!$F$2,IF(I4=2,RarityBackground!$F$2*3,IF(I4=3,RarityBackground!$F$2*6,"Error")))) | AL4: =IF(J4="","",ROUNDUP(RarityBackground!$F$6*VLOOKUP(J4, RarityBackground!$A$18:$B$27,2,0),-1)) | AM4: =IF(K4="","",IF(K4="N","",IF(K4="Y",ROUNDUP(RarityBackground!$F$6,-1),""))) | AN4: =IF(L4="","",IF(L4=1,RarityBackground!$D$1,IF(L4=2,RarityBackground!$D$1*3,IF(L4=3,RarityBackground!$D$1*6,"Error")))) | AO4: =IF(M4="","",VLOOKUP(M4,RarityBackground!$A$7:$B$17,2,0)) | AP4: =IF(N4="","",IF(N4="Y",AO4*RarityBackground!$F$5,IF(N4="N",AO4*(IF(RarityBackground!$F$3+(O4-1)>10,10,RarityBackground!$F$3+(O4-1)))))-AO4) | AQ4: =IF(P4="","",(P4*AO4)-AO4) | AR4: =IF(Q4="","",Q4*RarityBackground!$D$5) | AS4: =IF(R4="","",VLOOKUP(R4&"Save1Minute", RarityBackground!$C$6:$D$20,2,0)) | AT4: =IF(S4="","",IF(T4="Y",ROUNDUP(S4*RarityBackground!$D$4,0),IF(T4="N",ROUNDUP(S4*RarityBackground!$D$3,0)))) | AU4: =IF(U4="","",IF(V4="Y",((RarityBackground!$D$4*U4)*(RarityBackground!$F$3+W4)),((RarityBackground!$D$3*U4)*(RarityBackground!$F$3+W4)))) | AV4: =IF(X4="","",IF(Y4="Y",(RarityBackground!$D$4*X4)*IF(Z4="Y",RarityBackground!$F$9,RarityBackground!$F$10),(RarityBackground!$D$3*X4)*IF(Z4="Y",RarityBackground!$F$9,RarityBackground!$F$10))) | AW4: =IF(AA4="","",AA4*RarityBackground!$D$2) | AX4: =IF(AB4="","",AB4) | AY4: =IF(AC4="","",VLOOKUP(AC4,RarityBackground!$A$7:$B$17,2,0)) | AZ4: =IF(AD4="","",IF(AD4="Y",AY4*RarityBackground!$F$5,IF(AD4="N",AY4*(IF(RarityBackground!$F$3+(AE4-1)>10,10,RarityBackground!$F$3+(AE4-1)))))-AY4) | BA4: =IF(AF4="","",VLOOKUP(AF4,RarityBackground!$A$7:$B$17,2,0)) | BB4: =IF(AG4="","",IF(AG4="Y",BA4*RarityBackground!$F$5,IF(AG4="N",BA4*(IF(RarityBackground!$F$3+(AH4-1)>10,10,RarityBackground!$F$3+(AH4-1)))))-BA4)
A5: Adamantine Half Plate | B5: Uncommon | C5: No | D5: =IF(A5="","",ROUNDUP(SUM(AI5:BB5)*VLOOKUP(B5,RarityBackground!$A$1:$B$6,2,0)*IF(C5="Yes",1,1.1),0)) -> 6188 | F5: 750 | G5: Adamantine | AI5: =IF(F5="","",F5+IF(G5="",0,VLOOKUP(G5,RarityBackground!$E$7:$F$9,2,0))) -> 3750 | AJ5: =IF(H5="","",F5+IF(H5=1,RarityBackground!$F$1,IF(H5=2,RarityBackground!$F$1*3,IF(H5=3,RarityBackground!$F$1*6,"Error")))) | AK5: =IF(I5="","",IF(I5=1,RarityBackground!$F$2,IF(I5=2,RarityBackground!$F$2*3,IF(I5=3,RarityBackground!$F$2*6,"Error")))) | AL5: =IF(J5="","",ROUNDUP(RarityBackground!$F$6*VLOOKUP(J5, RarityBackground!$A$18:$B$27,2,0),-1)) | AM5: =IF(K5="","",IF(K5="N","",IF(K5="Y",ROUNDUP(RarityBackground!$F$6,-1),""))) | AN5: =IF(L5="","",IF(L5=1,RarityBackground!$D$1,IF(L5=2,RarityBackground!$D$1*3,IF(L5=3,RarityBackground!$D$1*6,"Error")))) | AO5: =IF(M5="","",VLOOKUP(M5,RarityBackground!$A$7:$B$17,2,0)) | AP5: =IF(N5="","",IF(N5="Y",AO5*RarityBackground!$F$5,IF(N5="N",AO5*(IF(RarityBackground!$F$3+(O5-1)>10,10,RarityBackground!$F$3+(O5-1)))))-AO5) | AQ5: =IF(P5="","",(P5*AO5)-AO5) | AR5: =IF(Q5="","",Q5*RarityBackground!$D$5) | AS5: =IF(R5="","",VLOOKUP(R5&"Save1Minute", RarityBackground!$C$6:$D$20,2,0)) | AT5: =IF(S5="","",IF(T5="Y",ROUNDUP(S5*RarityBackground!$D$4,0),IF(T5="N",ROUNDUP(S5*RarityBackground!$D$3,0)))) | AU5: =IF(U5="","",IF(V5="Y",((RarityBackground!$D$4*U5)*(RarityBackground!$F$3+W5)),((RarityBackground!$D$3*U5)*(RarityBackground!$F$3+W5)))) | AV5: =IF(X5="","",IF(Y5="Y",(RarityBackground!$D$4*X5)*IF(Z5="Y",RarityBackground!$F$9,RarityBackground!$F$10),(RarityBackground!$D$3*X5)*IF(Z5="Y",RarityBackground!$F$9,RarityBackground!$F$10))) | AW5: =IF(AA5="","",AA5*RarityBackground!$D$2) | AX5: =IF(AB5="","",AB5) | AY5: =IF(AC5="","",VLOOKUP(AC5,RarityBackground!$A$7:$B$17,2,0)) | AZ5: =IF(AD5="","",IF(AD5="Y",AY5*RarityBackground!$F$5,IF(AD5="N",AY5*(IF(RarityBackground!$F$3+(AE5-1)>10,10,RarityBackground!$F$3+(AE5-1)))))-AY5) | BA5: =IF(AF5="","",VLOOKUP(AF5,RarityBackground!$A$7:$B$17,2,0)) | BB5: =IF(AG5="","",IF(AG5="Y",BA5*RarityBackground!$F$5,IF(AG5="N",BA5*(IF(RarityBackground!$F$3+(AH5-1)>10,10,RarityBackground!$F$3+(AH5-1)))))-BA5)
A6: Adamantine Ring Mail | B6: Uncommon | C6: No | D6: =IF(A6="","",ROUNDUP(SUM(AI6:BB6)*VLOOKUP(B6,RarityBackground!$A$1:$B$6,2,0)*IF(C6="Yes",1,1.1),0)) -> 5000 | F6: 30 | G6: Adamantine | AI6: =IF(F6="","",F6+IF(G6="",0,VLOOKUP(G6,RarityBackground!$E$7:$F$9,2,0))) -> 3030 | AJ6: =IF(H6="","",F6+IF(H6=1,RarityBackground!$F$1,IF(H6=2,RarityBackground!$F$1*3,IF(H6=3,RarityBackground!$F$1*6,"Error")))) | AK6: =IF(I6="","",IF(I6=1,RarityBackground!$F$2,IF(I6=2,RarityBackground!$F$2*3,IF(I6=3,RarityBackground!$F$2*6,"Error")))) | AL6: =IF(J6="","",ROUNDUP(RarityBackground!$F$6*VLOOKUP(J6, RarityBackground!$A$18:$B$27,2,0),-1)) | AM6: =IF(K6="","",IF(K6="N","",IF(K6="Y",ROUNDUP(RarityBackground!$F$6,-1),""))) | AN6: =IF(L6="","",IF(L6=1,RarityBackground!$D$1,IF(L6=2,RarityBackground!$D$1*3,IF(L6=3,RarityBackground!$D$1*6,"Error")))) | AO6: =IF(M6="","",VLOOKUP(M6,RarityBackground!$A$7:$B$17,2,0)) | AP6: =IF(N6="","",IF(N6="Y",AO6*RarityBackground!$F$5,IF(N6="N",AO6*(IF(RarityBackground!$F$3+(O6-1)>10,10,RarityBackground!$F$3+(O6-1)))))-AO6) | AQ6: =IF(P6="","",(P6*AO6)-AO6) | AR6: =IF(Q6="","",Q6*RarityBackground!$D$5) | AS6: =IF(R6="","",VLOOKUP(R6&"Save1Minute", RarityBackground!$C$6:$D$20,2,0)) | AT6: =IF(S6="","",IF(T6="Y",ROUNDUP(S6*RarityBackground!$D$4,0),IF(T6="N",ROUNDUP(S6*RarityBackground!$D$3,0)))) | AU6: =IF(U6="","",IF(V6="Y",((RarityBackground!$D$4*U6)*(RarityBackground!$F$3+W6)),((RarityBackground!$D$3*U6)*(RarityBackground!$F$3+W6)))) | AV6: =IF(X6="","",IF(Y6="Y",(RarityBackground!$D$4*X6)*IF(Z6="Y",RarityBackground!$F$9,RarityBackground!$F$10),(RarityBackground!$D$3*X6)*IF(Z6="Y",RarityBackground!$F$9,RarityBackground!$F$10))) | AW6: =IF(AA6="","",AA6*RarityBackground!$D$2) | AX6: =IF(AB6="","",AB6) | AY6: =IF(AC6="","",VLOOKUP(AC6,RarityBackground!$A$7:$B$17,2,0)) | AZ6: =IF(AD6="","",IF(AD6="Y",AY6*RarityBackground!$F$5,IF(AD6="N",AY6*(IF(RarityBackground!$F$3+(AE6-1)>10,10,RarityBackground!$F$3+(AE6-1)))))-AY6) | BA6: =IF(AF6="","",VLOOKUP(AF6,RarityBackground!$A$7:$B$17,2,0)) | BB6: =IF(AG6="","",IF(AG6="Y",BA6*RarityBackground!$F$5,IF(AG6="N",BA6*(IF(RarityBackground!$F$3+(AH6-1)>10,10,RarityBackground!$F$3+(AH6-1)))))-BA6)
A7: Adamantine Chain Mail | B7: Uncommon | C7: No | D7: =IF(A7="","",ROUNDUP(SUM(AI7:BB7)*VLOOKUP(B7,RarityBackground!$A$1:$B$6,2,0)*IF(C7="Yes",1,1.1),0)) -> 5074 | F7: 75 | G7: Adamantine | AI7: =IF(F7="","",F7+IF(G7="",0,VLOOKUP(G7,RarityBackground!$E$7:$F$9,2,0))) -> 3075 | AJ7: =IF(H7="","",F7+IF(H7=1,RarityBackground!$F$1,IF(H7=2,RarityBackground!$F$1*3,IF(H7=3,RarityBackground!$F$1*6,"Error")))) | AK7: =IF(I7="","",IF(I7=1,RarityBackground!$F$2,IF(I7=2,RarityBackground!$F$2*3,IF(I7=3,RarityBackground!$F$2*6,"Error")))) | AL7: =IF(J7="","",ROUNDUP(RarityBackground!$F$6*VLOOKUP(J7, RarityBackground!$A$18:$B$27,2,0),-1)) | AM7: =IF(K7="","",IF(K7="N","",IF(K7="Y",ROUNDUP(RarityBackground!$F$6,-1),""))) | AN7: =IF(L7="","",IF(L7=1,RarityBackground!$D$1,IF(L7=2,RarityBackground!$D$1*3,IF(L7=3,RarityBackground!$D$1*6,"Error")))) | AO7: =IF(M7="","",VLOOKUP(M7,RarityBackground!$A$7:$B$17,2,0)) | AP7: =IF(N7="","",IF(N7="Y",AO7*RarityBackground!$F$5,IF(N7="N",AO7*(IF(RarityBackground!$F$3+(O7-1)>10,10,RarityBackground!$F$3+(O7-1)))))-AO7) | AQ7: =IF(P7="","",(P7*AO7)-AO7) | AR7: =IF(Q7="","",Q7*RarityBackground!$D$5) | AS7: =IF(R7="","",VLOOKUP(R7&"Save1Minute", RarityBackground!$C$6:$D$20,2,0)) | AT7: =IF(S7="","",IF(T7="Y",ROUNDUP(S7*RarityBackground!$D$4,0),IF(T7="N",ROUNDUP(S7*RarityBackground!$D$3,0)))) | AU7: =IF(U7="","",IF(V7="Y",((RarityBackground!$D$4*U7)*(RarityBackground!$F$3+W7)),((RarityBackground!$D$3*U7)*(RarityBackground!$F$3+W7)))) | AV7: =IF(X7="","",IF(Y7="Y",(RarityBackground!$D$4*X7)*IF(Z7="Y",RarityBackground!$F$9,RarityBackground!$F$10),(RarityBackground!$D$3*X7)*IF(Z7="Y",RarityBackground!$F$9,RarityBackground!$F$10))) | AW7: =IF(AA7="","",AA7*RarityBackground!$D$2) | AX7: =IF(AB7="","",AB7) | AY7: =IF(AC7="","",VLOOKUP(AC7,RarityBackground!$A$7:$B$17,2,0)) | AZ7: =IF(AD7="","",IF(AD7="Y",AY7*RarityBackground!$F$5,IF(AD7="N",AY7*(IF(RarityBackground!$F$3+(AE7-1)>10,10,RarityBackground!$F$3+(AE7-1)))))-AY7) | BA7: =IF(AF7="","",VLOOKUP(AF7,RarityBackground!$A$7:$B$17,2,0)) | BB7: =IF(AG7="","",IF(AG7="Y",BA7*RarityBackground!$F$5,IF(AG7="N",BA7*(IF(RarityBackground!$F$3+(AH7-1)>10,10,RarityBackground!$F$3+(AH7-1)))))-BA7)
A8: Adamantine Splint | B8: Uncommon | C8: No | D8: =IF(A8="","",ROUNDUP(SUM(AI8:BB8)*VLOOKUP(B8,RarityBackground!$A$1:$B$6,2,0)*IF(C8="Yes",1,1.1),0)) -> 5280 | F8: 200 | G8: Adamantine | AI8: =IF(F8="","",F8+IF(G8="",0,VLOOKUP(G8,RarityBackground!$E$7:$F$9,2,0))) -> 3200 | AJ8: =IF(H8="","",F8+IF(H8=1,RarityBackground!$F$1,IF(H8=2,RarityBackground!$F$1*3,IF(H8=3,RarityBackground!$F$1*6,"Error")))) | AK8: =IF(I8="","",IF(I8=1,RarityBackground!$F$2,IF(I8=2,RarityBackground!$F$2*3,IF(I8=3,RarityBackground!$F$2*6,"Error")))) | AL8: =IF(J8="","",ROUNDUP(RarityBackground!$F$6*VLOOKUP(J8, RarityBackground!$A$18:$B$27,2,0),-1)) | AM8: =IF(K8="","",IF(K8="N","",IF(K8="Y",ROUNDUP(RarityBackground!$F$6,-1),""))) | AN8: =IF(L8="","",IF(L8=1,RarityBackground!$D$1,IF(L8=2,RarityBackground!$D$1*3,IF(L8=3,RarityBackground!$D$1*6,"Error")))) | AO8: =IF(M8="","",VLOOKUP(M8,RarityBackground!$A$7:$B$17,2,0)) | AP8: =IF(N8="","",IF(N8="Y",AO8*RarityBackground!$F$5,IF(N8="N",AO8*(IF(RarityBackground!$F$3+(O8-1)>10,10,RarityBackground!$F$3+(O8-1)))))-AO8) | AQ8: =IF(P8="","",(P8*AO8)-AO8) | AR8: =IF(Q8="","",Q8*RarityBackground!$D$5) | AS8: =IF(R8="","",VLOOKUP(R8&"Save1Minute", RarityBackground!$C$6:$D$20,2,0)) | AT8: =IF(S8="","",IF(T8="Y",ROUNDUP(S8*RarityBackground!$D$4,0),IF(T8="N",ROUNDUP(S8*RarityBackground!$D$3,0)))) | AU8: =IF(U8="","",IF(V8="Y",((RarityBackground!$D$4*U8)*(RarityBackground!$F$3+W8)),((RarityBackground!$D$3*U8)*(RarityBackground!$F$3+W8)))) | AV8: =IF(X8="","",IF(Y8="Y",(RarityBackground!$D$4*X8)*IF(Z8="Y",RarityBackground!$F$9,RarityBackground!$F$10),(RarityBackground!$D$3*X8)*IF(Z8="Y",RarityBackground!$F$9,RarityBackground!$F$10))) | AW8: =IF(AA8="","",AA8*RarityBackground!$D$2) | AX8: =IF(AB8="","",AB8) | AY8: =IF(AC8="","",VLOOKUP(AC8,RarityBackground!$A$7:$B$17,2,0)) | AZ8: =IF(AD8="","",IF(AD8="Y",AY8*RarityBackground!$F$5,IF(AD8="N",AY8*(IF(RarityBackground!$F$3+(AE8-1)>10,10,RarityBackground!$F$3+(AE8-1)))))-AY8) | BA8: =IF(AF8="","",VLOOKUP(AF8,RarityBackground!$A$7:$B$17,2,0)) | BB8: =IF(AG8="","",IF(AG8="Y",BA8*RarityBackground!$F$5,IF(AG8="N",BA8*(IF(RarityBackground!$F$3+(AH8-1)>10,10,RarityBackground!$F$3+(AH8-1)))))-BA8)
A9: Adamantine Plate | B9: Uncommon | C9: No | D9: =IF(A9="","",ROUNDUP(SUM(AI9:BB9)*VLOOKUP(B9,RarityBackground!$A$1:$B$6,2,0)*IF(C9="Yes",1,1.1),0)) -> 7425 | F9: 1500 | G9: Adamantine | AI9: =IF(F9="","",F9+IF(G9="",0,VLOOKUP(G9,RarityBackground!$E$7:$F$9,2,0))) -> 4500 | AJ9: =IF(H9="","",F9+IF(H9=1,RarityBackground!$F$1,IF(H9=2,RarityBackground!$F$1*3,IF(H9=3,RarityBackground!$F$1*6,"Error")))) | AK9: =IF(I9="","",IF(I9=1,RarityBackground!$F$2,IF(I9=2,RarityBackground!$F$2*3,IF(I9=3,RarityBackground!$F$2*6,"Error")))) | AL9: =IF(J9="","",ROUNDUP(RarityBackground!$F$6*VLOOKUP(J9, RarityBackground!$A$18:$B$27,2,0),-1)) | AM9: =IF(K9="","",IF(K9="N","",IF(K9="Y",ROUNDUP(RarityBackground!$F$6,-1),""))) | AN9: =IF(L9="","",IF(L9=1,RarityBackground!$D$1,IF(L9=2,RarityBackground!$D$1*3,IF(L9=3,RarityBackground!$D$1*6,"Error")))) | AO9: =IF(M9="","",VLOOKUP(M9,RarityBackground!$A$7:$B$17,2,0)) | AP9: =IF(N9="","",IF(N9="Y",AO9*RarityBackground!$F$5,IF(N9="N",AO9*(IF(RarityBackground!$F$3+(O9-1)>10,10,RarityBackground!$F$3+(O9-1)))))-AO9) | AQ9: =IF(P9="","",(P9*AO9)-AO9) | AR9: =IF(Q9="","",Q9*RarityBackground!$D$5) | AS9: =IF(R9="","",VLOOKUP(R9&"Save1Minute", RarityBackground!$C$6:$D$20,2,0)) | AT9: =IF(S9="","",IF(T9="Y",ROUNDUP(S9*RarityBackground!$D$4,0),IF(T9="N",ROUNDUP(S9*RarityBackground!$D$3,0)))) | AU9: =IF(U9="","",IF(V9="Y",((RarityBackground!$D$4*U9)*(RarityBackground!$F$3+W9)),((RarityBackground!$D$3*U9)*(RarityBackground!$F$3+W9)))) | AV9: =IF(X9="","",IF(Y9="Y",(RarityBackground!$D$4*X9)*IF(Z9="Y",RarityBackground!$F$9,RarityBackground!$F$10),(RarityBackground!$D$3*X9)*IF(Z9="Y",RarityBackground!$F$9,RarityBackground!$F$10))) | AW9: =IF(AA9="","",AA9*RarityBackground!$D$2) | AX9: =IF(AB9="","",AB9) | AY9: =IF(AC9="","",VLOOKUP(AC9,RarityBackground!$A$7:$B$17,2,0)) | AZ9: =IF(AD9="","",IF(AD9="Y",AY9*RarityBackground!$F$5,IF(AD9="N",AY9*(IF(RarityBackground!$F$3+(AE9-1)>10,10,RarityBackground!$F$3+(AE9-1)))))-AY9) | BA9: =IF(AF9="","",VLOOKUP(AF9,RarityBackground!$A$7:$B$17,2,0)) | BB9: =IF(AG9="","",IF(AG9="Y",BA9*RarityBackground!$F$5,IF(AG9="N",BA9*(IF(RarityBackground!$F$3+(AH9-1)>10,10,RarityBackground!$F$3+(AH9-1)))))-BA9)
A10: Alchemy Jug | B10: Uncommon | C10: No | D10: =IF(A10="","",ROUNDUP(SUM(AI10:BB10)*VLOOKUP(B10,RarityBackground!$A$1:$B$6,2,0)*IF(C10="Yes",1,1.1),0)) -> 4950 | E10: based: create food and water | M10: 3 | N10: Y | O10: 7 | AI10: =IF(F10="","",F10+IF(G10="",0,VLOOKUP(G10,RarityBackground!$E$7:$F$9,2,0))) | AJ10: =IF(H10="","",F10+IF(H10=1,RarityBackground!$F$1,IF(H10=2,RarityBackground!$F$1*3,IF(H10=3,RarityBackground!$F$1*6,"Error")))) | AK10: =IF(I10="","",IF(I10=1,RarityBackground!$F$2,IF(I10=2,RarityBackground!$F$2*3,IF(I10=3,RarityBackground!$F$2*6,"Error")))) | AL10: =IF(J10="","",ROUNDUP(RarityBackground!$F$6*VLOOKUP(J10, RarityBackground!$A$18:$B$27,2,0),-1)) | AM10: =IF(K10="","",IF(K10="N","",IF(K10="Y",ROUNDUP(RarityBackground!$F$6,-1),""))) | AN10: =IF(L10="","",IF(L10=1,RarityBackground!$D$1,IF(L10=2,RarityBackground!$D$1*3,IF(L10=3,RarityBackground!$D$1*6,"Error")))) | AO10: =IF(M10="","",VLOOKUP(M10,RarityBackground!$A$7:$B$17,2,0)) -> 300 | AP10: =IF(N10="","",IF(N10="Y",AO10*RarityBackground!$F$5,IF(N10="N",AO10*(IF(RarityBackground!$F$3+(O10-1)>10,10,RarityBackground!$F$3+(O10-1)))))-AO10) -> 2700 | AQ10: =IF(P10="","",(P10*AO10)-AO10) | AR10: =IF(Q10="","",Q10*RarityBackground!$D$5) | AS10: =IF(R10="","",VLOOKUP(R10&"Save1Minute", RarityBackground!$C$6:$D$20,2,0)) | AT10: =IF(S10="","",IF(T10="Y",ROUNDUP(S10*RarityBackground!$D$4,0),IF(T10="N",ROUNDUP(S10*RarityBackground!$D$3,0)))) | AU10: =IF(U10="","",IF(V10="Y",((RarityBackground!$D$4*U10)*(RarityBackground!$F$3+W10)),((RarityBackground!$D$3*U10)*(RarityBackground!$F$3+W10)))) | AV10: =IF(X10="","",IF(Y10="Y",(RarityBackground!$D$4*X10)*IF(Z10="Y",RarityBackground!$F$9,RarityBackground!$F$10),(RarityBackground!$D$3*X10)*IF(Z10="Y",RarityBackground!$F$9,RarityBackground!$F$10))) | AW10: =IF(AA10="","",AA10*RarityBackground!$D$2) | AX10: =IF(AB10="","",AB10) | AY10: =IF(AC10="","",VLOOKUP(AC10,RarityBackground!$A$7:$B$17,2,0)) | AZ10: =IF(AD10="","",IF(AD10="Y",AY10*RarityBackground!$F$5,IF(AD10="N",AY10*(IF(RarityBackground!$F$3+(AE10-1)>10,10,RarityBackground!$F$3+(AE10-1)))))-AY10) | BA10: =IF(AF10="","",VLOOKUP(AF10,RarityBackground!$A$7:$B$17,2,0)) | BB10: =IF(AG10="","",IF(AG10="Y",BA10*RarityBackground!$F$5,IF(AG10="N",BA10*(IF(RarityBackground!$F$3+(AH10-1)>10,10,RarityBackground!$F$3+(AH10-1)))))-BA10)
A11: Ammunition, +1 | B11: Uncommon | C11: No | D11: =IF(A11="","",ROUNDUP(SUM(AI11:BB11)*VLOOKUP(B11,RarityBackground!$A$1:$B$6,2,0)*IF(C11="Yes",1,1.1),0)) -> 297 | M11: 2 | AI11: =IF(F11="","",F11+IF(G11="",0,VLOOKUP(G11,RarityBackground!$E$7:$F$9,2,0))) | AJ11: =IF(H11="","",F11+IF(H11=1,RarityBackground!$F$1,IF(H11=2,RarityBackground!$F$1*3,IF(H11=3,RarityBackground!$F$1*6,"Error")))) | AK11: =IF(I11="","",IF(I11=1,RarityBackground!$F$2,IF(I11=2,RarityBackground!$F$2*3,IF(I11=3,RarityBackground!$F$2*6,"Error")))) | AL11: =IF(J11="","",ROUNDUP(RarityBackground!$F$6*VLOOKUP(J11, RarityBackground!$A$18:$B$27,2,0),-1)) | AM11: =IF(K11="","",IF(K11="N","",IF(K11="Y",ROUNDUP(RarityBackground!$F$6,-1),""))) | AN11: =IF(L11="","",IF(L11=1,RarityBackground!$D$1,IF(L11=2,RarityBackground!$D$1*3,IF(L11=3,RarityBackground!$D$1*6,"Error")))) | AO11: =IF(M11="","",VLOOKUP(M11,RarityBackground!$A$7:$B$17,2,0)) -> 180 | AP11: =IF(N11="","",IF(N11="Y",AO11*RarityBackground!$F$5,IF(N11="N",AO11*(IF(RarityBackground!$F$3+(O11-1)>10,10,RarityBackground!$F$3+(O11-1)))))-AO11) | AQ11: =IF(P11="","",(P11*AO11)-AO11) | AR11: =IF(Q11="","",Q11*RarityBackground!$D$5) | AS11: =IF(R11="","",VLOOKUP(R11&"Save1Minute", RarityBackground!$C$6:$D$20,2,0)) | AT11: =IF(S11="","",IF(T11="Y",ROUNDUP(S11*RarityBackground!$D$4,0),IF(T11="N",ROUNDUP(S11*RarityBackground!$D$3,0)))) | AU11: =IF(U11="","",IF(V11="Y",((RarityBackground!$D$4*U11)*(RarityBackground!$F$3+W11)),((RarityBackground!$D$3*U11)*(RarityBackground!$F$3+W11)))) | AV11: =IF(X11="","",IF(Y11="Y",(RarityBackground!$D$4*X11)*IF(Z11="Y",RarityBackground!$F$9,RarityBackground!$F$10),(RarityBackground!$D$3*X11)*IF(Z11="Y",RarityBackground!$F$9,RarityBackground!$F$10))) | AW11: =IF(AA11="","",AA11*RarityBackground!$D$2) | AX11: =IF(AB11="","",AB11) | AY11: =IF(AC11="","",VLOOKUP(AC11,RarityBackground!$A$7:$B$17,2,0)) | AZ11: =IF(AD11="","",IF(AD11="Y",AY11*RarityBackground!$F$5,IF(AD11="N",AY11*(IF(RarityBackground!$F$3+(AE11-1)>10,10,RarityBackground!$F$3+(AE11-1)))))-AY11) | BA11: =IF(AF11="","",VLOOKUP(AF11,RarityBackground!$A$7:$B$17,2,0)) | BB11: =IF(AG11="","",IF(AG11="Y",BA11*RarityBackground!$F$5,IF(AG11="N",BA11*(IF(RarityBackground!$F$3+(AH11-1)>10,10,RarityBackground!$F$3+(AH11-1)))))-BA11)
A12: Ammunition, +2 | B12: Rare | C12: No | D12: =IF(A12="","",ROUNDUP(SUM(AI12:BB12)*VLOOKUP(B12,RarityBackground!$A$1:$B$6,2,0)*IF(C12="Yes",1,1.1),0)) -> 990 | M12: 4 | AI12: =IF(F12="","",F12+IF(G12="",0,VLOOKUP(G12,RarityBackground!$E$7:$F$9,2,0))) | AJ12: =IF(H12="","",F12+IF(H12=1,RarityBackground!$F$1,IF(H12=2,RarityBackground!$F$1*3,IF(H12=3,RarityBackground!$F$1*6,"Error")))) | AK12: =IF(I12="","",IF(I12=1,RarityBackground!$F$2,IF(I12=2,RarityBackground!$F$2*3,IF(I12=3,RarityBackground!$F$2*6,"Error")))) | AL12: =IF(J12="","",ROUNDUP(RarityBackground!$F$6*VLOOKUP(J12, RarityBackground!$A$18:$B$27,2,0),-1)) | AM12: =IF(K12="","",IF(K12="N","",IF(K12="Y",ROUNDUP(RarityBackground!$F$6,-1),""))) | AN12: =IF(L12="","",IF(L12=1,RarityBackground!$D$1,IF(L12=2,RarityBackground!$D$1*3,IF(L12=3,RarityBackground!$D$1*6,"Error")))) | AO12: =IF(M12="","",VLOOKUP(M12,RarityBackground!$A$7:$B$17,2,0)) -> 450 | AP12: =IF(N12="","",IF(N12="Y",AO12*RarityBackground!$F$5,IF(N12="N",AO12*(IF(RarityBackground!$F$3+(O12-1)>10,10,RarityBackground!$F$3+(O12-1)))))-AO12) | AQ12: =IF(P12="","",(P12*AO12)-AO12) | AR12: =IF(Q12="","",Q12*RarityBackground!$D$5) | AS12: =IF(R12="","",VLOOKUP(R12&"Save1Minute", RarityBackground!$C$6:$D$20,2,0)) | AT12: =IF(S12="","",IF(T12="Y",ROUNDUP(S12*RarityBackground!$D$4,0),IF(T12="N",ROUNDUP(S12*RarityBackground!$D$3,0)))) | AU12: =IF(U12="","",IF(V12="Y",((RarityBackground!$D$4*U12)*(RarityBackground!$F$3+W12)),((RarityBackground!$D$3*U12)*(RarityBackground!$F$3+W12)))) | AV12: =IF(X12="","",IF(Y12="Y",(RarityBackground!$D$4*X12)*IF(Z12="Y",RarityBackground!$F$9,RarityBackground!$F$10),(RarityBackground!$D$3*X12)*IF(Z12="Y",RarityBackground!$F$9,RarityBackground!$F$10))) | AW12: =IF(AA12="","",AA12*RarityBackground!$D$2) | AX12: =IF(AB12="","",AB12) | AY12: =IF(AC12="","",VLOOKUP(AC12,RarityBackground!$A$7:$B$17,2,0)) | AZ12: =IF(AD12="","",IF(AD12="Y",AY12*RarityBackground!$F$5,IF(AD12="N",AY12*(IF(RarityBackground!$F$3+(AE12-1)>10,10,RarityBackground!$F$3+(AE12-1)))))-AY12) | BA12: =IF(AF12="","",VLOOKUP(AF12,RarityBackground!$A$7:$B$17,2,0)) | BB12: =IF(AG12="","",IF(AG12="Y",BA12*RarityBackground!$F$5,IF(AG12="N",BA12*(IF(RarityBackground!$F$3+(AH12-1)>10,10,RarityBackground!$F$3+(AH12-1)))))-BA12)
A13: Ammunition, +3 | B13: Very Rare | C13: No | D13: =IF(A13="","",ROUNDUP(SUM(AI13:BB13)*VLOOKUP(B13,RarityBackground!$A$1:$B$6,2,0)*IF(C13="Yes",1,1.1),0)) -> 2772 | M13: 6 | AI13: =IF(F13="","",F13+IF(G13="",0,VLOOKUP(G13,RarityBackground!$E$7:$F$9,2,0))) | AJ13: =IF(H13="","",F13+IF(H13=1,RarityBackground!$F$1,IF(H13=2,RarityBackground!$F$1*3,IF(H13=3,RarityBackground!$F$1*6,"Error")))) | AK13: =IF(I13="","",IF(I13=1,RarityBackground!$F$2,IF(I13=2,RarityBackground!$F$2*3,IF(I13=3,RarityBackground!$F$2*6,"Error")))) | AL13: =IF(J13="","",ROUNDUP(RarityBackground!$F$6*VLOOKUP(J13, RarityBackground!$A$18:$B$27,2,0),-1)) | AM13: =IF(K13="","",IF(K13="N","",IF(K13="Y",ROUNDUP(RarityBackground!$F$6,-1),""))) | AN13: =IF(L13="","",IF(L13=1,RarityBackground!$D$1,IF(L13=2,RarityBackground!$D$1*3,IF(L13=3,RarityBackground!$D$1*6,"Error")))) | AO13: =IF(M13="","",VLOOKUP(M13,RarityBackground!$A$7:$B$17,2,0)) -> 840 | AP13: =IF(N13="","",IF(N13="Y",AO13*RarityBackground!$F$5,IF(N13="N",AO13*(IF(RarityBackground!$F$3+(O13-1)>10,10,RarityBackground!$F$3+(O13-1)))))-AO13) | AQ13: =IF(P13="","",(P13*AO13)-AO13) | AR13: =IF(Q13="","",Q13*RarityBackground!$D$5) | AS13: =IF(R13="","",VLOOKUP(R13&"Save1Minute", RarityBackground!$C$6:$D$20,2,0)) | AT13: =IF(S13="","",IF(T13="Y",ROUNDUP(S13*RarityBackground!$D$4,0),IF(T13="N",ROUNDUP(S13*RarityBackground!$D$3,0)))) | AU13: =IF(U13="","",IF(V13="Y",((RarityBackground!$D$4*U13)*(RarityBackground!$F$3+W13)),((RarityBackground!$D$3*U13)*(RarityBackground!$F$3+W13)))) | AV13: =IF(X13="","",IF(Y13="Y",(RarityBackground!$D$4*X13)*IF(Z13="Y",RarityBackground!$F$9,RarityBackground!$F$10),(RarityBackground!$D$3*X13)*IF(Z13="Y",RarityBackground!$F$9,RarityBackground!$F$10))) | AW13: =IF(AA13="","",AA13*RarityBackground!$D$2) | AX13: =IF(AB13="","",AB13) | AY13: =IF(AC13="","",VLOOKUP(AC13,RarityBackground!$A$7:$B$17,2,0)) | AZ13: =IF(AD13="","",IF(AD13="Y",AY13*RarityBackground!$F$5,IF(AD13="N",AY13*(IF(RarityBackground!$F$3+(AE13-1)>10,10,RarityBackground!$F$3+(AE13-1)))))-AY13) | BA13: =IF(AF13="","",VLOOKUP(AF13,RarityBackground!$A$7:$B$17,2,0)) | BB13: =IF(AG13="","",IF(AG13="Y",BA13*RarityBackground!$F$5,IF(AG13="N",BA13*(IF(RarityBackground!$F$3+(AH13-1)>10,10,RarityBackground!$F$3+(AH13-1)))))-BA13)
A14: Amulet of Health | B14: Rare | C14: Yes | D14: =IF(A14="","",ROUNDUP(SUM(AI14:BB14)*VLOOKUP(B14,RarityBackground!$A$1:$B$6,2,0)*IF(C14="Yes",1,1.1),0)) -> 12600 | J14: 4 | AI14: =IF(F14="","",F14+IF(G14="",0,VLOOKUP(G14,RarityBackground!$E$7:$F$9,2,0))) | AJ14: =IF(H14="","",F14+IF(H14=1,RarityBackground!$F$1,IF(H14=2,RarityBackground!$F$1*3,IF(H14=3,RarityBackground!$F$1*6,"Error")))) | AK14: =IF(I14="","",IF(I14=1,RarityBackground!$F$2,IF(I14=2,RarityBackground!$F$2*3,IF(I14=3,RarityBackground!$F$2*6,"Error")))) | AL14: =IF(J14="","",ROUNDUP(RarityBackground!$F$6*VLOOKUP(J14, RarityBackground!$A$18:$B$27,2,0),-1)) -> 6300 | AM14: =IF(K14="","",IF(K14="N","",IF(K14="Y",ROUNDUP(RarityBackground!$F$6,-1),""))) | AN14: =IF(L14="","",IF(L14=1,RarityBackground!$D$1,IF(L14=2,RarityBackground!$D$1*3,IF(L14=3,RarityBackground!$D$1*6,"Error")))) | AO14: =IF(M14="","",VLOOKUP(M14,RarityBackground!$A$7:$B$17,2,0)) | AP14: =IF(N14="","",IF(N14="Y",AO14*RarityBackground!$F$5,IF(N14="N",AO14*(IF(RarityBackground!$F$3+(O14-1)>10,10,RarityBackground!$F$3+(O14-1)))))-AO14) | AQ14: =IF(P14="","",(P14*AO14)-AO14) | AR14: =IF(Q14="","",Q14*RarityBackground!$D$5) | AS14: =IF(R14="","",VLOOKUP(R14&"Save1Minute", RarityBackground!$C$6:$D$20,2,0)) | AT14: =IF(S14="","",IF(T14="Y",ROUNDUP(S14*RarityBackground!$D$4,0),IF(T14="N",ROUNDUP(S14*RarityBackground!$D$3,0)))) | AU14: =IF(U14="","",IF(V14="Y",((RarityBackground!$D$4*U14)*(RarityBackground!$F$3+W14)),((RarityBackground!$D$3*U14)*(RarityBackground!$F$3+W14)))) | AV14: =IF(X14="","",IF(Y14="Y",(RarityBackground!$D$4*X14)*IF(Z14="Y",RarityBackground!$F$9,RarityBackground!$F$10),(RarityBackground!$D$3*X14)*IF(Z14="Y",RarityBackground!$F$9,RarityBackground!$F$10))) | AW14: =IF(AA14="","",AA14*RarityBackground!$D$2) | AX14: =IF(AB14="","",AB14) | AY14: =IF(AC14="","",VLOOKUP(AC14,RarityBackground!$A$7:$B$17,2,0)) | AZ14: =IF(AD14="","",IF(AD14="Y",AY14*RarityBackground!$F$5,IF(AD14="N",AY14*(IF(RarityBackground!$F$3+(AE14-1)>10,10,RarityBackground!$F$3+(AE14-1)))))-AY14) | BA14: =IF(AF14="","",VLOOKUP(AF14,RarityBackground!$A$7:$B$17,2,0)) | BB14: =IF(AG14="","",IF(AG14="Y",BA14*RarityBackground!$F$5,IF(AG14="N",BA14*(IF(RarityBackground!$F$3+(AH14-1)>10,10,RarityBackground!$F$3+(AH14-1)))))-BA14)
A15: Amulet of Proof Against Detect and Location | B15: Uncommon | C15: Yes | D15: =IF(A15="","",ROUNDUP(SUM(AI15:BB15)*VLOOKUP(B15,RarityBackground!$A$1:$B$6,2,0)*IF(C15="Yes",1,1.1),0)) -> 2700 | M15: 3 | N15: N | O15: 3 | AI15: =IF(F15="","",F15+IF(G15="",0,VLOOKUP(G15,RarityBackground!$E$7:$F$9,2,0))) | AJ15: =IF(H15="","",F15+IF(H15=1,RarityBackground!$F$1,IF(H15=2,RarityBackground!$F$1*3,IF(H15=3,RarityBackground!$F$1*6,"Error")))) | AK15: =IF(I15="","",IF(I15=1,RarityBackground!$F$2,IF(I15=2,RarityBackground!$F$2*3,IF(I15=3,RarityBackground!$F$2*6,"Error")))) | AL15: =IF(J15="","",ROUNDUP(RarityBackground!$F$6*VLOOKUP(J15, RarityBackground!$A$18:$B$27,2,0),-1)) | AM15: =IF(K15="","",IF(K15="N","",IF(K15="Y",ROUNDUP(RarityBackground!$F$6,-1),""))) | AN15: =IF(L15="","",IF(L15=1,RarityBackground!$D$1,IF(L15=2,RarityBackground!$D$1*3,IF(L15=3,RarityBackground!$D$1*6,"Error")))) | AO15: =IF(M15="","",VLOOKUP(M15,RarityBackground!$A$7:$B$17,2,0)) -> 300 | AP15: =IF(N15="","",IF(N15="Y",AO15*RarityBackground!$F$5,IF(N15="N",AO15*(IF(RarityBackground!$F$3+(O15-1)>10,10,RarityBackground!$F$3+(O15-1)))))-AO15) -> 1500 | AQ15: =IF(P15="","",(P15*AO15)-AO15) | AR15: =IF(Q15="","",Q15*RarityBackground!$D$5) | AS15: =IF(R15="","",VLOOKUP(R15&"Save1Minute", RarityBackground!$C$6:$D$20,2,0)) | AT15: =IF(S15="","",IF(T15="Y",ROUNDUP(S15*RarityBackground!$D$4,0),IF(T15="N",ROUNDUP(S15*RarityBackground!$D$3,0)))) | AU15: =IF(U15="","",IF(V15="Y",((RarityBackground!$D$4*U15)*(RarityBackground!$F$3+W15)),((RarityBackground!$D$3*U15)*(RarityBackground!$F$3+W15)))) | AV15: =IF(X15="","",IF(Y15="Y",(RarityBackground!$D$4*X15)*IF(Z15="Y",RarityBackground!$F$9,RarityBackground!$F$10),(RarityBackground!$D$3*X15)*IF(Z15="Y",RarityBackground!$F$9,RarityBackground!$F$10))) | AW15: =IF(AA15="","",AA15*RarityBackground!$D$2) | AX15: =IF(AB15="","",AB15) | AY15: =IF(AC15="","",VLOOKUP(AC15,RarityBackground!$A$7:$B$17,2,0)) | AZ15: =IF(AD15="","",IF(AD15="Y",AY15*RarityBackground!$F$5,IF(AD15="N",AY15*(IF(RarityBackground!$F$3+(AE15-1)>10,10,RarityBackground!$F$3+(AE15-1)))))-AY15) | BA15: =IF(AF15="","",VLOOKUP(AF15,RarityBackground!$A$7:$B$17,2,0)) | BB15: =IF(AG15="","",IF(AG15="Y",BA15*RarityBackground!$F$5,IF(AG15="N",BA15*(IF(RarityBackground!$F$3+(AH15-1)>10,10,RarityBackground!$F$3+(AH15-1)))))-BA15)
A16: Amulet of the Planes | B16: Very Rare | C16: Yes | D16: =IF(A16="","",ROUNDUP(SUM(AI16:BB16)*VLOOKUP(B16,RarityBackground!$A$1:$B$6,2,0)*IF(C16="Yes",1,1.1),0)) -> 32400 | M16: 7 | N16: Y | O16: 7 | AI16: =IF(F16="","",F16+IF(G16="",0,VLOOKUP(G16,RarityBackground!$E$7:$F$9,2,0))) | AJ16: =IF(H16="","",F16+IF(H16=1,RarityBackground!$F$1,IF(H16=2,RarityBackground!$F$1*3,IF(H16=3,RarityBackground!$F$1*6,"Error")))) | AK16: =IF(I16="","",IF(I16=1,RarityBackground!$F$2,IF(I16=2,RarityBackground!$F$2*3,IF(I16=3,RarityBackground!$F$2*6,"Error")))) | AL16: =IF(J16="","",ROUNDUP(RarityBackground!$F$6*VLOOKUP(J16, RarityBackground!$A$18:$B$27,2,0),-1)) | AM16: =IF(K16="","",IF(K16="N","",IF(K16="Y",ROUNDUP(RarityBackground!$F$6,-1),""))) | AN16: =IF(L16="","",IF(L16=1,RarityBackground!$D$1,IF(L16=2,RarityBackground!$D$1*3,IF(L16=3,RarityBackground!$D$1*6,"Error")))) | AO16: =IF(M16="","",VLOOKUP(M16,RarityBackground!$A$7:$B$17,2,0)) -> 1080 | AP16: =IF(N16="","",IF(N16="Y",AO16*RarityBackground!$F$5,IF(N16="N",AO16*(IF(RarityBackground!$F$3+(O16-1)>10,10,RarityBackground!$F$3+(O16-1)))))-AO16) -> 9720 | AQ16: =IF(P16="","",(P16*AO16)-AO16) | AR16: =IF(Q16="","",Q16*RarityBackground!$D$5) | AS16: =IF(R16="","",VLOOKUP(R16&"Save1Minute", RarityBackground!$C$6:$D$20,2,0)) | AT16: =IF(S16="","",IF(T16="Y",ROUNDUP(S16*RarityBackground!$D$4,0),IF(T16="N",ROUNDUP(S16*RarityBackground!$D$3,0)))) | AU16: =IF(U16="","",IF(V16="Y",((RarityBackground!$D$4*U16)*(RarityBackground!$F$3+W16)),((RarityBackground!$D$3*U16)*(RarityBackground!$F$3+W16)))) | AV16: =IF(X16="","",IF(Y16="Y",(RarityBackground!$D$4*X16)*IF(Z16="Y",RarityBackground!$F$9,RarityBackground!$F$10),(RarityBackground!$D$3*X16)*IF(Z16="Y",RarityBackground!$F$9,RarityBackground!$F$10))) | AW16: =IF(AA16="","",AA16*RarityBackground!$D$2) | AX16: =IF(AB16="","",AB16) | AY16: =IF(AC16="","",VLOOKUP(AC16,RarityBackground!$A$7:$B$17,2,0)) | AZ16: =IF(AD16="","",IF(AD16="Y",AY16*RarityBackground!$F$5,IF(AD16="N",AY16*(IF(RarityBackground!$F$3+(AE16-1)>10,10,RarityBackground!$F$3+(AE16-1)))))-AY16) | BA16: =IF(AF16="","",VLOOKUP(AF16,RarityBackground!$A$7:$B$17,2,0)) | BB16: =IF(AG16="","",IF(AG16="Y",BA16*RarityBackground!$F$5,IF(AG16="N",BA16*(IF(RarityBackground!$F$3+(AH16-1)>10,10,RarityBackground!$F$3+(AH16-1)))))-BA16)
A17: Animated Shield | B17: Very Rare | C17: Yes | D17: =IF(A17="","",ROUNDUP(SUM(AI17:BB17)*VLOOKUP(B17,RarityBackground!$A$1:$B$6,2,0)*IF(C17="Yes",1,1.1),0)) -> 2700 | M17: 1 | N17: Y | AI17: =IF(F17="","",F17+IF(G17="",0,VLOOKUP(G17,RarityBackground!$E$7:$F$9,2,0))) | AJ17: =IF(H17="","",F17+IF(H17=1,RarityBackground!$F$1,IF(H17=2,RarityBackground!$F$1*3,IF(H17=3,RarityBackground!$F$1*6,"Error")))) | AK17: =IF(I17="","",IF(I17=1,RarityBackground!$F$2,IF(I17=2,RarityBackground!$F$2*3,IF(I17=3,RarityBackground!$F$2*6,"Error")))) | AL17: =IF(J17="","",ROUNDUP(RarityBackground!$F$6*VLOOKUP(J17, RarityBackground!$A$18:$B$27,2,0),-1)) | AM17: =IF(K17="","",IF(K17="N","",IF(K17="Y",ROUNDUP(RarityBackground!$F$6,-1),""))) | AN17: =IF(L17="","",IF(L17=1,RarityBackground!$D$1,IF(L17=2,RarityBackground!$D$1*3,IF(L17=3,RarityBackground!$D$1*6,"Error")))) | AO17: =IF(M17="","",VLOOKUP(M17,RarityBackground!$A$7:$B$17,2,0)) -> 90 | AP17: =IF(N17="","",IF(N17="Y",AO17*RarityBackground!$F$5,IF(N17="N",AO17*(IF(RarityBackground!$F$3+(O17-1)>10,10,RarityBackground!$F$3+(O17-1)))))-AO17) -> 810 | AQ17: =IF(P17="","",(P17*AO17)-AO17) | AR17: =IF(Q17="","",Q17*RarityBackground!$D$5) | AS17: =IF(R17="","",VLOOKUP(R17&"Save1Minute", RarityBackground!$C$6:$D$20,2,0)) | AT17: =IF(S17="","",IF(T17="Y",ROUNDUP(S17*RarityBackground!$D$4,0),IF(T17="N",ROUNDUP(S17*RarityBackground!$D$3,0)))) | AU17: =IF(U17="","",IF(V17="Y",((RarityBackground!$D$4*U17)*(RarityBackground!$F$3+W17)),((RarityBackground!$D$3*U17)*(RarityBackground!$F$3+W17)))) | AV17: =IF(X17="","",IF(Y17="Y",(RarityBackground!$D$4*X17)*IF(Z17="Y",RarityBackground!$F$9,RarityBackground!$F$10),(RarityBackground!$D$3*X17)*IF(Z17="Y",RarityBackground!$F$9,RarityBackground!$F$10))) | AW17: =IF(AA17="","",AA17*RarityBackground!$D$2) | AX17: =IF(AB17="","",AB17) | AY17: =IF(AC17="","",VLOOKUP(AC17,RarityBackground!$A$7:$B$17,2,0)) | AZ17: =IF(AD17="","",IF(AD17="Y",AY17*RarityBackground!$F$5,IF(AD17="N",AY17*(IF(RarityBackground!$F$3+(AE17-1)>10,10,RarityBackground!$F$3+(AE17-1)))))-AY17) | BA17: =IF(AF17="","",VLOOKUP(AF17,RarityBackground!$A$7:$B$17,2,0)) | BB17: =IF(AG17="","",IF(AG17="Y",BA17*RarityBackground!$F$5,IF(AG17="N",BA17*(IF(RarityBackground!$F$3+(AH17-1)>10,10,RarityBackground!$F$3+(AH17-1)))))-BA17)
A18: Apparatus of Kwalish | B18: Legendary | C18: No | D18: =IF(A18="","",ROUNDUP(SUM(AI18:BB18)*VLOOKUP(B18,RarityBackground!$A$1:$B$6,2,0)*IF(C18="Yes",1,1.1),0)) -> 137500 | AB18: 25000 | AI18: =IF(F18="","",F18+IF(G18="",0,VLOOKUP(G18,RarityBackground!$E$7:$F$9,2,0))) | AJ18: =IF(H18="","",F18+IF(H18=1,RarityBackground!$F$1,IF(H18=2,RarityBackground!$F$1*3,IF(H18=3,RarityBackground!$F$1*6,"Error")))) | AK18: =IF(I18="","",IF(I18=1,RarityBackground!$F$2,IF(I18=2,RarityBackground!$F$2*3,IF(I18=3,RarityBackground!$F$2*6,"Error")))) | AL18: =IF(J18="","",ROUNDUP(RarityBackground!$F$6*VLOOKUP(J18, RarityBackground!$A$18:$B$27,2,0),-1)) | AM18: =IF(K18="","",IF(K18="N","",IF(K18="Y",ROUNDUP(RarityBackground!$F$6,-1),""))) | AN18: =IF(L18="","",IF(L18=1,RarityBackground!$D$1,IF(L18=2,RarityBackground!$D$1*3,IF(L18=3,RarityBackground!$D$1*6,"Error")))) | AO18: =IF(M18="","",VLOOKUP(M18,RarityBackground!$A$7:$B$17,2,0)) | AP18: =IF(N18="","",IF(N18="Y",AO18*RarityBackground!$F$5,IF(N18="N",AO18*(IF(RarityBackground!$F$3+(O18-1)>10,10,RarityBackground!$F$3+(O18-1)))))-AO18) | AQ18: =IF(P18="","",(P18*AO18)-AO18) | AR18: =IF(Q18="","",Q18*RarityBackground!$D$5) | AS18: =IF(R18="","",VLOOKUP(R18&"Save1Minute", RarityBackground!$C$6:$D$20,2,0)) | AT18: =IF(S18="","",IF(T18="Y",ROUNDUP(S18*RarityBackground!$D$4,0),IF(T18="N",ROUNDUP(S18*RarityBackground!$D$3,0)))) | AU18: =IF(U18="","",IF(V18="Y",((RarityBackground!$D$4*U18)*(RarityBackground!$F$3+W18)),((RarityBackground!$D$3*U18)*(RarityBackground!$F$3+W18)))) | AV18: =IF(X18="","",IF(Y18="Y",(RarityBackground!$D$4*X18)*IF(Z18="Y",RarityBackground!$F$9,RarityBackground!$F$10),(RarityBackground!$D$3*X18)*IF(Z18="Y",RarityBackground!$F$9,RarityBackground!$F$10))) | AW18: =IF(AA18="","",AA18*RarityBackground!$D$2) | AX18: =IF(AB18="","",AB18) -> 25000 | AY18: =IF(AC18="","",VLOOKUP(AC18,RarityBackground!$A$7:$B$17,2,0)) | AZ18: =IF(AD18="","",IF(AD18="Y",AY18*RarityBackground!$F$5,IF(AD18="N",AY18*(IF(RarityBackground!$F$3+(AE18-1)>10,10,RarityBackground!$F$3+(AE18-1)))))-AY18) | BA18: =IF(AF18="","",VLOOKUP(AF18,RarityBackground!$A$7:$B$17,2,0)) | BB18: =IF(AG18="","",IF(AG18="Y",BA18*RarityBackground!$F$5,IF(AG18="N",BA18*(IF(RarityBackground!$F$3+(AH18-1)>10,10,RarityBackground!$F$3+(AH18-1)))))-BA18)
A19: Armor, +1 | B19: Rare | C19: No | D19: =IF(A19="","",ROUNDUP(SUM(AI19:BB19)*VLOOKUP(B19,RarityBackground!$A$1:$B$6,2,0)*IF(C19="Yes",1,1.1),0)) -> 1980 | E19: Add armor cost for total | H19: 1 | AI19: =IF(F19="","",F19+IF(G19="",0,VLOOKUP(G19,RarityBackground!$E$7:$F$9,2,0))) | AJ19: =IF(H19="","",F19+IF(H19=1,RarityBackground!$F$1,IF(H19=2,RarityBackground!$F$1*3,IF(H19=3,RarityBackground!$F$1*6,"Error")))) -> 900 | AK19: =IF(I19="","",IF(I19=1,RarityBackground!$F$2,IF(I19=2,RarityBackground!$F$2*3,IF(I19=3,RarityBackground!$F$2*6,"Error")))) | AL19: =IF(J19="","",ROUNDUP(RarityBackground!$F$6*VLOOKUP(J19, RarityBackground!$A$18:$B$27,2,0),-1)) | AM19: =IF(K19="","",IF(K19="N","",IF(K19="Y",ROUNDUP(RarityBackground!$F$6,-1),""))) | AN19: =IF(L19="","",IF(L19=1,RarityBackground!$D$1,IF(L19=2,RarityBackground!$D$1*3,IF(L19=3,RarityBackground!$D$1*6,"Error")))) | AO19: =IF(M19="","",VLOOKUP(M19,RarityBackground!$A$7:$B$17,2,0)) | AP19: =IF(N19="","",IF(N19="Y",AO19*RarityBackground!$F$5,IF(N19="N",AO19*(IF(RarityBackground!$F$3+(O19-1)>10,10,RarityBackground!$F$3+(O19-1)))))-AO19) | AQ19: =IF(P19="","",(P19*AO19)-AO19) | AR19: =IF(Q19="","",Q19*RarityBackground!$D$5) | AS19: =IF(R19="","",VLOOKUP(R19&"Save1Minute", RarityBackground!$C$6:$D$20,2,0)) | AT19: =IF(S19="","",IF(T19="Y",ROUNDUP(S19*RarityBackground!$D$4,0),IF(T19="N",ROUNDUP(S19*RarityBackground!$D$3,0)))) | AU19: =IF(U19="","",IF(V19="Y",((RarityBackground!$D$4*U19)*(RarityBackground!$F$3+W19)),((RarityBackground!$D$3*U19)*(RarityBackground!$F$3+W19)))) | AV19: =IF(X19="","",IF(Y19="Y",(RarityBackground!$D$4*X19)*IF(Z19="Y",RarityBackground!$F$9,RarityBackground!$F$10),(RarityBackground!$D$3*X19)*IF(Z19="Y",RarityBackground!$F$9,RarityBackground!$F$10))) | AW19: =IF(AA19="","",AA19*RarityBackground!$D$2) | AX19: =IF(AB19="","",AB19) | AY19: =IF(AC19="","",VLOOKUP(AC19,RarityBackground!$A$7:$B$17,2,0)) | AZ19: =IF(AD19="","",IF(AD19="Y",AY19*RarityBackground!$F$5,IF(AD19="N",AY19*(IF(RarityBackground!$F$3+(AE19-1)>10,10,RarityBackground!$F$3+(AE19-1)))))-AY19) | BA19: =IF(AF19="","",VLOOKUP(AF19,RarityBackground!$A$7:$B$17,2,0)) | BB19: =IF(AG19="","",IF(AG19="Y",BA19*RarityBackground!$F$5,IF(AG19="N",BA19*(IF(RarityBackground!$F$3+(AH19-1)>10,10,RarityBackground!$F$3+(AH19-1)))))-BA19)
A20: Armor, +2 | B20: Very Rare | C20: No | D20: =IF(A20="","",ROUNDUP(SUM(AI20:BB20)*VLOOKUP(B20,RarityBackground!$A$1:$B$6,2,0)*IF(C20="Yes",1,1.1),0)) -> 8910 | E20: Add armor cost for total | H20: 2 | AI20: =IF(F20="","",F20+IF(G20="",0,VLOOKUP(G20,RarityBackground!$E$7:$F$9,2,0))) | AJ20: =IF(H20="","",F20+IF(H20=1,RarityBackground!$F$1,IF(H20=2,RarityBackground!$F$1*3,IF(H20=3,RarityBackground!$F$1*6,"Error")))) -> 2700 | AK20: =IF(I20="","",IF(I20=1,RarityBackground!$F$2,IF(I20=2,RarityBackground!$F$2*3,IF(I20=3,RarityBackground!$F$2*6,"Error")))) | AL20: =IF(J20="","",ROUNDUP(RarityBackground!$F$6*VLOOKUP(J20, RarityBackground!$A$18:$B$27,2,0),-1)) | AM20: =IF(K20="","",IF(K20="N","",IF(K20="Y",ROUNDUP(RarityBackground!$F$6,-1),""))) | AN20: =IF(L20="","",IF(L20=1,RarityBackground!$D$1,IF(L20=2,RarityBackground!$D$1*3,IF(L20=3,RarityBackground!$D$1*6,"Error")))) | AO20: =IF(M20="","",VLOOKUP(M20,RarityBackground!$A$7:$B$17,2,0)) | AP20: =IF(N20="","",IF(N20="Y",AO20*RarityBackground!$F$5,IF(N20="N",AO20*(IF(RarityBackground!$F$3+(O20-1)>10,10,RarityBackground!$F$3+(O20-1)))))-AO20) | AQ20: =IF(P20="","",(P20*AO20)-AO20) | AR20: =IF(Q20="","",Q20*RarityBackground!$D$5) | AS20: =IF(R20="","",VLOOKUP(R20&"Save1Minute", RarityBackground!$C$6:$D$20,2,0)) | AT20: =IF(S20="","",IF(T20="Y",ROUNDUP(S20*RarityBackground!$D$4,0),IF(T20="N",ROUNDUP(S20*RarityBackground!$D$3,0)))) | AU20: =IF(U20="","",IF(V20="Y",((RarityBackground!$D$4*U20)*(RarityBackground!$F$3+W20)),((RarityBackground!$D$3*U20)*(RarityBackground!$F$3+W20)))) | AV20: =IF(X20="","",IF(Y20="Y",(RarityBackground!$D$4*X20)*IF(Z20="Y",RarityBackground!$F$9,RarityBackground!$F$10),(RarityBackground!$D$3*X20)*IF(Z20="Y",RarityBackground!$F$9,RarityBackground!$F$10))) | AW20: =IF(AA20="","",AA20*RarityBackground!$D$2) | AX20: =IF(AB20="","",AB20) | AY20: =IF(AC20="","",VLOOKUP(AC20,RarityBackground!$A$7:$B$17,2,0)) | AZ20: =IF(AD20="","",IF(AD20="Y",AY20*RarityBackground!$F$5,IF(AD20="N",AY20*(IF(RarityBackground!$F$3+(AE20-1)>10,10,RarityBackground!$F$3+(AE20-1)))))-AY20) | BA20: =IF(AF20="","",VLOOKUP(AF20,RarityBackground!$A$7:$B$17,2,0)) | BB20: =IF(AG20="","",IF(AG20="Y",BA20*RarityBackground!$F$5,IF(AG20="N",BA20*(IF(RarityBackground!$F$3+(AH20-1)>10,10,RarityBackground!$F$3+(AH20-1)))))-BA20)
A21: Armor, +3 | B21: Legendary | C21: No | D21: =IF(A21="","",ROUNDUP(SUM(AI21:BB21)*VLOOKUP(B21,RarityBackground!$A$1:$B$6,2,0)*IF(C21="Yes",1,1.1),0)) -> 29700 | E21: Add armor cost for total | H21: 3 | AI21: =IF(F21="","",F21+IF(G21="",0,VLOOKUP(G21,RarityBackground!$E$7:$F$9,2,0))) | AJ21: =IF(H21="","",F21+IF(H21=1,RarityBackground!$F$1,IF(H21=2,RarityBackground!$F$1*3,IF(H21=3,RarityBackground!$F$1*6,"Error")))) -> 5400 | AK21: =IF(I21="","",IF(I21=1,RarityBackground!$F$2,IF(I21=2,RarityBackground!$F$2*3,IF(I21=3,RarityBackground!$F$2*6,"Error")))) | AL21: =IF(J21="","",ROUNDUP(RarityBackground!$F$6*VLOOKUP(J21, RarityBackground!$A$18:$B$27,2,0),-1)) | AM21: =IF(K21="","",IF(K21="N","",IF(K21="Y",ROUNDUP(RarityBackground!$F$6,-1),""))) | AN21: =IF(L21="","",IF(L21=1,RarityBackground!$D$1,IF(L21=2,RarityBackground!$D$1*3,IF(L21=3,RarityBackground!$D$1*6,"Error")))) | AO21: =IF(M21="","",VLOOKUP(M21,RarityBackground!$A$7:$B$17,2,0)) | AP21: =IF(N21="","",IF(N21="Y",AO21*RarityBackground!$F$5,IF(N21="N",AO21*(IF(RarityBackground!$F$3+(O21-1)>10,10,RarityBackground!$F$3+(O21-1)))))-AO21) | AQ21: =IF(P21="","",(P21*AO21)-AO21) | AR21: =IF(Q21="","",Q21*RarityBackground!$D$5) | AS21: =IF(R21="","",VLOOKUP(R21&"Save1Minute", RarityBackground!$C$6:$D$20,2,0)) | AT21: =IF(S21="","",IF(T21="Y",ROUNDUP(S21*RarityBackground!$D$4,0),IF(T21="N",ROUNDUP(S21*RarityBackground!$D$3,0)))) | AU21: =IF(U21="","",IF(V21="Y",((RarityBackground!$D$4*U21)*(RarityBackground!$F$3+W21)),((RarityBackground!$D$3*U21)*(RarityBackground!$F$3+W21)))) | AV21: =IF(X21="","",IF(Y21="Y",(RarityBackground!$D$4*X21)*IF(Z21="Y",RarityBackground!$F$9,RarityBackground!$F$10),(RarityBackground!$D$3*X21)*IF(Z21="Y",RarityBackground!$F$9,RarityBackground!$F$10))) | AW21: =IF(AA21="","",AA21*RarityBackground!$D$2) | AX21: =IF(AB21="","",AB21) | AY21: =IF(AC21="","",VLOOKUP(AC21,RarityBackground!$A$7:$B$17,2,0)) | AZ21: =IF(AD21="","",IF(AD21="Y",AY21*RarityBackground!$F$5,IF(AD21="N",AY21*(IF(RarityBackground!$F$3+(AE21-1)>10,10,RarityBackground!$F$3+(AE21-1)))))-AY21) | BA21: =IF(AF21="","",VLOOKUP(AF21,RarityBackground!$A$7:$B$17,2,0)) | BB21: =IF(AG21="","",IF(AG21="Y",BA21*RarityBackground!$F$5,IF(AG21="N",BA21*(IF(RarityBackground!$F$3+(AH21-1)>10,10,RarityBackground!$F$3+(AH21-1)))))-BA21)
A22: Armor of Invulnerability | B22: Legendary | C22: Yes | D22: =IF(A22="","",ROUNDUP(SUM(AI22:BB22)*VLOOKUP(B22,RarityBackground!$A$1:$B$6,2,0)*IF(C22="Yes",1,1.1),0)) -> 69300 | E22: Add armor cost for total | M22: 5 | N22: Y | AC22: 7 | AD22: N | AE22: 4 | AI22: =IF(F22="","",F22+IF(G22="",0,VLOOKUP(G22,RarityBackground!$E$7:$F$9,2,0))) | AJ22: =IF(H22="","",F22+IF(H22=1,RarityBackground!$F$1,IF(H22=2,RarityBackground!$F$1*3,IF(H22=3,RarityBackground!$F$1*6,"Error")))) | AK22: =IF(I22="","",IF(I22=1,RarityBackground!$F$2,IF(I22=2,RarityBackground!$F$2*3,IF(I22=3,RarityBackground!$F$2*6,"Error")))) | AL22: =IF(J22="","",ROUNDUP(RarityBackground!$F$6*VLOOKUP(J22, RarityBackground!$A$18:$B$27,2,0),-1)) | AM22: =IF(K22="","",IF(K22="N","",IF(K22="Y",ROUNDUP(RarityBackground!$F$6,-1),""))) | AN22: =IF(L22="","",IF(L22=1,RarityBackground!$D$1,IF(L22=2,RarityBackground!$D$1*3,IF(L22=3,RarityBackground!$D$1*6,"Error")))) | AO22: =IF(M22="","",VLOOKUP(M22,RarityBackground!$A$7:$B$17,2,0)) -> 630 | AP22: =IF(N22="","",IF(N22="Y",AO22*RarityBackground!$F$5,IF(N22="N",AO22*(IF(RarityBackground!$F$3+(O22-1)>10,10,RarityBackground!$F$3+(O22-1)))))-AO22) -> 5670 | AQ22: =IF(P22="","",(P22*AO22)-AO22) | AR22: =IF(Q22="","",Q22*RarityBackground!$D$5) | AS22: =IF(R22="","",VLOOKUP(R22&"Save1Minute", RarityBackground!$C$6:$D$20,2,0)) | AT22: =IF(S22="","",IF(T22="Y",ROUNDUP(S22*RarityBackground!$D$4,0),IF(T22="N",ROUNDUP(S22*RarityBackground!$D$3,0)))) | AU22: =IF(U22="","",IF(V22="Y",((RarityBackground!$D$4*U22)*(RarityBackground!$F$3+W22)),((RarityBackground!$D$3*U22)*(RarityBackground!$F$3+W22)))) | AV22: =IF(X22="","",IF(Y22="Y",(RarityBackground!$D$4*X22)*IF(Z22="Y",RarityBackground!$F$9,RarityBackground!$F$10),(RarityBackground!$D$3*X22)*IF(Z22="Y",RarityBackground!$F$9,RarityBackground!$F$10))) | AW22: =IF(AA22="","",AA22*RarityBackground!$D$2) | AX22: =IF(AB22="","",AB22) | AY22: =IF(AC22="","",VLOOKUP(AC22,RarityBackground!$A$7:$B$17,2,0)) -> 1080 | AZ22: =IF(AD22="","",IF(AD22="Y",AY22*RarityBackground!$F$5,IF(AD22="N",AY22*(IF(RarityBackground!$F$3+(AE22-1)>10,10,RarityBackground!$F$3+(AE22-1)))))-AY22) -> 6480 | BA22: =IF(AF22="","",VLOOKUP(AF22,RarityBackground!$A$7:$B$17,2,0)) | BB22: =IF(AG22="","",IF(AG22="Y",BA22*RarityBackground!$F$5,IF(AG22="N",BA22*(IF(RarityBackground!$F$3+(AH22-1)>10,10,RarityBackground!$F$3+(AH22-1)))))-BA22)
A23: Armor of Resistance | B23: Rare | C23: Yes | D23: =IF(A23="","",ROUNDUP(SUM(AI23:BB23)*VLOOKUP(B23,RarityBackground!$A$1:$B$6,2,0)*IF(C23="Yes",1,1.1),0)) -> 9000 | E23: Add armor cost for total; based: protection from energy (plus 1 level, no concentration) | M23: 4 | N23: Y | AI23: =IF(F23="","",F23+IF(G23="",0,VLOOKUP(G23,RarityBackground!$E$7:$F$9,2,0))) | AJ23: =IF(H23="","",F23+IF(H23=1,RarityBackground!$F$1,IF(H23=2,RarityBackground!$F$1*3,IF(H23=3,RarityBackground!$F$1*6,"Error")))) | AK23: =IF(I23="","",IF(I23=1,RarityBackground!$F$2,IF(I23=2,RarityBackground!$F$2*3,IF(I23=3,RarityBackground!$F$2*6,"Error")))) | AL23: =IF(J23="","",ROUNDUP(RarityBackground!$F$6*VLOOKUP(J23, RarityBackground!$A$18:$B$27,2,0),-1)) | AM23: =IF(K23="","",IF(K23="N","",IF(K23="Y",ROUNDUP(RarityBackground!$F$6,-1),""))) | AN23: =IF(L23="","",IF(L23=1,RarityBackground!$D$1,IF(L23=2,RarityBackground!$D$1*3,IF(L23=3,RarityBackground!$D$1*6,"Error")))) | AO23: =IF(M23="","",VLOOKUP(M23,RarityBackground!$A$7:$B$17,2,0)) -> 450 | AP23: =IF(N23="","",IF(N23="Y",AO23*RarityBackground!$F$5,IF(N23="N",AO23*(IF(RarityBackground!$F$3+(O23-1)>10,10,RarityBackground!$F$3+(O23-1)))))-AO23) -> 4050 | AQ23: =IF(P23="","",(P23*AO23)-AO23) | AR23: =IF(Q23="","",Q23*RarityBackground!$D$5) | AS23: =IF(R23="","",VLOOKUP(R23&"Save1Minute", RarityBackground!$C$6:$D$20,2,0)) | AT23: =IF(S23="","",IF(T23="Y",ROUNDUP(S23*RarityBackground!$D$4,0),IF(T23="N",ROUNDUP(S23*RarityBackground!$D$3,0)))) | AU23: =IF(U23="","",IF(V23="Y",((RarityBackground!$D$4*U23)*(RarityBackground!$F$3+W23)),((RarityBackground!$D$3*U23)*(RarityBackground!$F$3+W23)))) | AV23: =IF(X23="","",IF(Y23="Y",(RarityBackground!$D$4*X23)*IF(Z23="Y",RarityBackground!$F$9,RarityBackground!$F$10),(RarityBackground!$D$3*X23)*IF(Z23="Y",RarityBackground!$F$9,RarityBackground!$F$10))) | AW23: =IF(AA23="","",AA23*RarityBackground!$D$2) | AX23: =IF(AB23="","",AB23) | AY23: =IF(AC23="","",VLOOKUP(AC23,RarityBackground!$A$7:$B$17,2,0)) | AZ23: =IF(AD23="","",IF(AD23="Y",AY23*RarityBackground!$F$5,IF(AD23="N",AY23*(IF(RarityBackground!$F$3+(AE23-1)>10,10,RarityBackground!$F$3+(AE23-1)))))-AY23) | BA23: =IF(AF23="","",VLOOKUP(AF23,RarityBackground!$A$7:$B$17,2,0)) | BB23: =IF(AG23="","",IF(AG23="Y",BA23*RarityBackground!$F$5,IF(AG23="N",BA23*(IF(RarityBackground!$F$3+(AH23-1)>10,10,RarityBackground!$F$3+(AH23-1)))))-BA23)
A24: Armor of Resistance, Leather | B24: Rare | C24: Yes | D24: =IF(A24="","",ROUNDUP(SUM(AI24:BB24)*VLOOKUP(B24,RarityBackground!$A$1:$B$6,2,0)*IF(C24="Yes",1,1.1),0)) -> 9020 | E24: based: protection from energy (plus 1 level, no concentration) | F24: 10 | M24: 4 | N24: Y | AI24: =IF(F24="","",F24+IF(G24="",0,VLOOKUP(G24,RarityBackground!$E$7:$F$9,2,0))) -> 10 | AJ24: =IF(H24="","",F24+IF(H24=1,RarityBackground!$F$1,IF(H24=2,RarityBackground!$F$1*3,IF(H24=3,RarityBackground!$F$1*6,"Error")))) | AK24: =IF(I24="","",IF(I24=1,RarityBackground!$F$2,IF(I24=2,RarityBackground!$F$2*3,IF(I24=3,RarityBackground!$F$2*6,"Error")))) | AL24: =IF(J24="","",ROUNDUP(RarityBackground!$F$6*VLOOKUP(J24, RarityBackground!$A$18:$B$27,2,0),-1)) | AM24: =IF(K24="","",IF(K24="N","",IF(K24="Y",ROUNDUP(RarityBackground!$F$6,-1),""))) | AN24: =IF(L24="","",IF(L24=1,RarityBackground!$D$1,IF(L24=2,RarityBackground!$D$1*3,IF(L24=3,RarityBackground!$D$1*6,"Error")))) | AO24: =IF(M24="","",VLOOKUP(M24,RarityBackground!$A$7:$B$17,2,0)) -> 450 | AP24: =IF(N24="","",IF(N24="Y",AO24*RarityBackground!$F$5,IF(N24="N",AO24*(IF(RarityBackground!$F$3+(O24-1)>10,10,RarityBackground!$F$3+(O24-1)))))-AO24) -> 4050 | AQ24: =IF(P24="","",(P24*AO24)-AO24) | AR24: =IF(Q24="","",Q24*RarityBackground!$D$5) | AS24: =IF(R24="","",VLOOKUP(R24&"Save1Minute", RarityBackground!$C$6:$D$20,2,0)) | AT24: =IF(S24="","",IF(T24="Y",ROUNDUP(S24*RarityBackground!$D$4,0),IF(T24="N",ROUNDUP(S24*RarityBackground!$D$3,0)))) | AU24: =IF(U24="","",IF(V24="Y",((RarityBackground!$D$4*U24)*(RarityBackground!$F$3+W24)),((RarityBackground!$D$3*U24)*(RarityBackground!$F$3+W24)))) | AV24: =IF(X24="","",IF(Y24="Y",(RarityBackground!$D$4*X24)*IF(Z24="Y",RarityBackground!$F$9,RarityBackground!$F$10),(RarityBackground!$D$3*X24)*IF(Z24="Y",RarityBackground!$F$9,RarityBackground!$F$10))) | AW24: =IF(AA24="","",AA24*RarityBackground!$D$2) | AX24: =IF(AB24="","",AB24) | AY24: =IF(AC24="","",VLOOKUP(AC24,RarityBackground!$A$7:$B$17,2,0)) | AZ24: =IF(AD24="","",IF(AD24="Y",AY24*RarityBackground!$F$5,IF(AD24="N",AY24*(IF(RarityBackground!$F$3+(AE24-1)>10,10,RarityBackground!$F$3+(AE24-1)))))-AY24) | BA24: =IF(AF24="","",VLOOKUP(AF24,RarityBackground!$A$7:$B$17,2,0)) | BB24: =IF(AG24="","",IF(AG24="Y",BA24*RarityBackground!$F$5,IF(AG24="N",BA24*(IF(RarityBackground!$F$3+(AH24-1)>10,10,RarityBackground!$F$3+(AH24-1)))))-BA24)
A25: Armor of Resistance, Chain Shirt | B25: Rare | C25: Yes | D25: =IF(A25="","",ROUNDUP(SUM(AI25:BB25)*VLOOKUP(B25,RarityBackground!$A$1:$B$6,2,0)*IF(C25="Yes",1,1.1),0)) -> 9100 | E25: based: protection from energy (plus 1 level, no concentration) | F25: 50 | M25: 4 | N25: Y | AI25: =IF(F25="","",F25+IF(G25="",0,VLOOKUP(G25,RarityBackground!$E$7:$F$9,2,0))) -> 50 | AJ25: =IF(H25="","",F25+IF(H25=1,RarityBackground!$F$1,IF(H25=2,RarityBackground!$F$1*3,IF(H25=3,RarityBackground!$F$1*6,"Error")))) | AK25: =IF(I25="","",IF(I25=1,RarityBackground!$F$2,IF(I25=2,RarityBackground!$F$2*3,IF(I25=3,RarityBackground!$F$2*6,"Error")))) | AL25: =IF(J25="","",ROUNDUP(RarityBackground!$F$6*VLOOKUP(J25, RarityBackground!$A$18:$B$27,2,0),-1)) | AM25: =IF(K25="","",IF(K25="N","",IF(K25="Y",ROUNDUP(RarityBackground!$F$6,-1),""))) | AN25: =IF(L25="","",IF(L25=1,RarityBackground!$D$1,IF(L25=2,RarityBackground!$D$1*3,IF(L25=3,RarityBackground!$D$1*6,"Error")))) | AO25: =IF(M25="","",VLOOKUP(M25,RarityBackground!$A$7:$B$17,2,0)) -> 450 | AP25: =IF(N25="","",IF(N25="Y",AO25*RarityBackground!$F$5,IF(N25="N",AO25*(IF(RarityBackground!$F$3+(O25-1)>10,10,RarityBackground!$F$3+(O25-1)))))-AO25) -> 4050 | AQ25: =IF(P25="","",(P25*AO25)-AO25) | AR25: =IF(Q25="","",Q25*RarityBackground!$D$5) | AS25: =IF(R25="","",VLOOKUP(R25&"Save1Minute", RarityBackground!$C$6:$D$20,2,0)) | AT25: =IF(S25="","",IF(T25="Y",ROUNDUP(S25*RarityBackground!$D$4,0),IF(T25="N",ROUNDUP(S25*RarityBackground!$D$3,0)))) | AU25: =IF(U25="","",IF(V25="Y",((RarityBackground!$D$4*U25)*(RarityBackground!$F$3+W25)),((RarityBackground!$D$3*U25)*(RarityBackground!$F$3+W25)))) | AV25: =IF(X25="","",IF(Y25="Y",(RarityBackground!$D$4*X25)*IF(Z25="Y",RarityBackground!$F$9,RarityBackground!$F$10),(RarityBackground!$D$3*X25)*IF(Z25="Y",RarityBackground!$F$9,RarityBackground!$F$10))) | AW25: =IF(AA25="","",AA25*RarityBackground!$D$2) | AX25: =IF(AB25="","",AB25) | AY25: =IF(AC25="","",VLOOKUP(AC25,RarityBackground!$A$7:$B$17,2,0)) | AZ25: =IF(AD25="","",IF(AD25="Y",AY25*RarityBackground!$F$5,IF(AD25="N",AY25*(IF(RarityBackground!$F$3+(AE25-1)>10,10,RarityBackground!$F$3+(AE25-1)))))-AY25) | BA25: =IF(AF25="","",VLOOKUP(AF25,RarityBackground!$A$7:$B$17,2,0)) | BB25: =IF(AG25="","",IF(AG25="Y",BA25*RarityBackground!$F$5,IF(AG25="N",BA25*(IF(RarityBackground!$F$3+(AH25-1)>10,10,RarityBackground!$F$3+(AH25-1)))))-BA25)
A26: Armor of Resistance, Breastplate | B26: Rare | C26: Yes | D26: =IF(A26="","",ROUNDUP(SUM(AI26:BB26)*VLOOKUP(B26,RarityBackground!$A$1:$B$6,2,0)*IF(C26="Yes",1,1.1),0)) -> 9800 | E26: based: protection from energy (plus 1 level, no concentration) | F26: 400 | M26: 4 | N26: Y | AI26: =IF(F26="","",F26+IF(G26="",0,VLOOKUP(G26,RarityBackground!$E$7:$F$9,2,0))) -> 400 | AJ26: =IF(H26="","",F26+IF(H26=1,RarityBackground!$F$1,IF(H26=2,RarityBackground!$F$1*3,IF(H26=3,RarityBackground!$F$1*6,"Error")))) | AK26: =IF(I26="","",IF(I26=1,RarityBackground!$F$2,IF(I26=2,RarityBackground!$F$2*3,IF(I26=3,RarityBackground!$F$2*6,"Error")))) | AL26: =IF(J26="","",ROUNDUP(RarityBackground!$F$6*VLOOKUP(J26, RarityBackground!$A$18:$B$27,2,0),-1)) | AM26: =IF(K26="","",IF(K26="N","",IF(K26="Y",ROUNDUP(RarityBackground!$F$6,-1),""))) | AN26: =IF(L26="","",IF(L26=1,RarityBackground!$D$1,IF(L26=2,RarityBackground!$D$1*3,IF(L26=3,RarityBackground!$D$1*6,"Error")))) | AO26: =IF(M26="","",VLOOKUP(M26,RarityBackground!$A$7:$B$17,2,0)) -> 450 | AP26: =IF(N26="","",IF(N26="Y",AO26*RarityBackground!$F$5,IF(N26="N",AO26*(IF(RarityBackground!$F$3+(O26-1)>10,10,RarityBackground!$F$3+(O26-1)))))-AO26) -> 4050 | AQ26: =IF(P26="","",(P26*AO26)-AO26) | AR26: =IF(Q26="","",Q26*RarityBackground!$D$5) | AS26: =IF(R26="","",VLOOKUP(R26&"Save1Minute", RarityBackground!$C$6:$D$20,2,0)) | AT26: =IF(S26="","",IF(T26="Y",ROUNDUP(S26*RarityBackground!$D$4,0),IF(T26="N",ROUNDUP(S26*RarityBackground!$D$3,0)))) | AU26: =IF(U26="","",IF(V26="Y",((RarityBackground!$D$4*U26)*(RarityBackground!$F$3+W26)),((RarityBackground!$D$3*U26)*(RarityBackground!$F$3+W26)))) | AV26: =IF(X26="","",IF(Y26="Y",(RarityBackground!$D$4*X26)*IF(Z26="Y",RarityBackground!$F$9,RarityBackground!$F$10),(RarityBackground!$D$3*X26)*IF(Z26="Y",RarityBackground!$F$9,RarityBackground!$F$10))) | AW26: =IF(AA26="","",AA26*RarityBackground!$D$2) | AX26: =IF(AB26="","",AB26) | AY26: =IF(AC26="","",VLOOKUP(AC26,RarityBackground!$A$7:$B$17,2,0)) | AZ26: =IF(AD26="","",IF(AD26="Y",AY26*RarityBackground!$F$5,IF(AD26="N",AY26*(IF(RarityBackground!$F$3+(AE26-1)>10,10,RarityBackground!$F$3+(AE26-1)))))-AY26) | BA26: =IF(AF26="","",VLOOKUP(AF26,RarityBackground!$A$7:$B$17,2,0)) | BB26: =IF(AG26="","",IF(AG26="Y",BA26*RarityBackground!$F$5,IF(AG26="N",BA26*(IF(RarityBackground!$F$3+(AH26-1)>10,10,RarityBackground!$F$3+(AH26-1)))))-BA26)
A27: Armor of Resistance, Plate | B27: Rare | C27: Yes | D27: =IF(A27="","",ROUNDUP(SUM(AI27:BB27)*VLOOKUP(B27,RarityBackground!$A$1:$B$6,2,0)*IF(C27="Yes",1,1.1),0)) -> 12000 | E27: based: protection from energy (plus 1 level, no concentration) | F27: 1500 | M27: 4 | N27: Y | AI27: =IF(F27="","",F27+IF(G27="",0,VLOOKUP(G27,RarityBackground!$E$7:$F$9,2,0))) -> 1500 | AJ27: =IF(H27="","",F27+IF(H27=1,RarityBackground!$F$1,IF(H27=2,RarityBackground!$F$1*3,IF(H27=3,RarityBackground!$F$1*6,"Error")))) | AK27: =IF(I27="","",IF(I27=1,RarityBackground!$F$2,IF(I27=2,RarityBackground!$F$2*3,IF(I27=3,RarityBackground!$F$2*6,"Error")))) | AL27: =IF(J27="","",ROUNDUP(RarityBackground!$F$6*VLOOKUP(J27, RarityBackground!$A$18:$B$27,2,0),-1)) | AM27: =IF(K27="","",IF(K27="N","",IF(K27="Y",ROUNDUP(RarityBackground!$F$6,-1),""))) | AN27: =IF(L27="","",IF(L27=1,RarityBackground!$D$1,IF(L27=2,RarityBackground!$D$1*3,IF(L27=3,RarityBackground!$D$1*6,"Error")))) | AO27: =IF(M27="","",VLOOKUP(M27,RarityBackground!$A$7:$B$17,2,0)) -> 450 | AP27: =IF(N27="","",IF(N27="Y",AO27*RarityBackground!$F$5,IF(N27="N",AO27*(IF(RarityBackground!$F$3+(O27-1)>10,10,RarityBackground!$F$3+(O27-1)))))-AO27) -> 4050 | AQ27: =IF(P27="","",(P27*AO27)-AO27) | AR27: =IF(Q27="","",Q27*RarityBackground!$D$5) | AS27: =IF(R27="","",VLOOKUP(R27&"Save1Minute", RarityBackground!$C$6:$D$20,2,0)) | AT27: =IF(S27="","",IF(T27="Y",ROUNDUP(S27*RarityBackground!$D$4,0),IF(T27="N",ROUNDUP(S27*RarityBackground!$D$3,0)))) | AU27: =IF(U27="","",IF(V27="Y",((RarityBackground!$D$4*U27)*(RarityBackground!$F$3+W27)),((RarityBackground!$D$3*U27)*(RarityBackground!$F$3+W27)))) | AV27: =IF(X27="","",IF(Y27="Y",(RarityBackground!$D$4*X27)*IF(Z27="Y",RarityBackground!$F$9,RarityBackground!$F$10),(RarityBackground!$D$3*X27)*IF(Z27="Y",RarityBackground!$F$9,RarityBackground!$F$10))) | AW27: =IF(AA27="","",AA27*RarityBackground!$D$2) | AX27: =IF(AB27="","",AB27) | AY27: =IF(AC27="","",VLOOKUP(AC27,RarityBackground!$A$7:$B$17,2,0)) | AZ27: =IF(AD27="","",IF(AD27="Y",AY27*RarityBackground!$F$5,IF(AD27="N",AY27*(IF(RarityBackground!$F$3+(AE27-1)>10,10,RarityBackground!$F$3+(AE27-1)))))-AY27) | BA27: =IF(AF27="","",VLOOKUP(AF27,RarityBackground!$A$7:$B$17,2,0)) | BB27: =IF(AG27="","",IF(AG27="Y",BA27*RarityBackground!$F$5,IF(AG27="N",BA27*(IF(RarityBackground!$F$3+(AH27-1)>10,10,RarityBackground!$F$3+(AH27-1)))))-BA27)
A28: Armor of Vulnerability | B28: Rare | C28: Yes | D28: =IF(A28="","",ROUNDUP(SUM(AI28:BB28)*VLOOKUP(B28,RarityBackground!$A$1:$B$6,2,0)*IF(C28="Yes",1,1.1),0)) -> 0 | E28: Cursed, not priced (would be the same as Armor of Resistance) | AI28: =IF(F28="","",F28+IF(G28="",0,VLOOKUP(G28,RarityBackground!$E$7:$F$9,2,0))) | AJ28: =IF(H28="","",F28+IF(H28=1,RarityBackground!$F$1,IF(H28=2,RarityBackground!$F$1*3,IF(H28=3,RarityBackground!$F$1*6,"Error")))) | AK28: =IF(I28="","",IF(I28=1,RarityBackground!$F$2,IF(I28=2,RarityBackground!$F$2*3,IF(I28=3,RarityBackground!$F$2*6,"Error")))) | AL28: =IF(J28="","",ROUNDUP(RarityBackground!$F$6*VLOOKUP(J28, RarityBackground!$A$18:$B$27,2,0),-1)) | AM28: =IF(K28="","",IF(K28="N","",IF(K28="Y",ROUNDUP(RarityBackground!$F$6,-1),""))) | AN28: =IF(L28="","",IF(L28=1,RarityBackground!$D$1,IF(L28=2,RarityBackground!$D$1*3,IF(L28=3,RarityBackground!$D$1*6,"Error")))) | AO28: =IF(M28="","",VLOOKUP(M28,RarityBackground!$A$7:$B$17,2,0)) | AP28: =IF(N28="","",IF(N28="Y",AO28*RarityBackground!$F$5,IF(N28="N",AO28*(IF(RarityBackground!$F$3+(O28-1)>10,10,RarityBackground!$F$3+(O28-1)))))-AO28) | AQ28: =IF(P28="","",(P28*AO28)-AO28) | AR28: =IF(Q28="","",Q28*RarityBackground!$D$5) | AS28: =IF(R28="","",VLOOKUP(R28&"Save1Minute", RarityBackground!$C$6:$D$20,2,0)) | AT28: =IF(S28="","",IF(T28="Y",ROUNDUP(S28*RarityBackground!$D$4,0),IF(T28="N",ROUNDUP(S28*RarityBackground!$D$3,0)))) | AU28: =IF(U28="","",IF(V28="Y",((RarityBackground!$D$4*U28)*(RarityBackground!$F$3+W28)),((RarityBackground!$D$3*U28)*(RarityBackground!$F$3+W28)))) | AV28: =IF(X28="","",IF(Y28="Y",(RarityBackground!$D$4*X28)*IF(Z28="Y",RarityBackground!$F$9,RarityBackground!$F$10),(RarityBackground!$D$3*X28)*IF(Z28="Y",RarityBackground!$F$9,RarityBackground!$F$10))) | AW28: =IF(AA28="","",AA28*RarityBackground!$D$2) | AX28: =IF(AB28="","",AB28) | AY28: =IF(AC28="","",VLOOKUP(AC28,RarityBackground!$A$7:$B$17,2,0)) | AZ28: =IF(AD28="","",IF(AD28="Y",AY28*RarityBackground!$F$5,IF(AD28="N",AY28*(IF(RarityBackground!$F$3+(AE28-1)>10,10,RarityBackground!$F$3+(AE28-1)))))-AY28) | BA28: =IF(AF28="","",VLOOKUP(AF28,RarityBackground!$A$7:$B$17,2,0)) | BB28: =IF(AG28="","",IF(AG28="Y",BA28*RarityBackground!$F$5,IF(AG28="N",BA28*(IF(RarityBackground!$F$3+(AH28-1)>10,10,RarityBackground!$F$3+(AH28-1)))))-BA28)
A29: Arrow-Catching Shield | B29: Rare | C29: Yes | D29: =IF(A29="","",ROUNDUP(SUM(AI29:BB29)*VLOOKUP(B29,RarityBackground!$A$1:$B$6,2,0)*IF(C29="Yes",1,1.1),0)) -> 7200 | H29: 2 | M29: 1 | N29: Y | AI29: =IF(F29="","",F29+IF(G29="",0,VLOOKUP(G29,RarityBackground!$E$7:$F$9,2,0))) | AJ29: =IF(H29="","",F29+IF(H29=1,RarityBackground!$F$1,IF(H29=2,RarityBackground!$F$1*3,IF(H29=3,RarityBackground!$F$1*6,"Error")))) -> 2700 | AK29: =IF(I29="","",IF(I29=1,RarityBackground!$F$2,IF(I29=2,RarityBackground!$F$2*3,IF(I29=3,RarityBackground!$F$2*6,"Error")))) | AL29: =IF(J29="","",ROUNDUP(RarityBackground!$F$6*VLOOKUP(J29, RarityBackground!$A$18:$B$27,2,0),-1)) | AM29: =IF(K29="","",IF(K29="N","",IF(K29="Y",ROUNDUP(RarityBackground!$F$6,-1),""))) | AN29: =IF(L29="","",IF(L29=1,RarityBackground!$D$1,IF(L29=2,RarityBackground!$D$1*3,IF(L29=3,RarityBackground!$D$1*6,"Error")))) | AO29: =IF(M29="","",VLOOKUP(M29,RarityBackground!$A$7:$B$17,2,0)) -> 90 | AP29: =IF(N29="","",IF(N29="Y",AO29*RarityBackground!$F$5,IF(N29="N",AO29*(IF(RarityBackground!$F$3+(O29-1)>10,10,RarityBackground!$F$3+(O29-1)))))-AO29) -> 810 | AQ29: =IF(P29="","",(P29*AO29)-AO29) | AR29: =IF(Q29="","",Q29*RarityBackground!$D$5) | AS29: =IF(R29="","",VLOOKUP(R29&"Save1Minute", RarityBackground!$C$6:$D$20,2,0)) | AT29: =IF(S29="","",IF(T29="Y",ROUNDUP(S29*RarityBackground!$D$4,0),IF(T29="N",ROUNDUP(S29*RarityBackground!$D$3,0)))) | AU29: =IF(U29="","",IF(V29="Y",((RarityBackground!$D$4*U29)*(RarityBackground!$F$3+W29)),((RarityBackground!$D$3*U29)*(RarityBackground!$F$3+W29)))) | AV29: =IF(X29="","",IF(Y29="Y",(RarityBackground!$D$4*X29)*IF(Z29="Y",RarityBackground!$F$9,RarityBackground!$F$10),(RarityBackground!$D$3*X29)*IF(Z29="Y",RarityBackground!$F$9,RarityBackground!$F$10))) | AW29: =IF(AA29="","",AA29*RarityBackground!$D$2) | AX29: =IF(AB29="","",AB29) | AY29: =IF(AC29="","",VLOOKUP(AC29,RarityBackground!$A$7:$B$17,2,0)) | AZ29: =IF(AD29="","",IF(AD29="Y",AY29*RarityBackground!$F$5,IF(AD29="N",AY29*(IF(RarityBackground!$F$3+(AE29-1)>10,10,RarityBackground!$F$3+(AE29-1)))))-AY29) | BA29: =IF(AF29="","",VLOOKUP(AF29,RarityBackground!$A$7:$B$17,2,0)) | BB29: =IF(AG29="","",IF(AG29="Y",BA29*RarityBackground!$F$5,IF(AG29="N",BA29*(IF(RarityBackground!$F$3+(AH29-1)>10,10,RarityBackground!$F$3+(AH29-1)))))-BA29)
A30: Arrow of Slaying | B30: Very Rare | C30: Yes | D30: =IF(A30="","",ROUNDUP(SUM(AI30:BB30)*VLOOKUP(B30,RarityBackground!$A$1:$B$6,2,0)*IF(C30="Yes",1,1.1),0)) -> 267 | S30: 33 | T30: Y | AI30: =IF(F30="","",F30+IF(G30="",0,VLOOKUP(G30,RarityBackground!$E$7:$F$9,2,0))) | AJ30: =IF(H30="","",F30+IF(H30=1,RarityBackground!$F$1,IF(H30=2,RarityBackground!$F$1*3,IF(H30=3,RarityBackground!$F$1*6,"Error")))) | AK30: =IF(I30="","",IF(I30=1,RarityBackground!$F$2,IF(I30=2,RarityBackground!$F$2*3,IF(I30=3,RarityBackground!$F$2*6,"Error")))) | AL30: =IF(J30="","",ROUNDUP(RarityBackground!$F$6*VLOOKUP(J30, RarityBackground!$A$18:$B$27,2,0),-1)) | AM30: =IF(K30="","",IF(K30="N","",IF(K30="Y",ROUNDUP(RarityBackground!$F$6,-1),""))) | AN30: =IF(L30="","",IF(L30=1,RarityBackground!$D$1,IF(L30=2,RarityBackground!$D$1*3,IF(L30=3,RarityBackground!$D$1*6,"Error")))) | AO30: =IF(M30="","",VLOOKUP(M30,RarityBackground!$A$7:$B$17,2,0)) | AP30: =IF(N30="","",IF(N30="Y",AO30*RarityBackground!$F$5,IF(N30="N",AO30*(IF(RarityBackground!$F$3+(O30-1)>10,10,RarityBackground!$F$3+(O30-1)))))-AO30) | AQ30: =IF(P30="","",(P30*AO30)-AO30) | AR30: =IF(Q30="","",Q30*RarityBackground!$D$5) | AS30: =IF(R30="","",VLOOKUP(R30&"Save1Minute", RarityBackground!$C$6:$D$20,2,0)) | AT30: =IF(S30="","",IF(T30="Y",ROUNDUP(S30*RarityBackground!$D$4,0),IF(T30="N",ROUNDUP(S30*RarityBackground!$D$3,0)))) -> 89 | AU30: =IF(U30="","",IF(V30="Y",((RarityBackground!$D$4*U30)*(RarityBackground!$F$3+W30)),((RarityBackground!$D$3*U30)*(RarityBackground!$F$3+W30)))) | AV30: =IF(X30="","",IF(Y30="Y",(RarityBackground!$D$4*X30)*IF(Z30="Y",RarityBackground!$F$9,RarityBackground!$F$10),(RarityBackground!$D$3*X30)*IF(Z30="Y",RarityBackground!$F$9,RarityBackground!$F$10))) | AW30: =IF(AA30="","",AA30*RarityBackground!$D$2) | AX30: =IF(AB30="","",AB30) | AY30: =IF(AC30="","",VLOOKUP(AC30,RarityBackground!$A$7:$B$17,2,0)) | AZ30: =IF(AD30="","",IF(AD30="Y",AY30*RarityBackground!$F$5,IF(AD30="N",AY30*(IF(RarityBackground!$F$3+(AE30-1)>10,10,RarityBackground!$F$3+(AE30-1)))))-AY30) | BA30: =IF(AF30="","",VLOOKUP(AF30,RarityBackground!$A$7:$B$17,2,0)) | BB30: =IF(AG30="","",IF(AG30="Y",BA30*RarityBackground!$F$5,IF(AG30="N",BA30*(IF(RarityBackground!$F$3+(AH30-1)>10,10,RarityBackground!$F$3+(AH30-1)))))-BA30)
A31: Bag of Beans | B31: Rare | C31: No | D31: =IF(A31="","",ROUNDUP(SUM(AI31:BB31)*VLOOKUP(B31,RarityBackground!$A$1:$B$6,2,0)*IF(C31="Yes",1,1.1),0)) -> 0 | E31: Random, not priced | AI31: =IF(F31="","",F31+IF(G31="",0,VLOOKUP(G31,RarityBackground!$E$7:$F$9,2,0))) | AJ31: =IF(H31="","",F31+IF(H31=1,RarityBackground!$F$1,IF(H31=2,RarityBackground!$F$1*3,IF(H31=3,RarityBackground!$F$1*6,"Error")))) | AK31: =IF(I31="","",IF(I31=1,RarityBackground!$F$2,IF(I31=2,RarityBackground!$F$2*3,IF(I31=3,RarityBackground!$F$2*6,"Error")))) | AL31: =IF(J31="","",ROUNDUP(RarityBackground!$F$6*VLOOKUP(J31, RarityBackground!$A$18:$B$27,2,0),-1)) | AM31: =IF(K31="","",IF(K31="N","",IF(K31="Y",ROUNDUP(RarityBackground!$F$6,-1),""))) | AN31: =IF(L31="","",IF(L31=1,RarityBackground!$D$1,IF(L31=2,RarityBackground!$D$1*3,IF(L31=3,RarityBackground!$D$1*6,"Error")))) | AO31: =IF(M31="","",VLOOKUP(M31,RarityBackground!$A$7:$B$17,2,0)) | AP31: =IF(N31="","",IF(N31="Y",AO31*RarityBackground!$F$5,IF(N31="N",AO31*(IF(RarityBackground!$F$3+(O31-1)>10,10,RarityBackground!$F$3+(O31-1)))))-AO31) | AQ31: =IF(P31="","",(P31*AO31)-AO31) | AR31: =IF(Q31="","",Q31*RarityBackground!$D$5) | AS31: =IF(R31="","",VLOOKUP(R31&"Save1Minute", RarityBackground!$C$6:$D$20,2,0)) | AT31: =IF(S31="","",IF(T31="Y",ROUNDUP(S31*RarityBackground!$D$4,0),IF(T31="N",ROUNDUP(S31*RarityBackground!$D$3,0)))) | AU31: =IF(U31="","",IF(V31="Y",((RarityBackground!$D$4*U31)*(RarityBackground!$F$3+W31)),((RarityBackground!$D$3*U31)*(RarityBackground!$F$3+W31)))) | AV31: =IF(X31="","",IF(Y31="Y",(RarityBackground!$D$4*X31)*IF(Z31="Y",RarityBackground!$F$9,RarityBackground!$F$10),(RarityBackground!$D$3*X31)*IF(Z31="Y",RarityBackground!$F$9,RarityBackground!$F$10))) | AW31: =IF(AA31="","",AA31*RarityBackground!$D$2) | AX31: =IF(AB31="","",AB31) | AY31: =IF(AC31="","",VLOOKUP(AC31,RarityBackground!$A$7:$B$17,2,0)) | AZ31: =IF(AD31="","",IF(AD31="Y",AY31*RarityBackground!$F$5,IF(AD31="N",AY31*(IF(RarityBackground!$F$3+(AE31-1)>10,10,RarityBackground!$F$3+(AE31-1)))))-AY31) | BA31: =IF(AF31="","",VLOOKUP(AF31,RarityBackground!$A$7:$B$17,2,0)) | BB31: =IF(AG31="","",IF(AG31="Y",BA31*RarityBackground!$F$5,IF(AG31="N",BA31*(IF(RarityBackground!$F$3+(AH31-1)>10,10,RarityBackground!$F$3+(AH31-1)))))-BA31)
A32: Bag of Devouring | B32: Very Rare | C32: No | D32: =IF(A32="","",ROUNDUP(SUM(AI32:BB32)*VLOOKUP(B32,RarityBackground!$A$1:$B$6,2,0)*IF(C32="Yes",1,1.1),0)) -> 0 | E32: Cursed, not priced | AI32: =IF(F32="","",F32+IF(G32="",0,VLOOKUP(G32,RarityBackground!$E$7:$F$9,2,0))) | AJ32: =IF(H32="","",F32+IF(H32=1,RarityBackground!$F$1,IF(H32=2,RarityBackground!$F$1*3,IF(H32=3,RarityBackground!$F$1*6,"Error")))) | AK32: =IF(I32="","",IF(I32=1,RarityBackground!$F$2,IF(I32=2,RarityBackground!$F$2*3,IF(I32=3,RarityBackground!$F$2*6,"Error")))) | AL32: =IF(J32="","",ROUNDUP(RarityBackground!$F$6*VLOOKUP(J32, RarityBackground!$A$18:$B$27,2,0),-1)) | AM32: =IF(K32="","",IF(K32="N","",IF(K32="Y",ROUNDUP(RarityBackground!$F$6,-1),""))) | AN32: =IF(L32="","",IF(L32=1,RarityBackground!$D$1,IF(L32=2,RarityBackground!$D$1*3,IF(L32=3,RarityBackground!$D$1*6,"Error")))) | AO32: =IF(M32="","",VLOOKUP(M32,RarityBackground!$A$7:$B$17,2,0)) | AP32: =IF(N32="","",IF(N32="Y",AO32*RarityBackground!$F$5,IF(N32="N",AO32*(IF(RarityBackground!$F$3+(O32-1)>10,10,RarityBackground!$F$3+(O32-1)))))-AO32) | AQ32: =IF(P32="","",(P32*AO32)-AO32) | AR32: =IF(Q32="","",Q32*RarityBackground!$D$5) | AS32: =IF(R32="","",VLOOKUP(R32&"Save1Minute", RarityBackground!$C$6:$D$20,2,0)) | AT32: =IF(S32="","",IF(T32="Y",ROUNDUP(S32*RarityBackground!$D$4,0),IF(T32="N",ROUNDUP(S32*RarityBackground!$D$3,0)))) | AU32: =IF(U32="","",IF(V32="Y",((RarityBackground!$D$4*U32)*(RarityBackground!$F$3+W32)),((RarityBackground!$D$3*U32)*(RarityBackground!$F$3+W32)))) | AV32: =IF(X32="","",IF(Y32="Y",(RarityBackground!$D$4*X32)*IF(Z32="Y",RarityBackground!$F$9,RarityBackground!$F$10),(RarityBackground!$D$3*X32)*IF(Z32="Y",RarityBackground!$F$9,RarityBackground!$F$10))) | AW32: =IF(AA32="","",AA32*RarityBackground!$D$2) | AX32: =IF(AB32="","",AB32) | AY32: =IF(AC32="","",VLOOKUP(AC32,RarityBackground!$A$7:$B$17,2,0)) | AZ32: =IF(AD32="","",IF(AD32="Y",AY32*RarityBackground!$F$5,IF(AD32="N",AY32*(IF(RarityBackground!$F$3+(AE32-1)>10,10,RarityBackground!$F$3+(AE32-1)))))-AY32) | BA32: =IF(AF32="","",VLOOKUP(AF32,RarityBackground!$A$7:$B$17,2,0)) | BB32: =IF(AG32="","",IF(AG32="Y",BA32*RarityBackground!$F$5,IF(AG32="N",BA32*(IF(RarityBackground!$F$3+(AH32-1)>10,10,RarityBackground!$F$3+(AH32-1)))))-BA32)
A33: Bag of Holding | B33: Uncommon | C33: No | D33: =IF(A33="","",ROUNDUP(SUM(AI33:BB33)*VLOOKUP(B33,RarityBackground!$A$1:$B$6,2,0)*IF(C33="Yes",1,1.1),0)) -> 1485 | E33: based: floating disk | M33: 1 | N33: Y | AI33: =IF(F33="","",F33+IF(G33="",0,VLOOKUP(G33,RarityBackground!$E$7:$F$9,2,0))) | AJ33: =IF(H33="","",F33+IF(H33=1,RarityBackground!$F$1,IF(H33=2,RarityBackground!$F$1*3,IF(H33=3,RarityBackground!$F$1*6,"Error")))) | AK33: =IF(I33="","",IF(I33=1,RarityBackground!$F$2,IF(I33=2,RarityBackground!$F$2*3,IF(I33=3,RarityBackground!$F$2*6,"Error")))) | AL33: =IF(J33="","",ROUNDUP(RarityBackground!$F$6*VLOOKUP(J33, RarityBackground!$A$18:$B$27,2,0),-1)) | AM33: =IF(K33="","",IF(K33="N","",IF(K33="Y",ROUNDUP(RarityBackground!$F$6,-1),""))) | AN33: =IF(L33="","",IF(L33=1,RarityBackground!$D$1,IF(L33=2,RarityBackground!$D$1*3,IF(L33=3,RarityBackground!$D$1*6,"Error")))) | AO33: =IF(M33="","",VLOOKUP(M33,RarityBackground!$A$7:$B$17,2,0)) -> 90 | AP33: =IF(N33="","",IF(N33="Y",AO33*RarityBackground!$F$5,IF(N33="N",AO33*(IF(RarityBackground!$F$3+(O33-1)>10,10,RarityBackground!$F$3+(O33-1)))))-AO33) -> 810 | AQ33: =IF(P33="","",(P33*AO33)-AO33) | AR33: =IF(Q33="","",Q33*RarityBackground!$D$5) | AS33: =IF(R33="","",VLOOKUP(R33&"Save1Minute", RarityBackground!$C$6:$D$20,2,0)) | AT33: =IF(S33="","",IF(T33="Y",ROUNDUP(S33*RarityBackground!$D$4,0),IF(T33="N",ROUNDUP(S33*RarityBackground!$D$3,0)))) | AU33: =IF(U33="","",IF(V33="Y",((RarityBackground!$D$4*U33)*(RarityBackground!$F$3+W33)),((RarityBackground!$D$3*U33)*(RarityBackground!$F$3+W33)))) | AV33: =IF(X33="","",IF(Y33="Y",(RarityBackground!$D$4*X33)*IF(Z33="Y",RarityBackground!$F$9,RarityBackground!$F$10),(RarityBackground!$D$3*X33)*IF(Z33="Y",RarityBackground!$F$9,RarityBackground!$F$10))) | AW33: =IF(AA33="","",AA33*RarityBackground!$D$2) | AX33: =IF(AB33="","",AB33) | AY33: =IF(AC33="","",VLOOKUP(AC33,RarityBackground!$A$7:$B$17,2,0)) | AZ33: =IF(AD33="","",IF(AD33="Y",AY33*RarityBackground!$F$5,IF(AD33="N",AY33*(IF(RarityBackground!$F$3+(AE33-1)>10,10,RarityBackground!$F$3+(AE33-1)))))-AY33) | BA33: =IF(AF33="","",VLOOKUP(AF33,RarityBackground!$A$7:$B$17,2,0)) | BB33: =IF(AG33="","",IF(AG33="Y",BA33*RarityBackground!$F$5,IF(AG33="N",BA33*(IF(RarityBackground!$F$3+(AH33-1)>10,10,RarityBackground!$F$3+(AH33-1)))))-BA33)
A34: Bag of Tricks | B34: Uncommon | C34: No | D34: =IF(A34="","",ROUNDUP(SUM(AI34:BB34)*VLOOKUP(B34,RarityBackground!$A$1:$B$6,2,0)*IF(C34="Yes",1,1.1),0)) -> 4455 | E34: based: conjure animals (plus 1 level, no concentraiton, highest level monster is CR 2) | M34: 4 | N34: N | O34: 3 | AI34: =IF(F34="","",F34+IF(G34="",0,VLOOKUP(G34,RarityBackground!$E$7:$F$9,2,0))) | AJ34: =IF(H34="","",F34+IF(H34=1,RarityBackground!$F$1,IF(H34=2,RarityBackground!$F$1*3,IF(H34=3,RarityBackground!$F$1*6,"Error")))) | AK34: =IF(I34="","",IF(I34=1,RarityBackground!$F$2,IF(I34=2,RarityBackground!$F$2*3,IF(I34=3,RarityBackground!$F$2*6,"Error")))) | AL34: =IF(J34="","",ROUNDUP(RarityBackground!$F$6*VLOOKUP(J34, RarityBackground!$A$18:$B$27,2,0),-1)) | AM34: =IF(K34="","",IF(K34="N","",IF(K34="Y",ROUNDUP(RarityBackground!$F$6,-1),""))) | AN34: =IF(L34="","",IF(L34=1,RarityBackground!$D$1,IF(L34=2,RarityBackground!$D$1*3,IF(L34=3,RarityBackground!$D$1*6,"Error")))) | AO34: =IF(M34="","",VLOOKUP(M34,RarityBackground!$A$7:$B$17,2,0)) -> 450 | AP34: =IF(N34="","",IF(N34="Y",AO34*RarityBackground!$F$5,IF(N34="N",AO34*(IF(RarityBackground!$F$3+(O34-1)>10,10,RarityBackground!$F$3+(O34-1)))))-AO34) -> 2250 | AQ34: =IF(P34="","",(P34*AO34)-AO34) | AR34: =IF(Q34="","",Q34*RarityBackground!$D$5) | AS34: =IF(R34="","",VLOOKUP(R34&"Save1Minute", RarityBackground!$C$6:$D$20,2,0)) | AT34: =IF(S34="","",IF(T34="Y",ROUNDUP(S34*RarityBackground!$D$4,0),IF(T34="N",ROUNDUP(S34*RarityBackground!$D$3,0)))) | AU34: =IF(U34="","",IF(V34="Y",((RarityBackground!$D$4*U34)*(RarityBackground!$F$3+W34)),((RarityBackground!$D$3*U34)*(RarityBackground!$F$3+W34)))) | AV34: =IF(X34="","",IF(Y34="Y",(RarityBackground!$D$4*X34)*IF(Z34="Y",RarityBackground!$F$9,RarityBackground!$F$10),(RarityBackground!$D$3*X34)*IF(Z34="Y",RarityBackground!$F$9,RarityBackground!$F$10))) | AW34: =IF(AA34="","",AA34*RarityBackground!$D$2) | AX34: =IF(AB34="","",AB34) | AY34: =IF(AC34="","",VLOOKUP(AC34,RarityBackground!$A$7:$B$17,2,0)) | AZ34: =IF(AD34="","",IF(AD34="Y",AY34*RarityBackground!$F$5,IF(AD34="N",AY34*(IF(RarityBackground!$F$3+(AE34-1)>10,10,RarityBackground!$F$3+(AE34-1)))))-AY34) | BA34: =IF(AF34="","",VLOOKUP(AF34,RarityBackground!$A$7:$B$17,2,0)) | BB34: =IF(AG34="","",IF(AG34="Y",BA34*RarityBackground!$F$5,IF(AG34="N",BA34*(IF(RarityBackground!$F$3+(AH34-1)>10,10,RarityBackground!$F$3+(AH34-1)))))-BA34)
A35: Bead of Force | B35: Rare | C35: No | D35: =IF(A35="","",ROUNDUP(SUM(AI35:BB35)*VLOOKUP(B35,RarityBackground!$A$1:$B$6,2,0)*IF(C35="Yes",1,1.1),0)) -> 13933 | E35: based: resilient sphere (plus 1 level, no concentration), add charges per bead | M35: 5 | N35: N | O35: 8 | S35: 12 | T35: Y | W35: 1 | AI35: =IF(F35="","",F35+IF(G35="",0,VLOOKUP(G35,RarityBackground!$E$7:$F$9,2,0))) | AJ35: =IF(H35="","",F35+IF(H35=1,RarityBackground!$F$1,IF(H35=2,RarityBackground!$F$1*3,IF(H35=3,RarityBackground!$F$1*6,"Error")))) | AK35: =IF(I35="","",IF(I35=1,RarityBackground!$F$2,IF(I35=2,RarityBackground!$F$2*3,IF(I35=3,RarityBackground!$F$2*6,"Error")))) | AL35: =IF(J35="","",ROUNDUP(RarityBackground!$F$6*VLOOKUP(J35, RarityBackground!$A$18:$B$27,2,0),-1)) | AM35: =IF(K35="","",IF(K35="N","",IF(K35="Y",ROUNDUP(RarityBackground!$F$6,-1),""))) | AN35: =IF(L35="","",IF(L35=1,RarityBackground!$D$1,IF(L35=2,RarityBackground!$D$1*3,IF(L35=3,RarityBackground!$D$1*6,"Error")))) | AO35: =IF(M35="","",VLOOKUP(M35,RarityBackground!$A$7:$B$17,2,0)) -> 630 | AP35: =IF(N35="","",IF(N35="Y",AO35*RarityBackground!$F$5,IF(N35="N",AO35*(IF(RarityBackground!$F$3+(O35-1)>10,10,RarityBackground!$F$3+(O35-1)))))-AO35) -> 5670 | AQ35: =IF(P35="","",(P35*AO35)-AO35) | AR35: =IF(Q35="","",Q35*RarityBackground!$D$5) | AS35: =IF(R35="","",VLOOKUP(R35&"Save1Minute", RarityBackground!$C$6:$D$20,2,0)) | AT35: =IF(S35="","",IF(T35="Y",ROUNDUP(S35*RarityBackground!$D$4,0),IF(T35="N",ROUNDUP(S35*RarityBackground!$D$3,0)))) -> 33 | AU35: =IF(U35="","",IF(V35="Y",((RarityBackground!$D$4*U35)*(RarityBackground!$F$3+W35)),((RarityBackground!$D$3*U35)*(RarityBackground!$F$3+W35)))) | AV35: =IF(X35="","",IF(Y35="Y",(RarityBackground!$D$4*X35)*IF(Z35="Y",RarityBackground!$F$9,RarityBackground!$F$10),(RarityBackground!$D$3*X35)*IF(Z35="Y",RarityBackground!$F$9,RarityBackground!$F$10))) | AW35: =IF(AA35="","",AA35*RarityBackground!$D$2) | AX35: =IF(AB35="","",AB35) | AY35: =IF(AC35="","",VLOOKUP(AC35,RarityBackground!$A$7:$B$17,2,0)) | AZ35: =IF(AD35="","",IF(AD35="Y",AY35*RarityBackground!$F$5,IF(AD35="N",AY35*(IF(RarityBackground!$F$3+(AE35-1)>10,10,RarityBackground!$F$3+(AE35-1)))))-AY35) | BA35: =IF(AF35="","",VLOOKUP(AF35,RarityBackground!$A$7:$B$17,2,0)) | BB35: =IF(AG35="","",IF(AG35="Y",BA35*RarityBackground!$F$5,IF(AG35="N",BA35*(IF(RarityBackground!$F$3+(AH35-1)>10,10,RarityBackground!$F$3+(AH35-1)))))-BA35)
A36: Belt of Dwarvenkind | B36: Rare | C36: Yes | D36: =IF(A36="","",ROUNDUP(SUM(AI36:BB36)*VLOOKUP(B36,RarityBackground!$A$1:$B$6,2,0)*IF(C36="Yes",1,1.1),0)) -> 8460 | E36: not included: advantage on CHA, dwarven language | K36: Y | M36: 2 | N36: Y | AC36: 2 | AD36: Y | AI36: =IF(F36="","",F36+IF(G36="",0,VLOOKUP(G36,RarityBackground!$E$7:$F$9,2,0))) | AJ36: =IF(H36="","",F36+IF(H36=1,RarityBackground!$F$1,IF(H36=2,RarityBackground!$F$1*3,IF(H36=3,RarityBackground!$F$1*6,"Error")))) | AK36: =IF(I36="","",IF(I36=1,RarityBackground!$F$2,IF(I36=2,RarityBackground!$F$2*3,IF(I36=3,RarityBackground!$F$2*6,"Error")))) | AL36: =IF(J36="","",ROUNDUP(RarityBackground!$F$6*VLOOKUP(J36, RarityBackground!$A$18:$B$27,2,0),-1)) | AM36: =IF(K36="","",IF(K36="N","",IF(K36="Y",ROUNDUP(RarityBackground!$F$6,-1),""))) -> 630 | AN36: =IF(L36="","",IF(L36=1,RarityBackground!$D$1,IF(L36=2,RarityBackground!$D$1*3,IF(L36=3,RarityBackground!$D$1*6,"Error")))) | AO36: =IF(M36="","",VLOOKUP(M36,RarityBackground!$A$7:$B$17,2,0)) -> 180 | AP36: =IF(N36="","",IF(N36="Y",AO36*RarityBackground!$F$5,IF(N36="N",AO36*(IF(RarityBackground!$F$3+(O36-1)>10,10,RarityBackground!$F$3+(O36-1)))))-AO36) -> 1620 | AQ36: =IF(P36="","",(P36*AO36)-AO36) | AR36: =IF(Q36="","",Q36*RarityBackground!$D$5) | AS36: =IF(R36="","",VLOOKUP(R36&"Save1Minute", RarityBackground!$C$6:$D$20,2,0)) | AT36: =IF(S36="","",IF(T36="Y",ROUNDUP(S36*RarityBackground!$D$4,0),IF(T36="N",ROUNDUP(S36*RarityBackground!$D$3,0)))) | AU36: =IF(U36="","",IF(V36="Y",((RarityBackground!$D$4*U36)*(RarityBackground!$F$3+W36)),((RarityBackground!$D$3*U36)*(RarityBackground!$F$3+W36)))) | AV36: =IF(X36="","",IF(Y36="Y",(RarityBackground!$D$4*X36)*IF(Z36="Y",RarityBackground!$F$9,RarityBackground!$F$10),(RarityBackground!$D$3*X36)*IF(Z36="Y",RarityBackground!$F$9,RarityBackground!$F$10))) | AW36: =IF(AA36="","",AA36*RarityBackground!$D$2) | AX36: =IF(AB36="","",AB36) | AY36: =IF(AC36="","",VLOOKUP(AC36,RarityBackground!$A$7:$B$17,2,0)) -> 180 | AZ36: =IF(AD36="","",IF(AD36="Y",AY36*RarityBackground!$F$5,IF(AD36="N",AY36*(IF(RarityBackground!$F$3+(AE36-1)>10,10,RarityBackground!$F$3+(AE36-1)))))-AY36) -> 1620 | BA36: =IF(AF36="","",VLOOKUP(AF36,RarityBackground!$A$7:$B$17,2,0)) | BB36: =IF(AG36="","",IF(AG36="Y",BA36*RarityBackground!$F$5,IF(AG36="N",BA36*(IF(RarityBackground!$F$3+(AH36-1)>10,10,RarityBackground!$F$3+(AH36-1)))))-BA36)
A37: Belt of Giant Strength, Hill | B37: Rare | C37: Yes | D37: =IF(A37="","",ROUNDUP(SUM(AI37:BB37)*VLOOKUP(B37,RarityBackground!$A$1:$B$6,2,0)*IF(C37="Yes",1,1.1),0)) -> 18900 | J37: 5 | AI37: =IF(F37="","",F37+IF(G37="",0,VLOOKUP(G37,RarityBackground!$E$7:$F$9,2,0))) | AJ37: =IF(H37="","",F37+IF(H37=1,RarityBackground!$F$1,IF(H37=2,RarityBackground!$F$1*3,IF(H37=3,RarityBackground!$F$1*6,"Error")))) | AK37: =IF(I37="","",IF(I37=1,RarityBackground!$F$2,IF(I37=2,RarityBackground!$F$2*3,IF(I37=3,RarityBackground!$F$2*6,"Error")))) | AL37: =IF(J37="","",ROUNDUP(RarityBackground!$F$6*VLOOKUP(J37, RarityBackground!$A$18:$B$27,2,0),-1)) -> 9450 | AM37: =IF(K37="","",IF(K37="N","",IF(K37="Y",ROUNDUP(RarityBackground!$F$6,-1),""))) | AN37: =IF(L37="","",IF(L37=1,RarityBackground!$D$1,IF(L37=2,RarityBackground!$D$1*3,IF(L37=3,RarityBackground!$D$1*6,"Error")))) | AO37: =IF(M37="","",VLOOKUP(M37,RarityBackground!$A$7:$B$17,2,0)) | AP37: =IF(N37="","",IF(N37="Y",AO37*RarityBackground!$F$5,IF(N37="N",AO37*(IF(RarityBackground!$F$3+(O37-1)>10,10,RarityBackground!$F$3+(O37-1)))))-AO37) | AQ37: =IF(P37="","",(P37*AO37)-AO37) | AR37: =IF(Q37="","",Q37*RarityBackground!$D$5) | AS37: =IF(R37="","",VLOOKUP(R37&"Save1Minute", RarityBackground!$C$6:$D$20,2,0)) | AT37: =IF(S37="","",IF(T37="Y",ROUNDUP(S37*RarityBackground!$D$4,0),IF(T37="N",ROUNDUP(S37*RarityBackground!$D$3,0)))) | AU37: =IF(U37="","",IF(V37="Y",((RarityBackground!$D$4*U37)*(RarityBackground!$F$3+W37)),((RarityBackground!$D$3*U37)*(RarityBackground!$F$3+W37)))) | AV37: =IF(X37="","",IF(Y37="Y",(RarityBackground!$D$4*X37)*IF(Z37="Y",RarityBackground!$F$9,RarityBackground!$F$10),(RarityBackground!$D$3*X37)*IF(Z37="Y",RarityBackground!$F$9,RarityBackground!$F$10))) | AW37: =IF(AA37="","",AA37*RarityBackground!$D$2) | AX37: =IF(AB37="","",AB37) | AY37: =IF(AC37="","",VLOOKUP(AC37,RarityBackground!$A$7:$B$17,2,0)) | AZ37: =IF(AD37="","",IF(AD37="Y",AY37*RarityBackground!$F$5,IF(AD37="N",AY37*(IF(RarityBackground!$F$3+(AE37-1)>10,10,RarityBackground!$F$3+(AE37-1)))))-AY37) | BA37: =IF(AF37="","",VLOOKUP(AF37,RarityBackground!$A$7:$B$17,2,0)) | BB37: =IF(AG37="","",IF(AG37="Y",BA37*RarityBackground!$F$5,IF(AG37="N",BA37*(IF(RarityBackground!$F$3+(AH37-1)>10,10,RarityBackground!$F$3+(AH37-1)))))-BA37)
A38: Belt of Giant Strength, Stone/Frost | B38: Very Rare | C38: Yes | D38: =IF(A38="","",ROUNDUP(SUM(AI38:BB38)*VLOOKUP(B38,RarityBackground!$A$1:$B$6,2,0)*IF(C38="Yes",1,1.1),0)) -> 39690 | J38: 6 | AI38: =IF(F38="","",F38+IF(G38="",0,VLOOKUP(G38,RarityBackground!$E$7:$F$9,2,0))) | AJ38: =IF(H38="","",F38+IF(H38=1,RarityBackground!$F$1,IF(H38=2,RarityBackground!$F$1*3,IF(H38=3,RarityBackground!$F$1*6,"Error")))) | AK38: =IF(I38="","",IF(I38=1,RarityBackground!$F$2,IF(I38=2,RarityBackground!$F$2*3,IF(I38=3,RarityBackground!$F$2*6,"Error")))) | AL38: =IF(J38="","",ROUNDUP(RarityBackground!$F$6*VLOOKUP(J38, RarityBackground!$A$18:$B$27,2,0),-1)) -> 13230 | AM38: =IF(K38="","",IF(K38="N","",IF(K38="Y",ROUNDUP(RarityBackground!$F$6,-1),""))) | AN38: =IF(L38="","",IF(L38=1,RarityBackground!$D$1,IF(L38=2,RarityBackground!$D$1*3,IF(L38=3,RarityBackground!$D$1*6,"Error")))) | AO38: =IF(M38="","",VLOOKUP(M38,RarityBackground!$A$7:$B$17,2,0)) | AP38: =IF(N38="","",IF(N38="Y",AO38*RarityBackground!$F$5,IF(N38="N",AO38*(IF(RarityBackground!$F$3+(O38-1)>10,10,RarityBackground!$F$3+(O38-1)))))-AO38) | AQ38: =IF(P38="","",(P38*AO38)-AO38) | AR38: =IF(Q38="","",Q38*RarityBackground!$D$5) | AS38: =IF(R38="","",VLOOKUP(R38&"Save1Minute", RarityBackground!$C$6:$D$20,2,0)) | AT38: =IF(S38="","",IF(T38="Y",ROUNDUP(S38*RarityBackground!$D$4,0),IF(T38="N",ROUNDUP(S38*RarityBackground!$D$3,0)))) | AU38: =IF(U38="","",IF(V38="Y",((RarityBackground!$D$4*U38)*(RarityBackground!$F$3+W38)),((RarityBackground!$D$3*U38)*(RarityBackground!$F$3+W38)))) | AV38: =IF(X38="","",IF(Y38="Y",(RarityBackground!$D$4*X38)*IF(Z38="Y",RarityBackground!$F$9,RarityBackground!$F$10),(RarityBackground!$D$3*X38)*IF(Z38="Y",RarityBackground!$F$9,RarityBackground!$F$10))) | AW38: =IF(AA38="","",AA38*RarityBackground!$D$2) | AX38: =IF(AB38="","",AB38) | AY38: =IF(AC38="","",VLOOKUP(AC38,RarityBackground!$A$7:$B$17,2,0)) | AZ38: =IF(AD38="","",IF(AD38="Y",AY38*RarityBackground!$F$5,IF(AD38="N",AY38*(IF(RarityBackground!$F$3+(AE38-1)>10,10,RarityBackground!$F$3+(AE38-1)))))-AY38) | BA38: =IF(AF38="","",VLOOKUP(AF38,RarityBackground!$A$7:$B$17,2,0)) | BB38: =IF(AG38="","",IF(AG38="Y",BA38*RarityBackground!$F$5,IF(AG38="N",BA38*(IF(RarityBackground!$F$3+(AH38-1)>10,10,RarityBackground!$F$3+(AH38-1)))))-BA38)
A39: Belt of Giant Strength, Fire | B39: Very Rare | C39: Yes | D39: =IF(A39="","",ROUNDUP(SUM(AI39:BB39)*VLOOKUP(B39,RarityBackground!$A$1:$B$6,2,0)*IF(C39="Yes",1,1.1),0)) -> 52920 | J39: 7 | AI39: =IF(F39="","",F39+IF(G39="",0,VLOOKUP(G39,RarityBackground!$E$7:$F$9,2,0))) | AJ39: =IF(H39="","",F39+IF(H39=1,RarityBackground!$F$1,IF(H39=2,RarityBackground!$F$1*3,IF(H39=3,RarityBackground!$F$1*6,"Error")))) | AK39: =IF(I39="","",IF(I39=1,RarityBackground!$F$2,IF(I39=2,RarityBackground!$F$2*3,IF(I39=3,RarityBackground!$F$2*6,"Error")))) | AL39: =IF(J39="","",ROUNDUP(RarityBackground!$F$6*VLOOKUP(J39, RarityBackground!$A$18:$B$27,2,0),-1)) -> 17640 | AM39: =IF(K39="","",IF(K39="N","",IF(K39="Y",ROUNDUP(RarityBackground!$F$6,-1),""))) | AN39: =IF(L39="","",IF(L39=1,RarityBackground!$D$1,IF(L39=2,RarityBackground!$D$1*3,IF(L39=3,RarityBackground!$D$1*6,"Error")))) | AO39: =IF(M39="","",VLOOKUP(M39,RarityBackground!$A$7:$B$17,2,0)) | AP39: =IF(N39="","",IF(N39="Y",AO39*RarityBackground!$F$5,IF(N39="N",AO39*(IF(RarityBackground!$F$3+(O39-1)>10,10,RarityBackground!$F$3+(O39-1)))))-AO39) | AQ39: =IF(P39="","",(P39*AO39)-AO39) | AR39: =IF(Q39="","",Q39*RarityBackground!$D$5) | AS39: =IF(R39="","",VLOOKUP(R39&"Save1Minute", RarityBackground!$C$6:$D$20,2,0)) | AT39: =IF(S39="","",IF(T39="Y",ROUNDUP(S39*RarityBackground!$D$4,0),IF(T39="N",ROUNDUP(S39*RarityBackground!$D$3,0)))) | AU39: =IF(U39="","",IF(V39="Y",((RarityBackground!$D$4*U39)*(RarityBackground!$F$3+W39)),((RarityBackground!$D$3*U39)*(RarityBackground!$F$3+W39)))) | AV39: =IF(X39="","",IF(Y39="Y",(RarityBackground!$D$4*X39)*IF(Z39="Y",RarityBackground!$F$9,RarityBackground!$F$10),(RarityBackground!$D$3*X39)*IF(Z39="Y",RarityBackground!$F$9,RarityBackground!$F$10))) | AW39: =IF(AA39="","",AA39*RarityBackground!$D$2) | AX39: =IF(AB39="","",AB39) | AY39: =IF(AC39="","",VLOOKUP(AC39,RarityBackground!$A$7:$B$17,2,0)) | AZ39: =IF(AD39="","",IF(AD39="Y",AY39*RarityBackground!$F$5,IF(AD39="N",AY39*(IF(RarityBackground!$F$3+(AE39-1)>10,10,RarityBackground!$F$3+(AE39-1)))))-AY39) | BA39: =IF(AF39="","",VLOOKUP(AF39,RarityBackground!$A$7:$B$17,2,0)) | BB39: =IF(AG39="","",IF(AG39="Y",BA39*RarityBackground!$F$5,IF(AG39="N",BA39*(IF(RarityBackground!$F$3+(AH39-1)>10,10,RarityBackground!$F$3+(AH39-1)))))-BA39)
A40: Belt of Giant Strength, Cloud | B40: Legendary | C40: Yes | D40: =IF(A40="","",ROUNDUP(SUM(AI40:BB40)*VLOOKUP(B40,RarityBackground!$A$1:$B$6,2,0)*IF(C40="Yes",1,1.1),0)) -> 113400 | J40: 8 | AI40: =IF(F40="","",F40+IF(G40="",0,VLOOKUP(G40,RarityBackground!$E$7:$F$9,2,0))) | AJ40: =IF(H40="","",F40+IF(H40=1,RarityBackground!$F$1,IF(H40=2,RarityBackground!$F$1*3,IF(H40=3,RarityBackground!$F$1*6,"Error")))) | AK40: =IF(I40="","",IF(I40=1,RarityBackground!$F$2,IF(I40=2,RarityBackground!$F$2*3,IF(I40=3,RarityBackground!$F$2*6,"Error")))) | AL40: =IF(J40="","",ROUNDUP(RarityBackground!$F$6*VLOOKUP(J40, RarityBackground!$A$18:$B$27,2,0),-1)) -> 22680 | AM40: =IF(K40="","",IF(K40="N","",IF(K40="Y",ROUNDUP(RarityBackground!$F$6,-1),""))) | AN40: =IF(L40="","",IF(L40=1,RarityBackground!$D$1,IF(L40=2,RarityBackground!$D$1*3,IF(L40=3,RarityBackground!$D$1*6,"Error")))) | AO40: =IF(M40="","",VLOOKUP(M40,RarityBackground!$A$7:$B$17,2,0)) | AP40: =IF(N40="","",IF(N40="Y",AO40*RarityBackground!$F$5,IF(N40="N",AO40*(IF(RarityBackground!$F$3+(O40-1)>10,10,RarityBackground!$F$3+(O40-1)))))-AO40) | AQ40: =IF(P40="","",(P40*AO40)-AO40) | AR40: =IF(Q40="","",Q40*RarityBackground!$D$5) | AS40: =IF(R40="","",VLOOKUP(R40&"Save1Minute", RarityBackground!$C$6:$D$20,2,0)) | AT40: =IF(S40="","",IF(T40="Y",ROUNDUP(S40*RarityBackground!$D$4,0),IF(T40="N",ROUNDUP(S40*RarityBackground!$D$3,0)))) | AU40: =IF(U40="","",IF(V40="Y",((RarityBackground!$D$4*U40)*(RarityBackground!$F$3+W40)),((RarityBackground!$D$3*U40)*(RarityBackground!$F$3+W40)))) | AV40: =IF(X40="","",IF(Y40="Y",(RarityBackground!$D$4*X40)*IF(Z40="Y",RarityBackground!$F$9,RarityBackground!$F$10),(RarityBackground!$D$3*X40)*IF(Z40="Y",RarityBackground!$F$9,RarityBackground!$F$10))) | AW40: =IF(AA40="","",AA40*RarityBackground!$D$2) | AX40: =IF(AB40="","",AB40) | AY40: =IF(AC40="","",VLOOKUP(AC40,RarityBackground!$A$7:$B$17,2,0)) | AZ40: =IF(AD40="","",IF(AD40="Y",AY40*RarityBackground!$F$5,IF(AD40="N",AY40*(IF(RarityBackground!$F$3+(AE40-1)>10,10,RarityBackground!$F$3+(AE40-1)))))-AY40) | BA40: =IF(AF40="","",VLOOKUP(AF40,RarityBackground!$A$7:$B$17,2,0)) | BB40: =IF(AG40="","",IF(AG40="Y",BA40*RarityBackground!$F$5,IF(AG40="N",BA40*(IF(RarityBackground!$F$3+(AH40-1)>10,10,RarityBackground!$F$3+(AH40-1)))))-BA40)
A41: Belt of Giant Strength, Storm | B41: Legendary | C41: Yes | D41: =IF(A41="","",ROUNDUP(SUM(AI41:BB41)*VLOOKUP(B41,RarityBackground!$A$1:$B$6,2,0)*IF(C41="Yes",1,1.1),0)) -> 141750 | J41: 9 | AI41: =IF(F41="","",F41+IF(G41="",0,VLOOKUP(G41,RarityBackground!$E$7:$F$9,2,0))) | AJ41: =IF(H41="","",F41+IF(H41=1,RarityBackground!$F$1,IF(H41=2,RarityBackground!$F$1*3,IF(H41=3,RarityBackground!$F$1*6,"Error")))) | AK41: =IF(I41="","",IF(I41=1,RarityBackground!$F$2,IF(I41=2,RarityBackground!$F$2*3,IF(I41=3,RarityBackground!$F$2*6,"Error")))) | AL41: =IF(J41="","",ROUNDUP(RarityBackground!$F$6*VLOOKUP(J41, RarityBackground!$A$18:$B$27,2,0),-1)) -> 28350 | AM41: =IF(K41="","",IF(K41="N","",IF(K41="Y",ROUNDUP(RarityBackground!$F$6,-1),""))) | AN41: =IF(L41="","",IF(L41=1,RarityBackground!$D$1,IF(L41=2,RarityBackground!$D$1*3,IF(L41=3,RarityBackground!$D$1*6,"Error")))) | AO41: =IF(M41="","",VLOOKUP(M41,RarityBackground!$A$7:$B$17,2,0)) | AP41: =IF(N41="","",IF(N41="Y",AO41*RarityBackground!$F$5,IF(N41="N",AO41*(IF(RarityBackground!$F$3+(O41-1)>10,10,RarityBackground!$F$3+(O41-1)))))-AO41) | AQ41: =IF(P41="","",(P41*AO41)-AO41) | AR41: =IF(Q41="","",Q41*RarityBackground!$D$5) | AS41: =IF(R41="","",VLOOKUP(R41&"Save1Minute", RarityBackground!$C$6:$D$20,2,0)) | AT41: =IF(S41="","",IF(T41="Y",ROUNDUP(S41*RarityBackground!$D$4,0),IF(T41="N",ROUNDUP(S41*RarityBackground!$D$3,0)))) | AU41: =IF(U41="","",IF(V41="Y",((RarityBackground!$D$4*U41)*(RarityBackground!$F$3+W41)),((RarityBackground!$D$3*U41)*(RarityBackground!$F$3+W41)))) | AV41: =IF(X41="","",IF(Y41="Y",(RarityBackground!$D$4*X41)*IF(Z41="Y",RarityBackground!$F$9,RarityBackground!$F$10),(RarityBackground!$D$3*X41)*IF(Z41="Y",RarityBackground!$F$9,RarityBackground!$F$10))) | AW41: =IF(AA41="","",AA41*RarityBackground!$D$2) | AX41: =IF(AB41="","",AB41) | AY41: =IF(AC41="","",VLOOKUP(AC41,RarityBackground!$A$7:$B$17,2,0)) | AZ41: =IF(AD41="","",IF(AD41="Y",AY41*RarityBackground!$F$5,IF(AD41="N",AY41*(IF(RarityBackground!$F$3+(AE41-1)>10,10,RarityBackground!$F$3+(AE41-1)))))-AY41) | BA41: =IF(AF41="","",VLOOKUP(AF41,RarityBackground!$A$7:$B$17,2,0)) | BB41: =IF(AG41="","",IF(AG41="Y",BA41*RarityBackground!$F$5,IF(AG41="N",BA41*(IF(RarityBackground!$F$3+(AH41-1)>10,10,RarityBackground!$F$3+(AH41-1)))))-BA41)
A42: Berserker Axe | B42: Rare | C42: Yes | D42: =IF(A42="","",ROUNDUP(SUM(AI42:BB42)*VLOOKUP(B42,RarityBackground!$A$1:$B$6,2,0)*IF(C42="Yes",1,1.1),0)) -> 0 | E42: Cursed, not priced | AI42: =IF(F42="","",F42+IF(G42="",0,VLOOKUP(G42,RarityBackground!$E$7:$F$9,2,0))) | AJ42: =IF(H42="","",F42+IF(H42=1,RarityBackground!$F$1,IF(H42=2,RarityBackground!$F$1*3,IF(H42=3,RarityBackground!$F$1*6,"Error")))) | AK42: =IF(I42="","",IF(I42=1,RarityBackground!$F$2,IF(I42=2,RarityBackground!$F$2*3,IF(I42=3,RarityBackground!$F$2*6,"Error")))) | AL42: =IF(J42="","",ROUNDUP(RarityBackground!$F$6*VLOOKUP(J42, RarityBackground!$A$18:$B$27,2,0),-1)) | AM42: =IF(K42="","",IF(K42="N","",IF(K42="Y",ROUNDUP(RarityBackground!$F$6,-1),""))) | AN42: =IF(L42="","",IF(L42=1,RarityBackground!$D$1,IF(L42=2,RarityBackground!$D$1*3,IF(L42=3,RarityBackground!$D$1*6,"Error")))) | AO42: =IF(M42="","",VLOOKUP(M42,RarityBackground!$A$7:$B$17,2,0)) | AP42: =IF(N42="","",IF(N42="Y",AO42*RarityBackground!$F$5,IF(N42="N",AO42*(IF(RarityBackground!$F$3+(O42-1)>10,10,RarityBackground!$F$3+(O42-1)))))-AO42) | AQ42: =IF(P42="","",(P42*AO42)-AO42) | AR42: =IF(Q42="","",Q42*RarityBackground!$D$5) | AS42: =IF(R42="","",VLOOKUP(R42&"Save1Minute", RarityBackground!$C$6:$D$20,2,0)) | AT42: =IF(S42="","",IF(T42="Y",ROUNDUP(S42*RarityBackground!$D$4,0),IF(T42="N",ROUNDUP(S42*RarityBackground!$D$3,0)))) | AU42: =IF(U42="","",IF(V42="Y",((RarityBackground!$D$4*U42)*(RarityBackground!$F$3+W42)),((RarityBackground!$D$3*U42)*(RarityBackground!$F$3+W42)))) | AV42: =IF(X42="","",IF(Y42="Y",(RarityBackground!$D$4*X42)*IF(Z42="Y",RarityBackground!$F$9,RarityBackground!$F$10),(RarityBackground!$D$3*X42)*IF(Z42="Y",RarityBackground!$F$9,RarityBackground!$F$10))) | AW42: =IF(AA42="","",AA42*RarityBackground!$D$2) | AX42: =IF(AB42="","",AB42) | AY42: =IF(AC42="","",VLOOKUP(AC42,RarityBackground!$A$7:$B$17,2,0)) | AZ42: =IF(AD42="","",IF(AD42="Y",AY42*RarityBackground!$F$5,IF(AD42="N",AY42*(IF(RarityBackground!$F$3+(AE42-1)>10,10,RarityBackground!$F$3+(AE42-1)))))-AY42) | BA42: =IF(AF42="","",VLOOKUP(AF42,RarityBackground!$A$7:$B$17,2,0)) | BB42: =IF(AG42="","",IF(AG42="Y",BA42*RarityBackground!$F$5,IF(AG42="N",BA42*(IF(RarityBackground!$F$3+(AH42-1)>10,10,RarityBackground!$F$3+(AH42-1)))))-BA42)
A43: Boots of Elvenkind | B43: Uncommon | C43: No | D43: =IF(A43="","",ROUNDUP(SUM(AI43:BB43)*VLOOKUP(B43,RarityBackground!$A$1:$B$6,2,0)*IF(C43="Yes",1,1.1),0)) -> 2970 | E43: based: enhance ability | M43: 2 | N43: Y | AI43: =IF(F43="","",F43+IF(G43="",0,VLOOKUP(G43,RarityBackground!$E$7:$F$9,2,0))) | AJ43: =IF(H43="","",F43+IF(H43=1,RarityBackground!$F$1,IF(H43=2,RarityBackground!$F$1*3,IF(H43=3,RarityBackground!$F$1*6,"Error")))) | AK43: =IF(I43="","",IF(I43=1,RarityBackground!$F$2,IF(I43=2,RarityBackground!$F$2*3,IF(I43=3,RarityBackground!$F$2*6,"Error")))) | AL43: =IF(J43="","",ROUNDUP(RarityBackground!$F$6*VLOOKUP(J43, RarityBackground!$A$18:$B$27,2,0),-1)) | AM43: =IF(K43="","",IF(K43="N","",IF(K43="Y",ROUNDUP(RarityBackground!$F$6,-1),""))) | AN43: =IF(L43="","",IF(L43=1,RarityBackground!$D$1,IF(L43=2,RarityBackground!$D$1*3,IF(L43=3,RarityBackground!$D$1*6,"Error")))) | AO43: =IF(M43="","",VLOOKUP(M43,RarityBackground!$A$7:$B$17,2,0)) -> 180 | AP43: =IF(N43="","",IF(N43="Y",AO43*RarityBackground!$F$5,IF(N43="N",AO43*(IF(RarityBackground!$F$3+(O43-1)>10,10,RarityBackground!$F$3+(O43-1)))))-AO43) -> 1620 | AQ43: =IF(P43="","",(P43*AO43)-AO43) | AR43: =IF(Q43="","",Q43*RarityBackground!$D$5) | AS43: =IF(R43="","",VLOOKUP(R43&"Save1Minute", RarityBackground!$C$6:$D$20,2,0)) | AT43: =IF(S43="","",IF(T43="Y",ROUNDUP(S43*RarityBackground!$D$4,0),IF(T43="N",ROUNDUP(S43*RarityBackground!$D$3,0)))) | AU43: =IF(U43="","",IF(V43="Y",((RarityBackground!$D$4*U43)*(RarityBackground!$F$3+W43)),((RarityBackground!$D$3*U43)*(RarityBackground!$F$3+W43)))) | AV43: =IF(X43="","",IF(Y43="Y",(RarityBackground!$D$4*X43)*IF(Z43="Y",RarityBackground!$F$9,RarityBackground!$F$10),(RarityBackground!$D$3*X43)*IF(Z43="Y",RarityBackground!$F$9,RarityBackground!$F$10))) | AW43: =IF(AA43="","",AA43*RarityBackground!$D$2) | AX43: =IF(AB43="","",AB43) | AY43: =IF(AC43="","",VLOOKUP(AC43,RarityBackground!$A$7:$B$17,2,0)) | AZ43: =IF(AD43="","",IF(AD43="Y",AY43*RarityBackground!$F$5,IF(AD43="N",AY43*(IF(RarityBackground!$F$3+(AE43-1)>10,10,RarityBackground!$F$3+(AE43-1)))))-AY43) | BA43: =IF(AF43="","",VLOOKUP(AF43,RarityBackground!$A$7:$B$17,2,0)) | BB43: =IF(AG43="","",IF(AG43="Y",BA43*RarityBackground!$F$5,IF(AG43="N",BA43*(IF(RarityBackground!$F$3+(AH43-1)>10,10,RarityBackground!$F$3+(AH43-1)))))-BA43)
A44: Boots of Levitation | B44: Rare | C44: Yes | D44: =IF(A44="","",ROUNDUP(SUM(AI44:BB44)*VLOOKUP(B44,RarityBackground!$A$1:$B$6,2,0)*IF(C44="Yes",1,1.1),0)) -> 3600 | E44: based: levitate | M44: 2 | N44: Y | AI44: =IF(F44="","",F44+IF(G44="",0,VLOOKUP(G44,RarityBackground!$E$7:$F$9,2,0))) | AJ44: =IF(H44="","",F44+IF(H44=1,RarityBackground!$F$1,IF(H44=2,RarityBackground!$F$1*3,IF(H44=3,RarityBackground!$F$1*6,"Error")))) | AK44: =IF(I44="","",IF(I44=1,RarityBackground!$F$2,IF(I44=2,RarityBackground!$F$2*3,IF(I44=3,RarityBackground!$F$2*6,"Error")))) | AL44: =IF(J44="","",ROUNDUP(RarityBackground!$F$6*VLOOKUP(J44, RarityBackground!$A$18:$B$27,2,0),-1)) | AM44: =IF(K44="","",IF(K44="N","",IF(K44="Y",ROUNDUP(RarityBackground!$F$6,-1),""))) | AN44: =IF(L44="","",IF(L44=1,RarityBackground!$D$1,IF(L44=2,RarityBackground!$D$1*3,IF(L44=3,RarityBackground!$D$1*6,"Error")))) | AO44: =IF(M44="","",VLOOKUP(M44,RarityBackground!$A$7:$B$17,2,0)) -> 180 | AP44: =IF(N44="","",IF(N44="Y",AO44*RarityBackground!$F$5,IF(N44="N",AO44*(IF(RarityBackground!$F$3+(O44-1)>10,10,RarityBackground!$F$3+(O44-1)))))-AO44) -> 1620 | AQ44: =IF(P44="","",(P44*AO44)-AO44) | AR44: =IF(Q44="","",Q44*RarityBackground!$D$5) | AS44: =IF(R44="","",VLOOKUP(R44&"Save1Minute", RarityBackground!$C$6:$D$20,2,0)) | AT44: =IF(S44="","",IF(T44="Y",ROUNDUP(S44*RarityBackground!$D$4,0),IF(T44="N",ROUNDUP(S44*RarityBackground!$D$3,0)))) | AU44: =IF(U44="","",IF(V44="Y",((RarityBackground!$D$4*U44)*(RarityBackground!$F$3+W44)),((RarityBackground!$D$3*U44)*(RarityBackground!$F$3+W44)))) | AV44: =IF(X44="","",IF(Y44="Y",(RarityBackground!$D$4*X44)*IF(Z44="Y",RarityBackground!$F$9,RarityBackground!$F$10),(RarityBackground!$D$3*X44)*IF(Z44="Y",RarityBackground!$F$9,RarityBackground!$F$10))) | AW44: =IF(AA44="","",AA44*RarityBackground!$D$2) | AX44: =IF(AB44="","",AB44) | AY44: =IF(AC44="","",VLOOKUP(AC44,RarityBackground!$A$7:$B$17,2,0)) | AZ44: =IF(AD44="","",IF(AD44="Y",AY44*RarityBackground!$F$5,IF(AD44="N",AY44*(IF(RarityBackground!$F$3+(AE44-1)>10,10,RarityBackground!$F$3+(AE44-1)))))-AY44) | BA44: =IF(AF44="","",VLOOKUP(AF44,RarityBackground!$A$7:$B$17,2,0)) | BB44: =IF(AG44="","",IF(AG44="Y",BA44*RarityBackground!$F$5,IF(AG44="N",BA44*(IF(RarityBackground!$F$3+(AH44-1)>10,10,RarityBackground!$F$3+(AH44-1)))))-BA44)
A45: Boots of Speed | B45: Rare | C45: Yes | D45: =IF(A45="","",ROUNDUP(SUM(AI45:BB45)*VLOOKUP(B45,RarityBackground!$A$1:$B$6,2,0)*IF(C45="Yes",1,1.1),0)) -> 1800 | E45: based: zephyr strike | M45: 1 | N45: Y | AI45: =IF(F45="","",F45+IF(G45="",0,VLOOKUP(G45,RarityBackground!$E$7:$F$9,2,0))) | AJ45: =IF(H45="","",F45+IF(H45=1,RarityBackground!$F$1,IF(H45=2,RarityBackground!$F$1*3,IF(H45=3,RarityBackground!$F$1*6,"Error")))) | AK45: =IF(I45="","",IF(I45=1,RarityBackground!$F$2,IF(I45=2,RarityBackground!$F$2*3,IF(I45=3,RarityBackground!$F$2*6,"Error")))) | AL45: =IF(J45="","",ROUNDUP(RarityBackground!$F$6*VLOOKUP(J45, RarityBackground!$A$18:$B$27,2,0),-1)) | AM45: =IF(K45="","",IF(K45="N","",IF(K45="Y",ROUNDUP(RarityBackground!$F$6,-1),""))) | AN45: =IF(L45="","",IF(L45=1,RarityBackground!$D$1,IF(L45=2,RarityBackground!$D$1*3,IF(L45=3,RarityBackground!$D$1*6,"Error")))) | AO45: =IF(M45="","",VLOOKUP(M45,RarityBackground!$A$7:$B$17,2,0)) -> 90 | AP45: =IF(N45="","",IF(N45="Y",AO45*RarityBackground!$F$5,IF(N45="N",AO45*(IF(RarityBackground!$F$3+(O45-1)>10,10,RarityBackground!$F$3+(O45-1)))))-AO45) -> 810 | AQ45: =IF(P45="","",(P45*AO45)-AO45) | AR45: =IF(Q45="","",Q45*RarityBackground!$D$5) | AS45: =IF(R45="","",VLOOKUP(R45&"Save1Minute", RarityBackground!$C$6:$D$20,2,0)) | AT45: =IF(S45="","",IF(T45="Y",ROUNDUP(S45*RarityBackground!$D$4,0),IF(T45="N",ROUNDUP(S45*RarityBackground!$D$3,0)))) | AU45: =IF(U45="","",IF(V45="Y",((RarityBackground!$D$4*U45)*(RarityBackground!$F$3+W45)),((RarityBackground!$D$3*U45)*(RarityBackground!$F$3+W45)))) | AV45: =IF(X45="","",IF(Y45="Y",(RarityBackground!$D$4*X45)*IF(Z45="Y",RarityBackground!$F$9,RarityBackground!$F$10),(RarityBackground!$D$3*X45)*IF(Z45="Y",RarityBackground!$F$9,RarityBackground!$F$10))) | AW45: =IF(AA45="","",AA45*RarityBackground!$D$2) | AX45: =IF(AB45="","",AB45) | AY45: =IF(AC45="","",VLOOKUP(AC45,RarityBackground!$A$7:$B$17,2,0)) | AZ45: =IF(AD45="","",IF(AD45="Y",AY45*RarityBackground!$F$5,IF(AD45="N",AY45*(IF(RarityBackground!$F$3+(AE45-1)>10,10,RarityBackground!$F$3+(AE45-1)))))-AY45) | BA45: =IF(AF45="","",VLOOKUP(AF45,RarityBackground!$A$7:$B$17,2,0)) | BB45: =IF(AG45="","",IF(AG45="Y",BA45*RarityBackground!$F$5,IF(AG45="N",BA45*(IF(RarityBackground!$F$3+(AH45-1)>10,10,RarityBackground!$F$3+(AH45-1)))))-BA45)
A46: Boots of Striding and Springing | B46: Uncommon | C46: Yes | D46: =IF(A46="","",ROUNDUP(SUM(AI46:BB46)*VLOOKUP(B46,RarityBackground!$A$1:$B$6,2,0)*IF(C46="Yes",1,1.1),0)) -> 1350 | E46: based: jump | M46: 1 | N46: Y | AI46: =IF(F46="","",F46+IF(G46="",0,VLOOKUP(G46,RarityBackground!$E$7:$F$9,2,0))) | AJ46: =IF(H46="","",F46+IF(H46=1,RarityBackground!$F$1,IF(H46=2,RarityBackground!$F$1*3,IF(H46=3,RarityBackground!$F$1*6,"Error")))) | AK46: =IF(I46="","",IF(I46=1,RarityBackground!$F$2,IF(I46=2,RarityBackground!$F$2*3,IF(I46=3,RarityBackground!$F$2*6,"Error")))) | AL46: =IF(J46="","",ROUNDUP(RarityBackground!$F$6*VLOOKUP(J46, RarityBackground!$A$18:$B$27,2,0),-1)) | AM46: =IF(K46="","",IF(K46="N","",IF(K46="Y",ROUNDUP(RarityBackground!$F$6,-1),""))) | AN46: =IF(L46="","",IF(L46=1,RarityBackground!$D$1,IF(L46=2,RarityBackground!$D$1*3,IF(L46=3,RarityBackground!$D$1*6,"Error")))) | AO46: =IF(M46="","",VLOOKUP(M46,RarityBackground!$A$7:$B$17,2,0)) -> 90 | AP46: =IF(N46="","",IF(N46="Y",AO46*RarityBackground!$F$5,IF(N46="N",AO46*(IF(RarityBackground!$F$3+(O46-1)>10,10,RarityBackground!$F$3+(O46-1)))))-AO46) -> 810 | AQ46: =IF(P46="","",(P46*AO46)-AO46) | AR46: =IF(Q46="","",Q46*RarityBackground!$D$5) | AS46: =IF(R46="","",VLOOKUP(R46&"Save1Minute", RarityBackground!$C$6:$D$20,2,0)) | AT46: =IF(S46="","",IF(T46="Y",ROUNDUP(S46*RarityBackground!$D$4,0),IF(T46="N",ROUNDUP(S46*RarityBackground!$D$3,0)))) | AU46: =IF(U46="","",IF(V46="Y",((RarityBackground!$D$4*U46)*(RarityBackground!$F$3+W46)),((RarityBackground!$D$3*U46)*(RarityBackground!$F$3+W46)))) | AV46: =IF(X46="","",IF(Y46="Y",(RarityBackground!$D$4*X46)*IF(Z46="Y",RarityBackground!$F$9,RarityBackground!$F$10),(RarityBackground!$D$3*X46)*IF(Z46="Y",RarityBackground!$F$9,RarityBackground!$F$10))) | AW46: =IF(AA46="","",AA46*RarityBackground!$D$2) | AX46: =IF(AB46="","",AB46) | AY46: =IF(AC46="","",VLOOKUP(AC46,RarityBackground!$A$7:$B$17,2,0)) | AZ46: =IF(AD46="","",IF(AD46="Y",AY46*RarityBackground!$F$5,IF(AD46="N",AY46*(IF(RarityBackground!$F$3+(AE46-1)>10,10,RarityBackground!$F$3+(AE46-1)))))-AY46) | BA46: =IF(AF46="","",VLOOKUP(AF46,RarityBackground!$A$7:$B$17,2,0)) | BB46: =IF(AG46="","",IF(AG46="Y",BA46*RarityBackground!$F$5,IF(AG46="N",BA46*(IF(RarityBackground!$F$3+(AH46-1)>10,10,RarityBackground!$F$3+(AH46-1)))))-BA46)
A47: Boots of the Winterlands | B47: Uncommon | C47: Yes | D47: =IF(A47="","",ROUNDUP(SUM(AI47:BB47)*VLOOKUP(B47,RarityBackground!$A$1:$B$6,2,0)*IF(C47="Yes",1,1.1),0)) -> 4050 | E47: based: freedom of movement minus 2 levels | M47: 1 | N47: Y | AC47: 2 | AD47: Y | AI47: =IF(F47="","",F47+IF(G47="",0,VLOOKUP(G47,RarityBackground!$E$7:$F$9,2,0))) | AJ47: =IF(H47="","",F47+IF(H47=1,RarityBackground!$F$1,IF(H47=2,RarityBackground!$F$1*3,IF(H47=3,RarityBackground!$F$1*6,"Error")))) | AK47: =IF(I47="","",IF(I47=1,RarityBackground!$F$2,IF(I47=2,RarityBackground!$F$2*3,IF(I47=3,RarityBackground!$F$2*6,"Error")))) | AL47: =IF(J47="","",ROUNDUP(RarityBackground!$F$6*VLOOKUP(J47, RarityBackground!$A$18:$B$27,2,0),-1)) | AM47: =IF(K47="","",IF(K47="N","",IF(K47="Y",ROUNDUP(RarityBackground!$F$6,-1),""))) | AN47: =IF(L47="","",IF(L47=1,RarityBackground!$D$1,IF(L47=2,RarityBackground!$D$1*3,IF(L47=3,RarityBackground!$D$1*6,"Error")))) | AO47: =IF(M47="","",VLOOKUP(M47,RarityBackground!$A$7:$B$17,2,0)) -> 90 | AP47: =IF(N47="","",IF(N47="Y",AO47*RarityBackground!$F$5,IF(N47="N",AO47*(IF(RarityBackground!$F$3+(O47-1)>10,10,RarityBackground!$F$3+(O47-1)))))-AO47) -> 810 | AQ47: =IF(P47="","",(P47*AO47)-AO47) | AR47: =IF(Q47="","",Q47*RarityBackground!$D$5) | AS47: =IF(R47="","",VLOOKUP(R47&"Save1Minute", RarityBackground!$C$6:$D$20,2,0)) | AT47: =IF(S47="","",IF(T47="Y",ROUNDUP(S47*RarityBackground!$D$4,0),IF(T47="N",ROUNDUP(S47*RarityBackground!$D$3,0)))) | AU47: =IF(U47="","",IF(V47="Y",((RarityBackground!$D$4*U47)*(RarityBackground!$F$3+W47)),((RarityBackground!$D$3*U47)*(RarityBackground!$F$3+W47)))) | AV47: =IF(X47="","",IF(Y47="Y",(RarityBackground!$D$4*X47)*IF(Z47="Y",RarityBackground!$F$9,RarityBackground!$F$10),(RarityBackground!$D$3*X47)*IF(Z47="Y",RarityBackground!$F$9,RarityBackground!$F$10))) | AW47: =IF(AA47="","",AA47*RarityBackground!$D$2) | AX47: =IF(AB47="","",AB47) | AY47: =IF(AC47="","",VLOOKUP(AC47,RarityBackground!$A$7:$B$17,2,0)) -> 180 | AZ47: =IF(AD47="","",IF(AD47="Y",AY47*RarityBackground!$F$5,IF(AD47="N",AY47*(IF(RarityBackground!$F$3+(AE47-1)>10,10,RarityBackground!$F$3+(AE47-1)))))-AY47) -> 1620 | BA47: =IF(AF47="","",VLOOKUP(AF47,RarityBackground!$A$7:$B$17,2,0)) | BB47: =IF(AG47="","",IF(AG47="Y",BA47*RarityBackground!$F$5,IF(AG47="N",BA47*(IF(RarityBackground!$F$3+(AH47-1)>10,10,RarityBackground!$F$3+(AH47-1)))))-BA47)
A48: Bowl of Commanding Water Elementals | B48: Rare | C48: No | D48: =IF(A48="","",ROUNDUP(SUM(AI48:BB48)*VLOOKUP(B48,RarityBackground!$A$1:$B$6,2,0)*IF(C48="Yes",1,1.1),0)) -> 7392 | E48: based: conjure elemental (plus 1 level, no cocentration) | M48: 6 | N48: N | O48: 1 | AI48: =IF(F48="","",F48+IF(G48="",0,VLOOKUP(G48,RarityBackground!$E$7:$F$9,2,0))) | AJ48: =IF(H48="","",F48+IF(H48=1,RarityBackground!$F$1,IF(H48=2,RarityBackground!$F$1*3,IF(H48=3,RarityBackground!$F$1*6,"Error")))) | AK48: =IF(I48="","",IF(I48=1,RarityBackground!$F$2,IF(I48=2,RarityBackground!$F$2*3,IF(I48=3,RarityBackground!$F$2*6,"Error")))) | AL48: =IF(J48="","",ROUNDUP(RarityBackground!$F$6*VLOOKUP(J48, RarityBackground!$A$18:$B$27,2,0),-1)) | AM48: =IF(K48="","",IF(K48="N","",IF(K48="Y",ROUNDUP(RarityBackground!$F$6,-1),""))) | AN48: =IF(L48="","",IF(L48=1,RarityBackground!$D$1,IF(L48=2,RarityBackground!$D$1*3,IF(L48=3,RarityBackground!$D$1*6,"Error")))) | AO48: =IF(M48="","",VLOOKUP(M48,RarityBackground!$A$7:$B$17,2,0)) -> 840 | AP48: =IF(N48="","",IF(N48="Y",AO48*RarityBackground!$F$5,IF(N48="N",AO48*(IF(RarityBackground!$F$3+(O48-1)>10,10,RarityBackground!$F$3+(O48-1)))))-AO48) -> 2520 | AQ48: =IF(P48="","",(P48*AO48)-AO48) | AR48: =IF(Q48="","",Q48*RarityBackground!$D$5) | AS48: =IF(R48="","",VLOOKUP(R48&"Save1Minute", RarityBackground!$C$6:$D$20,2,0)) | AT48: =IF(S48="","",IF(T48="Y",ROUNDUP(S48*RarityBackground!$D$4,0),IF(T48="N",ROUNDUP(S48*RarityBackground!$D$3,0)))) | AU48: =IF(U48="","",IF(V48="Y",((RarityBackground!$D$4*U48)*(RarityBackground!$F$3+W48)),((RarityBackground!$D$3*U48)*(RarityBackground!$F$3+W48)))) | AV48: =IF(X48="","",IF(Y48="Y",(RarityBackground!$D$4*X48)*IF(Z48="Y",RarityBackground!$F$9,RarityBackground!$F$10),(RarityBackground!$D$3*X48)*IF(Z48="Y",RarityBackground!$F$9,RarityBackground!$F$10))) | AW48: =IF(AA48="","",AA48*RarityBackground!$D$2) | AX48: =IF(AB48="","",AB48) | AY48: =IF(AC48="","",VLOOKUP(AC48,RarityBackground!$A$7:$B$17,2,0)) | AZ48: =IF(AD48="","",IF(AD48="Y",AY48*RarityBackground!$F$5,IF(AD48="N",AY48*(IF(RarityBackground!$F$3+(AE48-1)>10,10,RarityBackground!$F$3+(AE48-1)))))-AY48) | BA48: =IF(AF48="","",VLOOKUP(AF48,RarityBackground!$A$7:$B$17,2,0)) | BB48: =IF(AG48="","",IF(AG48="Y",BA48*RarityBackground!$F$5,IF(AG48="N",BA48*(IF(RarityBackground!$F$3+(AH48-1)>10,10,RarityBackground!$F$3+(AH48-1)))))-BA48)
A49: Bracers of Archery | B49: Uncommon | C49: Yes | D49: =IF(A49="","",ROUNDUP(SUM(AI49:BB49)*VLOOKUP(B49,RarityBackground!$A$1:$B$6,2,0)*IF(C49="Yes",1,1.1),0)) -> 2250 | L49: 2 | AI49: =IF(F49="","",F49+IF(G49="",0,VLOOKUP(G49,RarityBackground!$E$7:$F$9,2,0))) | AJ49: =IF(H49="","",F49+IF(H49=1,RarityBackground!$F$1,IF(H49=2,RarityBackground!$F$1*3,IF(H49=3,RarityBackground!$F$1*6,"Error")))) | AK49: =IF(I49="","",IF(I49=1,RarityBackground!$F$2,IF(I49=2,RarityBackground!$F$2*3,IF(I49=3,RarityBackground!$F$2*6,"Error")))) | AL49: =IF(J49="","",ROUNDUP(RarityBackground!$F$6*VLOOKUP(J49, RarityBackground!$A$18:$B$27,2,0),-1)) | AM49: =IF(K49="","",IF(K49="N","",IF(K49="Y",ROUNDUP(RarityBackground!$F$6,-1),""))) | AN49: =IF(L49="","",IF(L49=1,RarityBackground!$D$1,IF(L49=2,RarityBackground!$D$1*3,IF(L49=3,RarityBackground!$D$1*6,"Error")))) -> 1500 | AO49: =IF(M49="","",VLOOKUP(M49,RarityBackground!$A$7:$B$17,2,0)) | AP49: =IF(N49="","",IF(N49="Y",AO49*RarityBackground!$F$5,IF(N49="N",AO49*(IF(RarityBackground!$F$3+(O49-1)>10,10,RarityBackground!$F$3+(O49-1)))))-AO49) | AQ49: =IF(P49="","",(P49*AO49)-AO49) | AR49: =IF(Q49="","",Q49*RarityBackground!$D$5) | AS49: =IF(R49="","",VLOOKUP(R49&"Save1Minute", RarityBackground!$C$6:$D$20,2,0)) | AT49: =IF(S49="","",IF(T49="Y",ROUNDUP(S49*RarityBackground!$D$4,0),IF(T49="N",ROUNDUP(S49*RarityBackground!$D$3,0)))) | AU49: =IF(U49="","",IF(V49="Y",((RarityBackground!$D$4*U49)*(RarityBackground!$F$3+W49)),((RarityBackground!$D$3*U49)*(RarityBackground!$F$3+W49)))) | AV49: =IF(X49="","",IF(Y49="Y",(RarityBackground!$D$4*X49)*IF(Z49="Y",RarityBackground!$F$9,RarityBackground!$F$10),(RarityBackground!$D$3*X49)*IF(Z49="Y",RarityBackground!$F$9,RarityBackground!$F$10))) | AW49: =IF(AA49="","",AA49*RarityBackground!$D$2) | AX49: =IF(AB49="","",AB49) | AY49: =IF(AC49="","",VLOOKUP(AC49,RarityBackground!$A$7:$B$17,2,0)) | AZ49: =IF(AD49="","",IF(AD49="Y",AY49*RarityBackground!$F$5,IF(AD49="N",AY49*(IF(RarityBackground!$F$3+(AE49-1)>10,10,RarityBackground!$F$3+(AE49-1)))))-AY49) | BA49: =IF(AF49="","",VLOOKUP(AF49,RarityBackground!$A$7:$B$17,2,0)) | BB49: =IF(AG49="","",IF(AG49="Y",BA49*RarityBackground!$F$5,IF(AG49="N",BA49*(IF(RarityBackground!$F$3+(AH49-1)>10,10,RarityBackground!$F$3+(AH49-1)))))-BA49)
A50: Bracers of Defense | B50: Rare | C50: Yes | D50: =IF(A50="","",ROUNDUP(SUM(AI50:BB50)*VLOOKUP(B50,RarityBackground!$A$1:$B$6,2,0)*IF(C50="Yes",1,1.1),0)) -> 5400 | H50: 2 | AI50: =IF(F50="","",F50+IF(G50="",0,VLOOKUP(G50,RarityBackground!$E$7:$F$9,2,0))) | AJ50: =IF(H50="","",F50+IF(H50=1,RarityBackground!$F$1,IF(H50=2,RarityBackground!$F$1*3,IF(H50=3,RarityBackground!$F$1*6,"Error")))) -> 2700 | AK50: =IF(I50="","",IF(I50=1,RarityBackground!$F$2,IF(I50=2,RarityBackground!$F$2*3,IF(I50=3,RarityBackground!$F$2*6,"Error")))) | AL50: =IF(J50="","",ROUNDUP(RarityBackground!$F$6*VLOOKUP(J50, RarityBackground!$A$18:$B$27,2,0),-1)) | AM50: =IF(K50="","",IF(K50="N","",IF(K50="Y",ROUNDUP(RarityBackground!$F$6,-1),""))) | AN50: =IF(L50="","",IF(L50=1,RarityBackground!$D$1,IF(L50=2,RarityBackground!$D$1*3,IF(L50=3,RarityBackground!$D$1*6,"Error")))) | AO50: =IF(M50="","",VLOOKUP(M50,RarityBackground!$A$7:$B$17,2,0)) | AP50: =IF(N50="","",IF(N50="Y",AO50*RarityBackground!$F$5,IF(N50="N",AO50*(IF(RarityBackground!$F$3+(O50-1)>10,10,RarityBackground!$F$3+(O50-1)))))-AO50) | AQ50: =IF(P50="","",(P50*AO50)-AO50) | AR50: =IF(Q50="","",Q50*RarityBackground!$D$5) | AS50: =IF(R50="","",VLOOKUP(R50&"Save1Minute", RarityBackground!$C$6:$D$20,2,0)) | AT50: =IF(S50="","",IF(T50="Y",ROUNDUP(S50*RarityBackground!$D$4,0),IF(T50="N",ROUNDUP(S50*RarityBackground!$D$3,0)))) | AU50: =IF(U50="","",IF(V50="Y",((RarityBackground!$D$4*U50)*(RarityBackground!$F$3+W50)),((RarityBackground!$D$3*U50)*(RarityBackground!$F$3+W50)))) | AV50: =IF(X50="","",IF(Y50="Y",(RarityBackground!$D$4*X50)*IF(Z50="Y",RarityBackground!$F$9,RarityBackground!$F$10),(RarityBackground!$D$3*X50)*IF(Z50="Y",RarityBackground!$F$9,RarityBackground!$F$10))) | AW50: =IF(AA50="","",AA50*RarityBackground!$D$2) | AX50: =IF(AB50="","",AB50) | AY50: =IF(AC50="","",VLOOKUP(AC50,RarityBackground!$A$7:$B$17,2,0)) | AZ50: =IF(AD50="","",IF(AD50="Y",AY50*RarityBackground!$F$5,IF(AD50="N",AY50*(IF(RarityBackground!$F$3+(AE50-1)>10,10,RarityBackground!$F$3+(AE50-1)))))-AY50) | BA50: =IF(AF50="","",VLOOKUP(AF50,RarityBackground!$A$7:$B$17,2,0)) | BB50: =IF(AG50="","",IF(AG50="Y",BA50*RarityBackground!$F$5,IF(AG50="N",BA50*(IF(RarityBackground!$F$3+(AH50-1)>10,10,RarityBackground!$F$3+(AH50-1)))))-BA50)
A51: Brazier of Commanding Fire Elementals | B51: Rare | C51: No | D51: =IF(A51="","",ROUNDUP(SUM(AI51:BB51)*VLOOKUP(B51,RarityBackground!$A$1:$B$6,2,0)*IF(C51="Yes",1,1.1),0)) -> 7392 | E51: based: conjure elemental (plus 1 level, no cocentration) | M51: 6 | N51: N | O51: 1 | AI51: =IF(F51="","",F51+IF(G51="",0,VLOOKUP(G51,RarityBackground!$E$7:$F$9,2,0))) | AJ51: =IF(H51="","",F51+IF(H51=1,RarityBackground!$F$1,IF(H51=2,RarityBackground!$F$1*3,IF(H51=3,RarityBackground!$F$1*6,"Error")))) | AK51: =IF(I51="","",IF(I51=1,RarityBackground!$F$2,IF(I51=2,RarityBackground!$F$2*3,IF(I51=3,RarityBackground!$F$2*6,"Error")))) | AL51: =IF(J51="","",ROUNDUP(RarityBackground!$F$6*VLOOKUP(J51, RarityBackground!$A$18:$B$27,2,0),-1)) | AM51: =IF(K51="","",IF(K51="N","",IF(K51="Y",ROUNDUP(RarityBackground!$F$6,-1),""))) | AN51: =IF(L51="","",IF(L51=1,RarityBackground!$D$1,IF(L51=2,RarityBackground!$D$1*3,IF(L51=3,RarityBackground!$D$1*6,"Error")))) | AO51: =IF(M51="","",VLOOKUP(M51,RarityBackground!$A$7:$B$17,2,0)) -> 840 | AP51: =IF(N51="","",IF(N51="Y",AO51*RarityBackground!$F$5,IF(N51="N",AO51*(IF(RarityBackground!$F$3+(O51-1)>10,10,RarityBackground!$F$3+(O51-1)))))-AO51) -> 2520 | AQ51: =IF(P51="","",(P51*AO51)-AO51) | AR51: =IF(Q51="","",Q51*RarityBackground!$D$5) | AS51: =IF(R51="","",VLOOKUP(R51&"Save1Minute", RarityBackground!$C$6:$D$20,2,0)) | AT51: =IF(S51="","",IF(T51="Y",ROUNDUP(S51*RarityBackground!$D$4,0),IF(T51="N",ROUNDUP(S51*RarityBackground!$D$3,0)))) | AU51: =IF(U51="","",IF(V51="Y",((RarityBackground!$D$4*U51)*(RarityBackground!$F$3+W51)),((RarityBackground!$D$3*U51)*(RarityBackground!$F$3+W51)))) | AV51: =IF(X51="","",IF(Y51="Y",(RarityBackground!$D$4*X51)*IF(Z51="Y",RarityBackground!$F$9,RarityBackground!$F$10),(RarityBackground!$D$3*X51)*IF(Z51="Y",RarityBackground!$F$9,RarityBackground!$F$10))) | AW51: =IF(AA51="","",AA51*RarityBackground!$D$2) | AX51: =IF(AB51="","",AB51) | AY51: =IF(AC51="","",VLOOKUP(AC51,RarityBackground!$A$7:$B$17,2,0)) | AZ51: =IF(AD51="","",IF(AD51="Y",AY51*RarityBackground!$F$5,IF(AD51="N",AY51*(IF(RarityBackground!$F$3+(AE51-1)>10,10,RarityBackground!$F$3+(AE51-1)))))-AY51) | BA51: =IF(AF51="","",VLOOKUP(AF51,RarityBackground!$A$7:$B$17,2,0)) | BB51: =IF(AG51="","",IF(AG51="Y",BA51*RarityBackground!$F$5,IF(AG51="N",BA51*(IF(RarityBackground!$F$3+(AH51-1)>10,10,RarityBackground!$F$3+(AH51-1)))))-BA51)
A52: Brooch of Shielding | B52: Uncommon | C52: Yes | D52: =IF(A52="","",ROUNDUP(SUM(AI52:BB52)*VLOOKUP(B52,RarityBackground!$A$1:$B$6,2,0)*IF(C52="Yes",1,1.1),0)) -> 2700 | E52: based: shield for immunity | M52: 1 | N52: Y | AC52: 1 | AD52: Y | AI52: =IF(F52="","",F52+IF(G52="",0,VLOOKUP(G52,RarityBackground!$E$7:$F$9,2,0))) | AJ52: =IF(H52="","",F52+IF(H52=1,RarityBackground!$F$1,IF(H52=2,RarityBackground!$F$1*3,IF(H52=3,RarityBackground!$F$1*6,"Error")))) | AK52: =IF(I52="","",IF(I52=1,RarityBackground!$F$2,IF(I52=2,RarityBackground!$F$2*3,IF(I52=3,RarityBackground!$F$2*6,"Error")))) | AL52: =IF(J52="","",ROUNDUP(RarityBackground!$F$6*VLOOKUP(J52, RarityBackground!$A$18:$B$27,2,0),-1)) | AM52: =IF(K52="","",IF(K52="N","",IF(K52="Y",ROUNDUP(RarityBackground!$F$6,-1),""))) | AN52: =IF(L52="","",IF(L52=1,RarityBackground!$D$1,IF(L52=2,RarityBackground!$D$1*3,IF(L52=3,RarityBackground!$D$1*6,"Error")))) | AO52: =IF(M52="","",VLOOKUP(M52,RarityBackground!$A$7:$B$17,2,0)) -> 90 | AP52: =IF(N52="","",IF(N52="Y",AO52*RarityBackground!$F$5,IF(N52="N",AO52*(IF(RarityBackground!$F$3+(O52-1)>10,10,RarityBackground!$F$3+(O52-1)))))-AO52) -> 810 | AQ52: =IF(P52="","",(P52*AO52)-AO52) | AR52: =IF(Q52="","",Q52*RarityBackground!$D$5) | AS52: =IF(R52="","",VLOOKUP(R52&"Save1Minute", RarityBackground!$C$6:$D$20,2,0)) | AT52: =IF(S52="","",IF(T52="Y",ROUNDUP(S52*RarityBackground!$D$4,0),IF(T52="N",ROUNDUP(S52*RarityBackground!$D$3,0)))) | AU52: =IF(U52="","",IF(V52="Y",((RarityBackground!$D$4*U52)*(RarityBackground!$F$3+W52)),((RarityBackground!$D$3*U52)*(RarityBackground!$F$3+W52)))) | AV52: =IF(X52="","",IF(Y52="Y",(RarityBackground!$D$4*X52)*IF(Z52="Y",RarityBackground!$F$9,RarityBackground!$F$10),(RarityBackground!$D$3*X52)*IF(Z52="Y",RarityBackground!$F$9,RarityBackground!$F$10))) | AW52: =IF(AA52="","",AA52*RarityBackground!$D$2) | AX52: =IF(AB52="","",AB52) | AY52: =IF(AC52="","",VLOOKUP(AC52,RarityBackground!$A$7:$B$17,2,0)) -> 90 | AZ52: =IF(AD52="","",IF(AD52="Y",AY52*RarityBackground!$F$5,IF(AD52="N",AY52*(IF(RarityBackground!$F$3+(AE52-1)>10,10,RarityBackground!$F$3+(AE52-1)))))-AY52) -> 810 | BA52: =IF(AF52="","",VLOOKUP(AF52,RarityBackground!$A$7:$B$17,2,0)) | BB52: =IF(AG52="","",IF(AG52="Y",BA52*RarityBackground!$F$5,IF(AG52="N",BA52*(IF(RarityBackground!$F$3+(AH52-1)>10,10,RarityBackground!$F$3+(AH52-1)))))-BA52)
A53: Broom of Flying | B53: Uncommon | C53: No | D53: =IF(A53="","",ROUNDUP(SUM(AI53:BB53)*VLOOKUP(B53,RarityBackground!$A$1:$B$6,2,0)*IF(C53="Yes",1,1.1),0)) -> 4950 | E53: based: fly | M53: 3 | N53: Y | AI53: =IF(F53="","",F53+IF(G53="",0,VLOOKUP(G53,RarityBackground!$E$7:$F$9,2,0))) | AJ53: =IF(H53="","",F53+IF(H53=1,RarityBackground!$F$1,IF(H53=2,RarityBackground!$F$1*3,IF(H53=3,RarityBackground!$F$1*6,"Error")))) | AK53: =IF(I53="","",IF(I53=1,RarityBackground!$F$2,IF(I53=2,RarityBackground!$F$2*3,IF(I53=3,RarityBackground!$F$2*6,"Error")))) | AL53: =IF(J53="","",ROUNDUP(RarityBackground!$F$6*VLOOKUP(J53, RarityBackground!$A$18:$B$27,2,0),-1)) | AM53: =IF(K53="","",IF(K53="N","",IF(K53="Y",ROUNDUP(RarityBackground!$F$6,-1),""))) | AN53: =IF(L53="","",IF(L53=1,RarityBackground!$D$1,IF(L53=2,RarityBackground!$D$1*3,IF(L53=3,RarityBackground!$D$1*6,"Error")))) | AO53: =IF(M53="","",VLOOKUP(M53,RarityBackground!$A$7:$B$17,2,0)) -> 300 | AP53: =IF(N53="","",IF(N53="Y",AO53*RarityBackground!$F$5,IF(N53="N",AO53*(IF(RarityBackground!$F$3+(O53-1)>10,10,RarityBackground!$F$3+(O53-1)))))-AO53) -> 2700 | AQ53: =IF(P53="","",(P53*AO53)-AO53) | AR53: =IF(Q53="","",Q53*RarityBackground!$D$5) | AS53: =IF(R53="","",VLOOKUP(R53&"Save1Minute", RarityBackground!$C$6:$D$20,2,0)) | AT53: =IF(S53="","",IF(T53="Y",ROUNDUP(S53*RarityBackground!$D$4,0),IF(T53="N",ROUNDUP(S53*RarityBackground!$D$3,0)))) | AU53: =IF(U53="","",IF(V53="Y",((RarityBackground!$D$4*U53)*(RarityBackground!$F$3+W53)),((RarityBackground!$D$3*U53)*(RarityBackground!$F$3+W53)))) | AV53: =IF(X53="","",IF(Y53="Y",(RarityBackground!$D$4*X53)*IF(Z53="Y",RarityBackground!$F$9,RarityBackground!$F$10),(RarityBackground!$D$3*X53)*IF(Z53="Y",RarityBackground!$F$9,RarityBackground!$F$10))) | AW53: =IF(AA53="","",AA53*RarityBackground!$D$2) | AX53: =IF(AB53="","",AB53) | AY53: =IF(AC53="","",VLOOKUP(AC53,RarityBackground!$A$7:$B$17,2,0)) | AZ53: =IF(AD53="","",IF(AD53="Y",AY53*RarityBackground!$F$5,IF(AD53="N",AY53*(IF(RarityBackground!$F$3+(AE53-1)>10,10,RarityBackground!$F$3+(AE53-1)))))-AY53) | BA53: =IF(AF53="","",VLOOKUP(AF53,RarityBackground!$A$7:$B$17,2,0)) | BB53: =IF(AG53="","",IF(AG53="Y",BA53*RarityBackground!$F$5,IF(AG53="N",BA53*(IF(RarityBackground!$F$3+(AH53-1)>10,10,RarityBackground!$F$3+(AH53-1)))))-BA53)
A54: Candle of Invocation | B54: Very Rare | C54: Yes | D54: =IF(A54="","",ROUNDUP(SUM(AI54:BB54)*VLOOKUP(B54,RarityBackground!$A$1:$B$6,2,0)*IF(C54="Yes",1,1.1),0)) -> 28350 | E54: based: gate & unlimited guardian of nature | M54: 9 | N54: N | AC54: 4 | AD54: Y | AI54: =IF(F54="","",F54+IF(G54="",0,VLOOKUP(G54,RarityBackground!$E$7:$F$9,2,0))) | AJ54: =IF(H54="","",F54+IF(H54=1,RarityBackground!$F$1,IF(H54=2,RarityBackground!$F$1*3,IF(H54=3,RarityBackground!$F$1*6,"Error")))) | AK54: =IF(I54="","",IF(I54=1,RarityBackground!$F$2,IF(I54=2,RarityBackground!$F$2*3,IF(I54=3,RarityBackground!$F$2*6,"Error")))) | AL54: =IF(J54="","",ROUNDUP(RarityBackground!$F$6*VLOOKUP(J54, RarityBackground!$A$18:$B$27,2,0),-1)) | AM54: =IF(K54="","",IF(K54="N","",IF(K54="Y",ROUNDUP(RarityBackground!$F$6,-1),""))) | AN54: =IF(L54="","",IF(L54=1,RarityBackground!$D$1,IF(L54=2,RarityBackground!$D$1*3,IF(L54=3,RarityBackground!$D$1*6,"Error")))) | AO54: =IF(M54="","",VLOOKUP(M54,RarityBackground!$A$7:$B$17,2,0)) -> 1650 | AP54: =IF(N54="","",IF(N54="Y",AO54*RarityBackground!$F$5,IF(N54="N",AO54*(IF(RarityBackground!$F$3+(O54-1)>10,10,RarityBackground!$F$3+(O54-1)))))-AO54) -> 3300 | AQ54: =IF(P54="","",(P54*AO54)-AO54) | AR54: =IF(Q54="","",Q54*RarityBackground!$D$5) | AS54: =IF(R54="","",VLOOKUP(R54&"Save1Minute", RarityBackground!$C$6:$D$20,2,0)) | AT54: =IF(S54="","",IF(T54="Y",ROUNDUP(S54*RarityBackground!$D$4,0),IF(T54="N",ROUNDUP(S54*RarityBackground!$D$3,0)))) | AU54: =IF(U54="","",IF(V54="Y",((RarityBackground!$D$4*U54)*(RarityBackground!$F$3+W54)),((RarityBackground!$D$3*U54)*(RarityBackground!$F$3+W54)))) | AV54: =IF(X54="","",IF(Y54="Y",(RarityBackground!$D$4*X54)*IF(Z54="Y",RarityBackground!$F$9,RarityBackground!$F$10),(RarityBackground!$D$3*X54)*IF(Z54="Y",RarityBackground!$F$9,RarityBackground!$F$10))) | AW54: =IF(AA54="","",AA54*RarityBackground!$D$2) | AX54: =IF(AB54="","",AB54) | AY54: =IF(AC54="","",VLOOKUP(AC54,RarityBackground!$A$7:$B$17,2,0)) -> 450 | AZ54: =IF(AD54="","",IF(AD54="Y",AY54*RarityBackground!$F$5,IF(AD54="N",AY54*(IF(RarityBackground!$F$3+(AE54-1)>10,10,RarityBackground!$F$3+(AE54-1)))))-AY54) -> 4050 | BA54: =IF(AF54="","",VLOOKUP(AF54,RarityBackground!$A$7:$B$17,2,0)) | BB54: =IF(AG54="","",IF(AG54="Y",BA54*RarityBackground!$F$5,IF(AG54="N",BA54*(IF(RarityBackground!$F$3+(AH54-1)>10,10,RarityBackground!$F$3+(AH54-1)))))-BA54)
A55: Cap of Water Breathing | B55: Uncommon | C55: No | D55: =IF(A55="","",ROUNDUP(SUM(AI55:BB55)*VLOOKUP(B55,RarityBackground!$A$1:$B$6,2,0)*IF(C55="Yes",1,1.1),0)) -> 4950 | E55: based: water breathing | M55: 3 | N55: Y | AI55: =IF(F55="","",F55+IF(G55="",0,VLOOKUP(G55,RarityBackground!$E$7:$F$9,2,0))) | AJ55: =IF(H55="","",F55+IF(H55=1,RarityBackground!$F$1,IF(H55=2,RarityBackground!$F$1*3,IF(H55=3,RarityBackground!$F$1*6,"Error")))) | AK55: =IF(I55="","",IF(I55=1,RarityBackground!$F$2,IF(I55=2,RarityBackground!$F$2*3,IF(I55=3,RarityBackground!$F$2*6,"Error")))) | AL55: =IF(J55="","",ROUNDUP(RarityBackground!$F$6*VLOOKUP(J55, RarityBackground!$A$18:$B$27,2,0),-1)) | AM55: =IF(K55="","",IF(K55="N","",IF(K55="Y",ROUNDUP(RarityBackground!$F$6,-1),""))) | AN55: =IF(L55="","",IF(L55=1,RarityBackground!$D$1,IF(L55=2,RarityBackground!$D$1*3,IF(L55=3,RarityBackground!$D$1*6,"Error")))) | AO55: =IF(M55="","",VLOOKUP(M55,RarityBackground!$A$7:$B$17,2,0)) -> 300 | AP55: =IF(N55="","",IF(N55="Y",AO55*RarityBackground!$F$5,IF(N55="N",AO55*(IF(RarityBackground!$F$3+(O55-1)>10,10,RarityBackground!$F$3+(O55-1)))))-AO55) -> 2700 | AQ55: =IF(P55="","",(P55*AO55)-AO55) | AR55: =IF(Q55="","",Q55*RarityBackground!$D$5) | AS55: =IF(R55="","",VLOOKUP(R55&"Save1Minute", RarityBackground!$C$6:$D$20,2,0)) | AT55: =IF(S55="","",IF(T55="Y",ROUNDUP(S55*RarityBackground!$D$4,0),IF(T55="N",ROUNDUP(S55*RarityBackground!$D$3,0)))) | AU55: =IF(U55="","",IF(V55="Y",((RarityBackground!$D$4*U55)*(RarityBackground!$F$3+W55)),((RarityBackground!$D$3*U55)*(RarityBackground!$F$3+W55)))) | AV55: =IF(X55="","",IF(Y55="Y",(RarityBackground!$D$4*X55)*IF(Z55="Y",RarityBackground!$F$9,RarityBackground!$F$10),(RarityBackground!$D$3*X55)*IF(Z55="Y",RarityBackground!$F$9,RarityBackground!$F$10))) | AW55: =IF(AA55="","",AA55*RarityBackground!$D$2) | AX55: =IF(AB55="","",AB55) | AY55: =IF(AC55="","",VLOOKUP(AC55,RarityBackground!$A$7:$B$17,2,0)) | AZ55: =IF(AD55="","",IF(AD55="Y",AY55*RarityBackground!$F$5,IF(AD55="N",AY55*(IF(RarityBackground!$F$3+(AE55-1)>10,10,RarityBackground!$F$3+(AE55-1)))))-AY55) | BA55: =IF(AF55="","",VLOOKUP(AF55,RarityBackground!$A$7:$B$17,2,0)) | BB55: =IF(AG55="","",IF(AG55="Y",BA55*RarityBackground!$F$5,IF(AG55="N",BA55*(IF(RarityBackground!$F$3+(AH55-1)>10,10,RarityBackground!$F$3+(AH55-1)))))-BA55)
A56: Cape of the Mountebank | B56: Rare | C56: No | D56: =IF(A56="","",ROUNDUP(SUM(AI56:BB56)*VLOOKUP(B56,RarityBackground!$A$1:$B$6,2,0)*IF(C56="Yes",1,1.1),0)) -> 3960 | E56: based: dimension door | M56: 4 | N56: N | O56: 1 | AI56: =IF(F56="","",F56+IF(G56="",0,VLOOKUP(G56,RarityBackground!$E$7:$F$9,2,0))) | AJ56: =IF(H56="","",F56+IF(H56=1,RarityBackground!$F$1,IF(H56=2,RarityBackground!$F$1*3,IF(H56=3,RarityBackground!$F$1*6,"Error")))) | AK56: =IF(I56="","",IF(I56=1,RarityBackground!$F$2,IF(I56=2,RarityBackground!$F$2*3,IF(I56=3,RarityBackground!$F$2*6,"Error")))) | AL56: =IF(J56="","",ROUNDUP(RarityBackground!$F$6*VLOOKUP(J56, RarityBackground!$A$18:$B$27,2,0),-1)) | AM56: =IF(K56="","",IF(K56="N","",IF(K56="Y",ROUNDUP(RarityBackground!$F$6,-1),""))) | AN56: =IF(L56="","",IF(L56=1,RarityBackground!$D$1,IF(L56=2,RarityBackground!$D$1*3,IF(L56=3,RarityBackground!$D$1*6,"Error")))) | AO56: =IF(M56="","",VLOOKUP(M56,RarityBackground!$A$7:$B$17,2,0)) -> 450 | AP56: =IF(N56="","",IF(N56="Y",AO56*RarityBackground!$F$5,IF(N56="N",AO56*(IF(RarityBackground!$F$3+(O56-1)>10,10,RarityBackground!$F$3+(O56-1)))))-AO56) -> 1350 | AQ56: =IF(P56="","",(P56*AO56)-AO56) | AR56: =IF(Q56="","",Q56*RarityBackground!$D$5) | AS56: =IF(R56="","",VLOOKUP(R56&"Save1Minute", RarityBackground!$C$6:$D$20,2,0)) | AT56: =IF(S56="","",IF(T56="Y",ROUNDUP(S56*RarityBackground!$D$4,0),IF(T56="N",ROUNDUP(S56*RarityBackground!$D$3,0)))) | AU56: =IF(U56="","",IF(V56="Y",((RarityBackground!$D$4*U56)*(RarityBackground!$F$3+W56)),((RarityBackground!$D$3*U56)*(RarityBackground!$F$3+W56)))) | AV56: =IF(X56="","",IF(Y56="Y",(RarityBackground!$D$4*X56)*IF(Z56="Y",RarityBackground!$F$9,RarityBackground!$F$10),(RarityBackground!$D$3*X56)*IF(Z56="Y",RarityBackground!$F$9,RarityBackground!$F$10))) | AW56: =IF(AA56="","",AA56*RarityBackground!$D$2) | AX56: =IF(AB56="","",AB56) | AY56: =IF(AC56="","",VLOOKUP(AC56,RarityBackground!$A$7:$B$17,2,0)) | AZ56: =IF(AD56="","",IF(AD56="Y",AY56*RarityBackground!$F$5,IF(AD56="N",AY56*(IF(RarityBackground!$F$3+(AE56-1)>10,10,RarityBackground!$F$3+(AE56-1)))))-AY56) | BA56: =IF(AF56="","",VLOOKUP(AF56,RarityBackground!$A$7:$B$17,2,0)) | BB56: =IF(AG56="","",IF(AG56="Y",BA56*RarityBackground!$F$5,IF(AG56="N",BA56*(IF(RarityBackground!$F$3+(AH56-1)>10,10,RarityBackground!$F$3+(AH56-1)))))-BA56)
A57: Carpet of Flying, 3x5 | B57: Very Rare | C57: No | D57: =IF(A57="","",ROUNDUP(SUM(AI57:BB57)*VLOOKUP(B57,RarityBackground!$A$1:$B$6,2,0)*IF(C57="Yes",1,1.1),0)) -> 14850 | E57: based: fly, 1 creature (plus 1 level, no concentration) | M57: 4 | N57: Y | AI57: =IF(F57="","",F57+IF(G57="",0,VLOOKUP(G57,RarityBackground!$E$7:$F$9,2,0))) | AJ57: =IF(H57="","",F57+IF(H57=1,RarityBackground!$F$1,IF(H57=2,RarityBackground!$F$1*3,IF(H57=3,RarityBackground!$F$1*6,"Error")))) | AK57: =IF(I57="","",IF(I57=1,RarityBackground!$F$2,IF(I57=2,RarityBackground!$F$2*3,IF(I57=3,RarityBackground!$F$2*6,"Error")))) | AL57: =IF(J57="","",ROUNDUP(RarityBackground!$F$6*VLOOKUP(J57, RarityBackground!$A$18:$B$27,2,0),-1)) | AM57: =IF(K57="","",IF(K57="N","",IF(K57="Y",ROUNDUP(RarityBackground!$F$6,-1),""))) | AN57: =IF(L57="","",IF(L57=1,RarityBackground!$D$1,IF(L57=2,RarityBackground!$D$1*3,IF(L57=3,RarityBackground!$D$1*6,"Error")))) | AO57: =IF(M57="","",VLOOKUP(M57,RarityBackground!$A$7:$B$17,2,0)) -> 450 | AP57: =IF(N57="","",IF(N57="Y",AO57*RarityBackground!$F$5,IF(N57="N",AO57*(IF(RarityBackground!$F$3+(O57-1)>10,10,RarityBackground!$F$3+(O57-1)))))-AO57) -> 4050 | AQ57: =IF(P57="","",(P57*AO57)-AO57) | AR57: =IF(Q57="","",Q57*RarityBackground!$D$5) | AS57: =IF(R57="","",VLOOKUP(R57&"Save1Minute", RarityBackground!$C$6:$D$20,2,0)) | AT57: =IF(S57="","",IF(T57="Y",ROUNDUP(S57*RarityBackground!$D$4,0),IF(T57="N",ROUNDUP(S57*RarityBackground!$D$3,0)))) | AU57: =IF(U57="","",IF(V57="Y",((RarityBackground!$D$4*U57)*(RarityBackground!$F$3+W57)),((RarityBackground!$D$3*U57)*(RarityBackground!$F$3+W57)))) | AV57: =IF(X57="","",IF(Y57="Y",(RarityBackground!$D$4*X57)*IF(Z57="Y",RarityBackground!$F$9,RarityBackground!$F$10),(RarityBackground!$D$3*X57)*IF(Z57="Y",RarityBackground!$F$9,RarityBackground!$F$10))) | AW57: =IF(AA57="","",AA57*RarityBackground!$D$2) | AX57: =IF(AB57="","",AB57) | AY57: =IF(AC57="","",VLOOKUP(AC57,RarityBackground!$A$7:$B$17,2,0)) | AZ57: =IF(AD57="","",IF(AD57="Y",AY57*RarityBackground!$F$5,IF(AD57="N",AY57*(IF(RarityBackground!$F$3+(AE57-1)>10,10,RarityBackground!$F$3+(AE57-1)))))-AY57) | BA57: =IF(AF57="","",VLOOKUP(AF57,RarityBackground!$A$7:$B$17,2,0)) | BB57: =IF(AG57="","",IF(AG57="Y",BA57*RarityBackground!$F$5,IF(AG57="N",BA57*(IF(RarityBackground!$F$3+(AH57-1)>10,10,RarityBackground!$F$3+(AH57-1)))))-BA57)
A58: Carpet of Flying, 4x6 | B58: Very Rare | C58: No | D58: =IF(A58="","",ROUNDUP(SUM(AI58:BB58)*VLOOKUP(B58,RarityBackground!$A$1:$B$6,2,0)*IF(C58="Yes",1,1.1),0)) -> 29700 | E58: based: fly, 2 creatures (plus 1 level, no concentration) | M58: 4 | N58: Y | AC58: 4 | AD58: Y | AI58: =IF(F58="","",F58+IF(G58="",0,VLOOKUP(G58,RarityBackground!$E$7:$F$9,2,0))) | AJ58: =IF(H58="","",F58+IF(H58=1,RarityBackground!$F$1,IF(H58=2,RarityBackground!$F$1*3,IF(H58=3,RarityBackground!$F$1*6,"Error")))) | AK58: =IF(I58="","",IF(I58=1,RarityBackground!$F$2,IF(I58=2,RarityBackground!$F$2*3,IF(I58=3,RarityBackground!$F$2*6,"Error")))) | AL58: =IF(J58="","",ROUNDUP(RarityBackground!$F$6*VLOOKUP(J58, RarityBackground!$A$18:$B$27,2,0),-1)) | AM58: =IF(K58="","",IF(K58="N","",IF(K58="Y",ROUNDUP(RarityBackground!$F$6,-1),""))) | AN58: =IF(L58="","",IF(L58=1,RarityBackground!$D$1,IF(L58=2,RarityBackground!$D$1*3,IF(L58=3,RarityBackground!$D$1*6,"Error")))) | AO58: =IF(M58="","",VLOOKUP(M58,RarityBackground!$A$7:$B$17,2,0)) -> 450 | AP58: =IF(N58="","",IF(N58="Y",AO58*RarityBackground!$F$5,IF(N58="N",AO58*(IF(RarityBackground!$F$3+(O58-1)>10,10,RarityBackground!$F$3+(O58-1)))))-AO58) -> 4050 | AQ58: =IF(P58="","",(P58*AO58)-AO58) | AR58: =IF(Q58="","",Q58*RarityBackground!$D$5) | AS58: =IF(R58="","",VLOOKUP(R58&"Save1Minute", RarityBackground!$C$6:$D$20,2,0)) | AT58: =IF(S58="","",IF(T58="Y",ROUNDUP(S58*RarityBackground!$D$4,0),IF(T58="N",ROUNDUP(S58*RarityBackground!$D$3,0)))) | AU58: =IF(U58="","",IF(V58="Y",((RarityBackground!$D$4*U58)*(RarityBackground!$F$3+W58)),((RarityBackground!$D$3*U58)*(RarityBackground!$F$3+W58)))) | AV58: =IF(X58="","",IF(Y58="Y",(RarityBackground!$D$4*X58)*IF(Z58="Y",RarityBackground!$F$9,RarityBackground!$F$10),(RarityBackground!$D$3*X58)*IF(Z58="Y",RarityBackground!$F$9,RarityBackground!$F$10))) | AW58: =IF(AA58="","",AA58*RarityBackground!$D$2) | AX58: =IF(AB58="","",AB58) | AY58: =IF(AC58="","",VLOOKUP(AC58,RarityBackground!$A$7:$B$17,2,0)) -> 450 | AZ58: =IF(AD58="","",IF(AD58="Y",AY58*RarityBackground!$F$5,IF(AD58="N",AY58*(IF(RarityBackground!$F$3+(AE58-1)>10,10,RarityBackground!$F$3+(AE58-1)))))-AY58) -> 4050 | BA58: =IF(AF58="","",VLOOKUP(AF58,RarityBackground!$A$7:$B$17,2,0)) | BB58: =IF(AG58="","",IF(AG58="Y",BA58*RarityBackground!$F$5,IF(AG58="N",BA58*(IF(RarityBackground!$F$3+(AH58-1)>10,10,RarityBackground!$F$3+(AH58-1)))))-BA58)
A59: Carpet of Flying, 5x7 | B59: Very Rare | C59: No | D59: =IF(A59="","",ROUNDUP(SUM(AI59:BB59)*VLOOKUP(B59,RarityBackground!$A$1:$B$6,2,0)*IF(C59="Yes",1,1.1),0)) -> 44550 | E59: based: fly, 3 creatures (plus 1 level, no concentration) | M59: 4 | N59: Y | AC59: 4 | AD59: Y | AF59: 4 | AG59: Y | AI59: =IF(F59="","",F59+IF(G59="",0,VLOOKUP(G59,RarityBackground!$E$7:$F$9,2,0))) | AJ59: =IF(H59="","",F59+IF(H59=1,RarityBackground!$F$1,IF(H59=2,RarityBackground!$F$1*3,IF(H59=3,RarityBackground!$F$1*6,"Error")))) | AK59: =IF(I59="","",IF(I59=1,RarityBackground!$F$2,IF(I59=2,RarityBackground!$F$2*3,IF(I59=3,RarityBackground!$F$2*6,"Error")))) | AL59: =IF(J59="","",ROUNDUP(RarityBackground!$F$6*VLOOKUP(J59, RarityBackground!$A$18:$B$27,2,0),-1)) | AM59: =IF(K59="","",IF(K59="N","",IF(K59="Y",ROUNDUP(RarityBackground!$F$6,-1),""))) | AN59: =IF(L59="","",IF(L59=1,RarityBackground!$D$1,IF(L59=2,RarityBackground!$D$1*3,IF(L59=3,RarityBackground!$D$1*6,"Error")))) | AO59: =IF(M59="","",VLOOKUP(M59,RarityBackground!$A$7:$B$17,2,0)) -> 450 | AP59: =IF(N59="","",IF(N59="Y",AO59*RarityBackground!$F$5,IF(N59="N",AO59*(IF(RarityBackground!$F$3+(O59-1)>10,10,RarityBackground!$F$3+(O59-1)))))-AO59) -> 4050 | AQ59: =IF(P59="","",(P59*AO59)-AO59) | AR59: =IF(Q59="","",Q59*RarityBackground!$D$5) | AS59: =IF(R59="","",VLOOKUP(R59&"Save1Minute", RarityBackground!$C$6:$D$20,2,0)) | AT59: =IF(S59="","",IF(T59="Y",ROUNDUP(S59*RarityBackground!$D$4,0),IF(T59="N",ROUNDUP(S59*RarityBackground!$D$3,0)))) | AU59: =IF(U59="","",IF(V59="Y",((RarityBackground!$D$4*U59)*(RarityBackground!$F$3+W59)),((RarityBackground!$D$3*U59)*(RarityBackground!$F$3+W59)))) | AV59: =IF(X59="","",IF(Y59="Y",(RarityBackground!$D$4*X59)*IF(Z59="Y",RarityBackground!$F$9,RarityBackground!$F$10),(RarityBackground!$D$3*X59)*IF(Z59="Y",RarityBackground!$F$9,RarityBackground!$F$10))) | AW59: =IF(AA59="","",AA59*RarityBackground!$D$2) | AX59: =IF(AB59="","",AB59) | AY59: =IF(AC59="","",VLOOKUP(AC59,RarityBackground!$A$7:$B$17,2,0)) -> 450 | AZ59: =IF(AD59="","",IF(AD59="Y",AY59*RarityBackground!$F$5,IF(AD59="N",AY59*(IF(RarityBackground!$F$3+(AE59-1)>10,10,RarityBackground!$F$3+(AE59-1)))))-AY59) -> 4050 | BA59: =IF(AF59="","",VLOOKUP(AF59,RarityBackground!$A$7:$B$17,2,0)) -> 450 | BB59: =IF(AG59="","",IF(AG59="Y",BA59*RarityBackground!$F$5,IF(AG59="N",BA59*(IF(RarityBackground!$F$3+(AH59-1)>10,10,RarityBackground!$F$3+(AH59-1)))))-BA59) -> 4050
A60: Carpet of Flying, 6x9 | B60: Very Rare | C60: No | D60: =IF(A60="","",ROUNDUP(SUM(AI60:BB60)*VLOOKUP(B60,RarityBackground!$A$1:$B$6,2,0)*IF(C60="Yes",1,1.1),0)) -> 59400 | E60: based: fly, 4 creatures (plus 1 level, no concentration) | M60: 4 | N60: Y | AB60: 4500 | AC60: 4 | AD60: Y | AF60: 4 | AG60: Y | AI60: =IF(F60="","",F60+IF(G60="",0,VLOOKUP(G60,RarityBackground!$E$7:$F$9,2,0))) | AJ60: =IF(H60="","",F60+IF(H60=1,RarityBackground!$F$1,IF(H60=2,RarityBackground!$F$1*3,IF(H60=3,RarityBackground!$F$1*6,"Error")))) | AK60: =IF(I60="","",IF(I60=1,RarityBackground!$F$2,IF(I60=2,RarityBackground!$F$2*3,IF(I60=3,RarityBackground!$F$2*6,"Error")))) | AL60: =IF(J60="","",ROUNDUP(RarityBackground!$F$6*VLOOKUP(J60, RarityBackground!$A$18:$B$27,2,0),-1)) | AM60: =IF(K60="","",IF(K60="N","",IF(K60="Y",ROUNDUP(RarityBackground!$F$6,-1),""))) | AN60: =IF(L60="","",IF(L60=1,RarityBackground!$D$1,IF(L60=2,RarityBackground!$D$1*3,IF(L60=3,RarityBackground!$D$1*6,"Error")))) | AO60: =IF(M60="","",VLOOKUP(M60,RarityBackground!$A$7:$B$17,2,0)) -> 450 | AP60: =IF(N60="","",IF(N60="Y",AO60*RarityBackground!$F$5,IF(N60="N",AO60*(IF(RarityBackground!$F$3+(O60-1)>10,10,RarityBackground!$F$3+(O60-1)))))-AO60) -> 4050 | AQ60: =IF(P60="","",(P60*AO60)-AO60) | AR60: =IF(Q60="","",Q60*RarityBackground!$D$5) | AS60: =IF(R60="","",VLOOKUP(R60&"Save1Minute", RarityBackground!$C$6:$D$20,2,0)) | AT60: =IF(S60="","",IF(T60="Y",ROUNDUP(S60*RarityBackground!$D$4,0),IF(T60="N",ROUNDUP(S60*RarityBackground!$D$3,0)))) | AU60: =IF(U60="","",IF(V60="Y",((RarityBackground!$D$4*U60)*(RarityBackground!$F$3+W60)),((RarityBackground!$D$3*U60)*(RarityBackground!$F$3+W60)))) | AV60: =IF(X60="","",IF(Y60="Y",(RarityBackground!$D$4*X60)*IF(Z60="Y",RarityBackground!$F$9,RarityBackground!$F$10),(RarityBackground!$D$3*X60)*IF(Z60="Y",RarityBackground!$F$9,RarityBackground!$F$10))) | AW60: =IF(AA60="","",AA60*RarityBackground!$D$2) | AX60: =IF(AB60="","",AB60) -> 4500 | AY60: =IF(AC60="","",VLOOKUP(AC60,RarityBackground!$A$7:$B$17,2,0)) -> 450 | AZ60: =IF(AD60="","",IF(AD60="Y",AY60*RarityBackground!$F$5,IF(AD60="N",AY60*(IF(RarityBackground!$F$3+(AE60-1)>10,10,RarityBackground!$F$3+(AE60-1)))))-AY60) -> 4050 | BA60: =IF(AF60="","",VLOOKUP(AF60,RarityBackground!$A$7:$B$17,2,0)) -> 450 | BB60: =IF(AG60="","",IF(AG60="Y",BA60*RarityBackground!$F$5,IF(AG60="N",BA60*(IF(RarityBackground!$F$3+(AH60-1)>10,10,RarityBackground!$F$3+(AH60-1)))))-BA60) -> 4050
A61: Censer of Controlling Air Elementals | B61: Rare | C61: No | D61: =IF(A61="","",ROUNDUP(SUM(AI61:BB61)*VLOOKUP(B61,RarityBackground!$A$1:$B$6,2,0)*IF(C61="Yes",1,1.1),0)) -> 7392 | E61: based: conjure elemental (plus 1 level, no cocentration) | M61: 6 | N61: N | O61: 1 | AI61: =IF(F61="","",F61+IF(G61="",0,VLOOKUP(G61,RarityBackground!$E$7:$F$9,2,0))) | AJ61: =IF(H61="","",F61+IF(H61=1,RarityBackground!$F$1,IF(H61=2,RarityBackground!$F$1*3,IF(H61=3,RarityBackground!$F$1*6,"Error")))) | AK61: =IF(I61="","",IF(I61=1,RarityBackground!$F$2,IF(I61=2,RarityBackground!$F$2*3,IF(I61=3,RarityBackground!$F$2*6,"Error")))) | AL61: =IF(J61="","",ROUNDUP(RarityBackground!$F$6*VLOOKUP(J61, RarityBackground!$A$18:$B$27,2,0),-1)) | AM61: =IF(K61="","",IF(K61="N","",IF(K61="Y",ROUNDUP(RarityBackground!$F$6,-1),""))) | AN61: =IF(L61="","",IF(L61=1,RarityBackground!$D$1,IF(L61=2,RarityBackground!$D$1*3,IF(L61=3,RarityBackground!$D$1*6,"Error")))) | AO61: =IF(M61="","",VLOOKUP(M61,RarityBackground!$A$7:$B$17,2,0)) -> 840 | AP61: =IF(N61="","",IF(N61="Y",AO61*RarityBackground!$F$5,IF(N61="N",AO61*(IF(RarityBackground!$F$3+(O61-1)>10,10,RarityBackground!$F$3+(O61-1)))))-AO61) -> 2520 | AQ61: =IF(P61="","",(P61*AO61)-AO61) | AR61: =IF(Q61="","",Q61*RarityBackground!$D$5) | AS61: =IF(R61="","",VLOOKUP(R61&"Save1Minute", RarityBackground!$C$6:$D$20,2,0)) | AT61: =IF(S61="","",IF(T61="Y",ROUNDUP(S61*RarityBackground!$D$4,0),IF(T61="N",ROUNDUP(S61*RarityBackground!$D$3,0)))) | AU61: =IF(U61="","",IF(V61="Y",((RarityBackground!$D$4*U61)*(RarityBackground!$F$3+W61)),((RarityBackground!$D$3*U61)*(RarityBackground!$F$3+W61)))) | AV61: =IF(X61="","",IF(Y61="Y",(RarityBackground!$D$4*X61)*IF(Z61="Y",RarityBackground!$F$9,RarityBackground!$F$10),(RarityBackground!$D$3*X61)*IF(Z61="Y",RarityBackground!$F$9,RarityBackground!$F$10))) | AW61: =IF(AA61="","",AA61*RarityBackground!$D$2) | AX61: =IF(AB61="","",AB61) | AY61: =IF(AC61="","",VLOOKUP(AC61,RarityBackground!$A$7:$B$17,2,0)) | AZ61: =IF(AD61="","",IF(AD61="Y",AY61*RarityBackground!$F$5,IF(AD61="N",AY61*(IF(RarityBackground!$F$3+(AE61-1)>10,10,RarityBackground!$F$3+(AE61-1)))))-AY61) | BA61: =IF(AF61="","",VLOOKUP(AF61,RarityBackground!$A$7:$B$17,2,0)) | BB61: =IF(AG61="","",IF(AG61="Y",BA61*RarityBackground!$F$5,IF(AG61="N",BA61*(IF(RarityBackground!$F$3+(AH61-1)>10,10,RarityBackground!$F$3+(AH61-1)))))-BA61)
A62: Chime of Opening | B62: Rare | C62: Yes | D62: =IF(A62="","",ROUNDUP(SUM(AI62:BB62)*VLOOKUP(B62,RarityBackground!$A$1:$B$6,2,0)*IF(C62="Yes",1,1.1),0)) -> 4320 | E62: based: knock | M62: 2 | N62: N | P62: 10 | AI62: =IF(F62="","",F62+IF(G62="",0,VLOOKUP(G62,RarityBackground!$E$7:$F$9,2,0))) | AJ62: =IF(H62="","",F62+IF(H62=1,RarityBackground!$F$1,IF(H62=2,RarityBackground!$F$1*3,IF(H62=3,RarityBackground!$F$1*6,"Error")))) | AK62: =IF(I62="","",IF(I62=1,RarityBackground!$F$2,IF(I62=2,RarityBackground!$F$2*3,IF(I62=3,RarityBackground!$F$2*6,"Error")))) | AL62: =IF(J62="","",ROUNDUP(RarityBackground!$F$6*VLOOKUP(J62, RarityBackground!$A$18:$B$27,2,0),-1)) | AM62: =IF(K62="","",IF(K62="N","",IF(K62="Y",ROUNDUP(RarityBackground!$F$6,-1),""))) | AN62: =IF(L62="","",IF(L62=1,RarityBackground!$D$1,IF(L62=2,RarityBackground!$D$1*3,IF(L62=3,RarityBackground!$D$1*6,"Error")))) | AO62: =IF(M62="","",VLOOKUP(M62,RarityBackground!$A$7:$B$17,2,0)) -> 180 | AP62: =IF(N62="","",IF(N62="Y",AO62*RarityBackground!$F$5,IF(N62="N",AO62*(IF(RarityBackground!$F$3+(O62-1)>10,10,RarityBackground!$F$3+(O62-1)))))-AO62) -> 360 | AQ62: =IF(P62="","",(P62*AO62)-AO62) -> 1620 | AR62: =IF(Q62="","",Q62*RarityBackground!$D$5) | AS62: =IF(R62="","",VLOOKUP(R62&"Save1Minute", RarityBackground!$C$6:$D$20,2,0)) | AT62: =IF(S62="","",IF(T62="Y",ROUNDUP(S62*RarityBackground!$D$4,0),IF(T62="N",ROUNDUP(S62*RarityBackground!$D$3,0)))) | AU62: =IF(U62="","",IF(V62="Y",((RarityBackground!$D$4*U62)*(RarityBackground!$F$3+W62)),((RarityBackground!$D$3*U62)*(RarityBackground!$F$3+W62)))) | AV62: =IF(X62="","",IF(Y62="Y",(RarityBackground!$D$4*X62)*IF(Z62="Y",RarityBackground!$F$9,RarityBackground!$F$10),(RarityBackground!$D$3*X62)*IF(Z62="Y",RarityBackground!$F$9,RarityBackground!$F$10))) | AW62: =IF(AA62="","",AA62*RarityBackground!$D$2) | AX62: =IF(AB62="","",AB62) | AY62: =IF(AC62="","",VLOOKUP(AC62,RarityBackground!$A$7:$B$17,2,0)) | AZ62: =IF(AD62="","",IF(AD62="Y",AY62*RarityBackground!$F$5,IF(AD62="N",AY62*(IF(RarityBackground!$F$3+(AE62-1)>10,10,RarityBackground!$F$3+(AE62-1)))))-AY62) | BA62: =IF(AF62="","",VLOOKUP(AF62,RarityBackground!$A$7:$B$17,2,0)) | BB62: =IF(AG62="","",IF(AG62="Y",BA62*RarityBackground!$F$5,IF(AG62="N",BA62*(IF(RarityBackground!$F$3+(AH62-1)>10,10,RarityBackground!$F$3+(AH62-1)))))-BA62)
A63: Circlet of Blasting | B63: Uncommon | C63: No | D63: =IF(A63="","",ROUNDUP(SUM(AI63:BB63)*VLOOKUP(B63,RarityBackground!$A$1:$B$6,2,0)*IF(C63="Yes",1,1.1),0)) -> 1188 | E63: based: scorching ray | M63: 2 | N63: N | O63: 1 | AI63: =IF(F63="","",F63+IF(G63="",0,VLOOKUP(G63,RarityBackground!$E$7:$F$9,2,0))) | AJ63: =IF(H63="","",F63+IF(H63=1,RarityBackground!$F$1,IF(H63=2,RarityBackground!$F$1*3,IF(H63=3,RarityBackground!$F$1*6,"Error")))) | AK63: =IF(I63="","",IF(I63=1,RarityBackground!$F$2,IF(I63=2,RarityBackground!$F$2*3,IF(I63=3,RarityBackground!$F$2*6,"Error")))) | AL63: =IF(J63="","",ROUNDUP(RarityBackground!$F$6*VLOOKUP(J63, RarityBackground!$A$18:$B$27,2,0),-1)) | AM63: =IF(K63="","",IF(K63="N","",IF(K63="Y",ROUNDUP(RarityBackground!$F$6,-1),""))) | AN63: =IF(L63="","",IF(L63=1,RarityBackground!$D$1,IF(L63=2,RarityBackground!$D$1*3,IF(L63=3,RarityBackground!$D$1*6,"Error")))) | AO63: =IF(M63="","",VLOOKUP(M63,RarityBackground!$A$7:$B$17,2,0)) -> 180 | AP63: =IF(N63="","",IF(N63="Y",AO63*RarityBackground!$F$5,IF(N63="N",AO63*(IF(RarityBackground!$F$3+(O63-1)>10,10,RarityBackground!$F$3+(O63-1)))))-AO63) -> 540 | AQ63: =IF(P63="","",(P63*AO63)-AO63) | AR63: =IF(Q63="","",Q63*RarityBackground!$D$5) | AS63: =IF(R63="","",VLOOKUP(R63&"Save1Minute", RarityBackground!$C$6:$D$20,2,0)) | AT63: =IF(S63="","",IF(T63="Y",ROUNDUP(S63*RarityBackground!$D$4,0),IF(T63="N",ROUNDUP(S63*RarityBackground!$D$3,0)))) | AU63: =IF(U63="","",IF(V63="Y",((RarityBackground!$D$4*U63)*(RarityBackground!$F$3+W63)),((RarityBackground!$D$3*U63)*(RarityBackground!$F$3+W63)))) | AV63: =IF(X63="","",IF(Y63="Y",(RarityBackground!$D$4*X63)*IF(Z63="Y",RarityBackground!$F$9,RarityBackground!$F$10),(RarityBackground!$D$3*X63)*IF(Z63="Y",RarityBackground!$F$9,RarityBackground!$F$10))) | AW63: =IF(AA63="","",AA63*RarityBackground!$D$2) | AX63: =IF(AB63="","",AB63) | AY63: =IF(AC63="","",VLOOKUP(AC63,RarityBackground!$A$7:$B$17,2,0)) | AZ63: =IF(AD63="","",IF(AD63="Y",AY63*RarityBackground!$F$5,IF(AD63="N",AY63*(IF(RarityBackground!$F$3+(AE63-1)>10,10,RarityBackground!$F$3+(AE63-1)))))-AY63) | BA63: =IF(AF63="","",VLOOKUP(AF63,RarityBackground!$A$7:$B$17,2,0)) | BB63: =IF(AG63="","",IF(AG63="Y",BA63*RarityBackground!$F$5,IF(AG63="N",BA63*(IF(RarityBackground!$F$3+(AH63-1)>10,10,RarityBackground!$F$3+(AH63-1)))))-BA63)
A64: Cloak of Arachnida | B64: Very Rare | C64: Yes | D64: =IF(A64="","",ROUNDUP(SUM(AI64:BB64)*VLOOKUP(B64,RarityBackground!$A$1:$B$6,2,0)*IF(C64="Yes",1,1.1),0)) -> 12780 | E64: based: spider climb (plus 1 level, no concentration), web | M64: 1 | N64: Y | AC64: 3 | AD64: Y | AF64: 1 | AG64: N | AH64: 1 | AI64: =IF(F64="","",F64+IF(G64="",0,VLOOKUP(G64,RarityBackground!$E$7:$F$9,2,0))) | AJ64: =IF(H64="","",F64+IF(H64=1,RarityBackground!$F$1,IF(H64=2,RarityBackground!$F$1*3,IF(H64=3,RarityBackground!$F$1*6,"Error")))) | AK64: =IF(I64="","",IF(I64=1,RarityBackground!$F$2,IF(I64=2,RarityBackground!$F$2*3,IF(I64=3,RarityBackground!$F$2*6,"Error")))) | AL64: =IF(J64="","",ROUNDUP(RarityBackground!$F$6*VLOOKUP(J64, RarityBackground!$A$18:$B$27,2,0),-1)) | AM64: =IF(K64="","",IF(K64="N","",IF(K64="Y",ROUNDUP(RarityBackground!$F$6,-1),""))) | AN64: =IF(L64="","",IF(L64=1,RarityBackground!$D$1,IF(L64=2,RarityBackground!$D$1*3,IF(L64=3,RarityBackground!$D$1*6,"Error")))) | AO64: =IF(M64="","",VLOOKUP(M64,RarityBackground!$A$7:$B$17,2,0)) -> 90 | AP64: =IF(N64="","",IF(N64="Y",AO64*RarityBackground!$F$5,IF(N64="N",AO64*(IF(RarityBackground!$F$3+(O64-1)>10,10,RarityBackground!$F$3+(O64-1)))))-AO64) -> 810 | AQ64: =IF(P64="","",(P64*AO64)-AO64) | AR64: =IF(Q64="","",Q64*RarityBackground!$D$5) | AS64: =IF(R64="","",VLOOKUP(R64&"Save1Minute", RarityBackground!$C$6:$D$20,2,0)) | AT64: =IF(S64="","",IF(T64="Y",ROUNDUP(S64*RarityBackground!$D$4,0),IF(T64="N",ROUNDUP(S64*RarityBackground!$D$3,0)))) | AU64: =IF(U64="","",IF(V64="Y",((RarityBackground!$D$4*U64)*(RarityBackground!$F$3+W64)),((RarityBackground!$D$3*U64)*(RarityBackground!$F$3+W64)))) | AV64: =IF(X64="","",IF(Y64="Y",(RarityBackground!$D$4*X64)*IF(Z64="Y",RarityBackground!$F$9,RarityBackground!$F$10),(RarityBackground!$D$3*X64)*IF(Z64="Y",RarityBackground!$F$9,RarityBackground!$F$10))) | AW64: =IF(AA64="","",AA64*RarityBackground!$D$2) | AX64: =IF(AB64="","",AB64) | AY64: =IF(AC64="","",VLOOKUP(AC64,RarityBackground!$A$7:$B$17,2,0)) -> 300 | AZ64: =IF(AD64="","",IF(AD64="Y",AY64*RarityBackground!$F$5,IF(AD64="N",AY64*(IF(RarityBackground!$F$3+(AE64-1)>10,10,RarityBackground!$F$3+(AE64-1)))))-AY64) -> 2700 | BA64: =IF(AF64="","",VLOOKUP(AF64,RarityBackground!$A$7:$B$17,2,0)) -> 90 | BB64: =IF(AG64="","",IF(AG64="Y",BA64*RarityBackground!$F$5,IF(AG64="N",BA64*(IF(RarityBackground!$F$3+(AH64-1)>10,10,RarityBackground!$F$3+(AH64-1)))))-BA64) -> 270
A65: Cloak of Displacement | B65: Rare | C65: Yes | D65: =IF(A65="","",ROUNDUP(SUM(AI65:BB65)*VLOOKUP(B65,RarityBackground!$A$1:$B$6,2,0)*IF(C65="Yes",1,1.1),0)) -> 6000 | E65: based: blur (plus 1 level, no concentration) | M65: 3 | N65: Y | AI65: =IF(F65="","",F65+IF(G65="",0,VLOOKUP(G65,RarityBackground!$E$7:$F$9,2,0))) | AJ65: =IF(H65="","",F65+IF(H65=1,RarityBackground!$F$1,IF(H65=2,RarityBackground!$F$1*3,IF(H65=3,RarityBackground!$F$1*6,"Error")))) | AK65: =IF(I65="","",IF(I65=1,RarityBackground!$F$2,IF(I65=2,RarityBackground!$F$2*3,IF(I65=3,RarityBackground!$F$2*6,"Error")))) | AL65: =IF(J65="","",ROUNDUP(RarityBackground!$F$6*VLOOKUP(J65, RarityBackground!$A$18:$B$27,2,0),-1)) | AM65: =IF(K65="","",IF(K65="N","",IF(K65="Y",ROUNDUP(RarityBackground!$F$6,-1),""))) | AN65: =IF(L65="","",IF(L65=1,RarityBackground!$D$1,IF(L65=2,RarityBackground!$D$1*3,IF(L65=3,RarityBackground!$D$1*6,"Error")))) | AO65: =IF(M65="","",VLOOKUP(M65,RarityBackground!$A$7:$B$17,2,0)) -> 300 | AP65: =IF(N65="","",IF(N65="Y",AO65*RarityBackground!$F$5,IF(N65="N",AO65*(IF(RarityBackground!$F$3+(O65-1)>10,10,RarityBackground!$F$3+(O65-1)))))-AO65) -> 2700 | AQ65: =IF(P65="","",(P65*AO65)-AO65) | AR65: =IF(Q65="","",Q65*RarityBackground!$D$5) | AS65: =IF(R65="","",VLOOKUP(R65&"Save1Minute", RarityBackground!$C$6:$D$20,2,0)) | AT65: =IF(S65="","",IF(T65="Y",ROUNDUP(S65*RarityBackground!$D$4,0),IF(T65="N",ROUNDUP(S65*RarityBackground!$D$3,0)))) | AU65: =IF(U65="","",IF(V65="Y",((RarityBackground!$D$4*U65)*(RarityBackground!$F$3+W65)),((RarityBackground!$D$3*U65)*(RarityBackground!$F$3+W65)))) | AV65: =IF(X65="","",IF(Y65="Y",(RarityBackground!$D$4*X65)*IF(Z65="Y",RarityBackground!$F$9,RarityBackground!$F$10),(RarityBackground!$D$3*X65)*IF(Z65="Y",RarityBackground!$F$9,RarityBackground!$F$10))) | AW65: =IF(AA65="","",AA65*RarityBackground!$D$2) | AX65: =IF(AB65="","",AB65) | AY65: =IF(AC65="","",VLOOKUP(AC65,RarityBackground!$A$7:$B$17,2,0)) | AZ65: =IF(AD65="","",IF(AD65="Y",AY65*RarityBackground!$F$5,IF(AD65="N",AY65*(IF(RarityBackground!$F$3+(AE65-1)>10,10,RarityBackground!$F$3+(AE65-1)))))-AY65) | BA65: =IF(AF65="","",VLOOKUP(AF65,RarityBackground!$A$7:$B$17,2,0)) | BB65: =IF(AG65="","",IF(AG65="Y",BA65*RarityBackground!$F$5,IF(AG65="N",BA65*(IF(RarityBackground!$F$3+(AH65-1)>10,10,RarityBackground!$F$3+(AH65-1)))))-BA65)
A66: Cloak of Elvenkind | B66: Uncommon | C66: Yes | D66: =IF(A66="","",ROUNDUP(SUM(AI66:BB66)*VLOOKUP(B66,RarityBackground!$A$1:$B$6,2,0)*IF(C66="Yes",1,1.1),0)) -> 9000 | E66: based: enhance ability x2 (plus 1 level, no concentration) | M66: 3 | N66: Y | AC66: 3 | AD66: Y | AI66: =IF(F66="","",F66+IF(G66="",0,VLOOKUP(G66,RarityBackground!$E$7:$F$9,2,0))) | AJ66: =IF(H66="","",F66+IF(H66=1,RarityBackground!$F$1,IF(H66=2,RarityBackground!$F$1*3,IF(H66=3,RarityBackground!$F$1*6,"Error")))) | AK66: =IF(I66="","",IF(I66=1,RarityBackground!$F$2,IF(I66=2,RarityBackground!$F$2*3,IF(I66=3,RarityBackground!$F$2*6,"Error")))) | AL66: =IF(J66="","",ROUNDUP(RarityBackground!$F$6*VLOOKUP(J66, RarityBackground!$A$18:$B$27,2,0),-1)) | AM66: =IF(K66="","",IF(K66="N","",IF(K66="Y",ROUNDUP(RarityBackground!$F$6,-1),""))) | AN66: =IF(L66="","",IF(L66=1,RarityBackground!$D$1,IF(L66=2,RarityBackground!$D$1*3,IF(L66=3,RarityBackground!$D$1*6,"Error")))) | AO66: =IF(M66="","",VLOOKUP(M66,RarityBackground!$A$7:$B$17,2,0)) -> 300 | AP66: =IF(N66="","",IF(N66="Y",AO66*RarityBackground!$F$5,IF(N66="N",AO66*(IF(RarityBackground!$F$3+(O66-1)>10,10,RarityBackground!$F$3+(O66-1)))))-AO66) -> 2700 | AQ66: =IF(P66="","",(P66*AO66)-AO66) | AR66: =IF(Q66="","",Q66*RarityBackground!$D$5) | AS66: =IF(R66="","",VLOOKUP(R66&"Save1Minute", RarityBackground!$C$6:$D$20,2,0)) | AT66: =IF(S66="","",IF(T66="Y",ROUNDUP(S66*RarityBackground!$D$4,0),IF(T66="N",ROUNDUP(S66*RarityBackground!$D$3,0)))) | AU66: =IF(U66="","",IF(V66="Y",((RarityBackground!$D$4*U66)*(RarityBackground!$F$3+W66)),((RarityBackground!$D$3*U66)*(RarityBackground!$F$3+W66)))) | AV66: =IF(X66="","",IF(Y66="Y",(RarityBackground!$D$4*X66)*IF(Z66="Y",RarityBackground!$F$9,RarityBackground!$F$10),(RarityBackground!$D$3*X66)*IF(Z66="Y",RarityBackground!$F$9,RarityBackground!$F$10))) | AW66: =IF(AA66="","",AA66*RarityBackground!$D$2) | AX66: =IF(AB66="","",AB66) | AY66: =IF(AC66="","",VLOOKUP(AC66,RarityBackground!$A$7:$B$17,2,0)) -> 300 | AZ66: =IF(AD66="","",IF(AD66="Y",AY66*RarityBackground!$F$5,IF(AD66="N",AY66*(IF(RarityBackground!$F$3+(AE66-1)>10,10,RarityBackground!$F$3+(AE66-1)))))-AY66) -> 2700 | BA66: =IF(AF66="","",VLOOKUP(AF66,RarityBackground!$A$7:$B$17,2,0)) | BB66: =IF(AG66="","",IF(AG66="Y",BA66*RarityBackground!$F$5,IF(AG66="N",BA66*(IF(RarityBackground!$F$3+(AH66-1)>10,10,RarityBackground!$F$3+(AH66-1)))))-BA66)
A67: Cloak of Invisibility | B67: Legendary | C67: Yes | D67: =IF(A67="","",ROUNDUP(SUM(AI67:BB67)*VLOOKUP(B67,RarityBackground!$A$1:$B$6,2,0)*IF(C67="Yes",1,1.1),0)) -> 42000 | E67: based: greater invisibility (plus 1 level, no concentration), 2 hours = effective permanent | M67: 6 | N67: Y | AI67: =IF(F67="","",F67+IF(G67="",0,VLOOKUP(G67,RarityBackground!$E$7:$F$9,2,0))) | AJ67: =IF(H67="","",F67+IF(H67=1,RarityBackground!$F$1,IF(H67=2,RarityBackground!$F$1*3,IF(H67=3,RarityBackground!$F$1*6,"Error")))) | AK67: =IF(I67="","",IF(I67=1,RarityBackground!$F$2,IF(I67=2,RarityBackground!$F$2*3,IF(I67=3,RarityBackground!$F$2*6,"Error")))) | AL67: =IF(J67="","",ROUNDUP(RarityBackground!$F$6*VLOOKUP(J67, RarityBackground!$A$18:$B$27,2,0),-1)) | AM67: =IF(K67="","",IF(K67="N","",IF(K67="Y",ROUNDUP(RarityBackground!$F$6,-1),""))) | AN67: =IF(L67="","",IF(L67=1,RarityBackground!$D$1,IF(L67=2,RarityBackground!$D$1*3,IF(L67=3,RarityBackground!$D$1*6,"Error")))) | AO67: =IF(M67="","",VLOOKUP(M67,RarityBackground!$A$7:$B$17,2,0)) -> 840 | AP67: =IF(N67="","",IF(N67="Y",AO67*RarityBackground!$F$5,IF(N67="N",AO67*(IF(RarityBackground!$F$3+(O67-1)>10,10,RarityBackground!$F$3+(O67-1)))))-AO67) -> 7560 | AQ67: =IF(P67="","",(P67*AO67)-AO67) | AR67: =IF(Q67="","",Q67*RarityBackground!$D$5) | AS67: =IF(R67="","",VLOOKUP(R67&"Save1Minute", RarityBackground!$C$6:$D$20,2,0)) | AT67: =IF(S67="","",IF(T67="Y",ROUNDUP(S67*RarityBackground!$D$4,0),IF(T67="N",ROUNDUP(S67*RarityBackground!$D$3,0)))) | AU67: =IF(U67="","",IF(V67="Y",((RarityBackground!$D$4*U67)*(RarityBackground!$F$3+W67)),((RarityBackground!$D$3*U67)*(RarityBackground!$F$3+W67)))) | AV67: =IF(X67="","",IF(Y67="Y",(RarityBackground!$D$4*X67)*IF(Z67="Y",RarityBackground!$F$9,RarityBackground!$F$10),(RarityBackground!$D$3*X67)*IF(Z67="Y",RarityBackground!$F$9,RarityBackground!$F$10))) | AW67: =IF(AA67="","",AA67*RarityBackground!$D$2) | AX67: =IF(AB67="","",AB67) | AY67: =IF(AC67="","",VLOOKUP(AC67,RarityBackground!$A$7:$B$17,2,0)) | AZ67: =IF(AD67="","",IF(AD67="Y",AY67*RarityBackground!$F$5,IF(AD67="N",AY67*(IF(RarityBackground!$F$3+(AE67-1)>10,10,RarityBackground!$F$3+(AE67-1)))))-AY67) | BA67: =IF(AF67="","",VLOOKUP(AF67,RarityBackground!$A$7:$B$17,2,0)) | BB67: =IF(AG67="","",IF(AG67="Y",BA67*RarityBackground!$F$5,IF(AG67="N",BA67*(IF(RarityBackground!$F$3+(AH67-1)>10,10,RarityBackground!$F$3+(AH67-1)))))-BA67)
A68: Cloak of Protection | B68: Uncommon | C68: Yes | D68: =IF(A68="","",ROUNDUP(SUM(AI68:BB68)*VLOOKUP(B68,RarityBackground!$A$1:$B$6,2,0)*IF(C68="Yes",1,1.1),0)) -> 2700 | H68: 1 | I68: 1 | AI68: =IF(F68="","",F68+IF(G68="",0,VLOOKUP(G68,RarityBackground!$E$7:$F$9,2,0))) | AJ68: =IF(H68="","",F68+IF(H68=1,RarityBackground!$F$1,IF(H68=2,RarityBackground!$F$1*3,IF(H68=3,RarityBackground!$F$1*6,"Error")))) -> 900 | AK68: =IF(I68="","",IF(I68=1,RarityBackground!$F$2,IF(I68=2,RarityBackground!$F$2*3,IF(I68=3,RarityBackground!$F$2*6,"Error")))) -> 900 | AL68: =IF(J68="","",ROUNDUP(RarityBackground!$F$6*VLOOKUP(J68, RarityBackground!$A$18:$B$27,2,0),-1)) | AM68: =IF(K68="","",IF(K68="N","",IF(K68="Y",ROUNDUP(RarityBackground!$F$6,-1),""))) | AN68: =IF(L68="","",IF(L68=1,RarityBackground!$D$1,IF(L68=2,RarityBackground!$D$1*3,IF(L68=3,RarityBackground!$D$1*6,"Error")))) | AO68: =IF(M68="","",VLOOKUP(M68,RarityBackground!$A$7:$B$17,2,0)) | AP68: =IF(N68="","",IF(N68="Y",AO68*RarityBackground!$F$5,IF(N68="N",AO68*(IF(RarityBackground!$F$3+(O68-1)>10,10,RarityBackground!$F$3+(O68-1)))))-AO68) | AQ68: =IF(P68="","",(P68*AO68)-AO68) | AR68: =IF(Q68="","",Q68*RarityBackground!$D$5) | AS68: =IF(R68="","",VLOOKUP(R68&"Save1Minute", RarityBackground!$C$6:$D$20,2,0)) | AT68: =IF(S68="","",IF(T68="Y",ROUNDUP(S68*RarityBackground!$D$4,0),IF(T68="N",ROUNDUP(S68*RarityBackground!$D$3,0)))) | AU68: =IF(U68="","",IF(V68="Y",((RarityBackground!$D$4*U68)*(RarityBackground!$F$3+W68)),((RarityBackground!$D$3*U68)*(RarityBackground!$F$3+W68)))) | AV68: =IF(X68="","",IF(Y68="Y",(RarityBackground!$D$4*X68)*IF(Z68="Y",RarityBackground!$F$9,RarityBackground!$F$10),(RarityBackground!$D$3*X68)*IF(Z68="Y",RarityBackground!$F$9,RarityBackground!$F$10))) | AW68: =IF(AA68="","",AA68*RarityBackground!$D$2) | AX68: =IF(AB68="","",AB68) | AY68: =IF(AC68="","",VLOOKUP(AC68,RarityBackground!$A$7:$B$17,2,0)) | AZ68: =IF(AD68="","",IF(AD68="Y",AY68*RarityBackground!$F$5,IF(AD68="N",AY68*(IF(RarityBackground!$F$3+(AE68-1)>10,10,RarityBackground!$F$3+(AE68-1)))))-AY68) | BA68: =IF(AF68="","",VLOOKUP(AF68,RarityBackground!$A$7:$B$17,2,0)) | BB68: =IF(AG68="","",IF(AG68="Y",BA68*RarityBackground!$F$5,IF(AG68="N",BA68*(IF(RarityBackground!$F$3+(AH68-1)>10,10,RarityBackground!$F$3+(AH68-1)))))-BA68)
A69: Cloak of the Bat | B69: Rare | C69: Yes | D69: =IF(A69="","",ROUNDUP(SUM(AI69:BB69)*VLOOKUP(B69,RarityBackground!$A$1:$B$6,2,0)*IF(C69="Yes",1,1.1),0)) -> 15600 | E69: based: enhance ability (plus 1 level, no concentration), fly (no change in level due to requirments), polymorph | M69: 3 | N69: Y | AC69: 3 | AD69: Y | AF69: 4 | AG69: N | AH69: 1 | AI69: =IF(F69="","",F69+IF(G69="",0,VLOOKUP(G69,RarityBackground!$E$7:$F$9,2,0))) | AJ69: =IF(H69="","",F69+IF(H69=1,RarityBackground!$F$1,IF(H69=2,RarityBackground!$F$1*3,IF(H69=3,RarityBackground!$F$1*6,"Error")))) | AK69: =IF(I69="","",IF(I69=1,RarityBackground!$F$2,IF(I69=2,RarityBackground!$F$2*3,IF(I69=3,RarityBackground!$F$2*6,"Error")))) | AL69: =IF(J69="","",ROUNDUP(RarityBackground!$F$6*VLOOKUP(J69, RarityBackground!$A$18:$B$27,2,0),-1)) | AM69: =IF(K69="","",IF(K69="N","",IF(K69="Y",ROUNDUP(RarityBackground!$F$6,-1),""))) | AN69: =IF(L69="","",IF(L69=1,RarityBackground!$D$1,IF(L69=2,RarityBackground!$D$1*3,IF(L69=3,RarityBackground!$D$1*6,"Error")))) | AO69: =IF(M69="","",VLOOKUP(M69,RarityBackground!$A$7:$B$17,2,0)) -> 300 | AP69: =IF(N69="","",IF(N69="Y",AO69*RarityBackground!$F$5,IF(N69="N",AO69*(IF(RarityBackground!$F$3+(O69-1)>10,10,RarityBackground!$F$3+(O69-1)))))-AO69) -> 2700 | AQ69: =IF(P69="","",(P69*AO69)-AO69) | AR69: =IF(Q69="","",Q69*RarityBackground!$D$5) | AS69: =IF(R69="","",VLOOKUP(R69&"Save1Minute", RarityBackground!$C$6:$D$20,2,0)) | AT69: =IF(S69="","",IF(T69="Y",ROUNDUP(S69*RarityBackground!$D$4,0),IF(T69="N",ROUNDUP(S69*RarityBackground!$D$3,0)))) | AU69: =IF(U69="","",IF(V69="Y",((RarityBackground!$D$4*U69)*(RarityBackground!$F$3+W69)),((RarityBackground!$D$3*U69)*(RarityBackground!$F$3+W69)))) | AV69: =IF(X69="","",IF(Y69="Y",(RarityBackground!$D$4*X69)*IF(Z69="Y",RarityBackground!$F$9,RarityBackground!$F$10),(RarityBackground!$D$3*X69)*IF(Z69="Y",RarityBackground!$F$9,RarityBackground!$F$10))) | AW69: =IF(AA69="","",AA69*RarityBackground!$D$2) | AX69: =IF(AB69="","",AB69) | AY69: =IF(AC69="","",VLOOKUP(AC69,RarityBackground!$A$7:$B$17,2,0)) -> 300 | AZ69: =IF(AD69="","",IF(AD69="Y",AY69*RarityBackground!$F$5,IF(AD69="N",AY69*(IF(RarityBackground!$F$3+(AE69-1)>10,10,RarityBackground!$F$3+(AE69-1)))))-AY69) -> 2700 | BA69: =IF(AF69="","",VLOOKUP(AF69,RarityBackground!$A$7:$B$17,2,0)) -> 450 | BB69: =IF(AG69="","",IF(AG69="Y",BA69*RarityBackground!$F$5,IF(AG69="N",BA69*(IF(RarityBackground!$F$3+(AH69-1)>10,10,RarityBackground!$F$3+(AH69-1)))))-BA69) -> 1350
A70: Cloak of the Manta Ray | B70: Uncommon | C70: No | D70: =IF(A70="","",ROUNDUP(SUM(AI70:BB70)*VLOOKUP(B70,RarityBackground!$A$1:$B$6,2,0)*IF(C70="Yes",1,1.1),0)) -> 9900 | E70: based: water breathing & alter self (plus 1 level, no concentration) | M70: 3 | N70: Y | AC70: 3 | AD70: Y | AI70: =IF(F70="","",F70+IF(G70="",0,VLOOKUP(G70,RarityBackground!$E$7:$F$9,2,0))) | AJ70: =IF(H70="","",F70+IF(H70=1,RarityBackground!$F$1,IF(H70=2,RarityBackground!$F$1*3,IF(H70=3,RarityBackground!$F$1*6,"Error")))) | AK70: =IF(I70="","",IF(I70=1,RarityBackground!$F$2,IF(I70=2,RarityBackground!$F$2*3,IF(I70=3,RarityBackground!$F$2*6,"Error")))) | AL70: =IF(J70="","",ROUNDUP(RarityBackground!$F$6*VLOOKUP(J70, RarityBackground!$A$18:$B$27,2,0),-1)) | AM70: =IF(K70="","",IF(K70="N","",IF(K70="Y",ROUNDUP(RarityBackground!$F$6,-1),""))) | AN70: =IF(L70="","",IF(L70=1,RarityBackground!$D$1,IF(L70=2,RarityBackground!$D$1*3,IF(L70=3,RarityBackground!$D$1*6,"Error")))) | AO70: =IF(M70="","",VLOOKUP(M70,RarityBackground!$A$7:$B$17,2,0)) -> 300 | AP70: =IF(N70="","",IF(N70="Y",AO70*RarityBackground!$F$5,IF(N70="N",AO70*(IF(RarityBackground!$F$3+(O70-1)>10,10,RarityBackground!$F$3+(O70-1)))))-AO70) -> 2700 | AQ70: =IF(P70="","",(P70*AO70)-AO70) | AR70: =IF(Q70="","",Q70*RarityBackground!$D$5) | AS70: =IF(R70="","",VLOOKUP(R70&"Save1Minute", RarityBackground!$C$6:$D$20,2,0)) | AT70: =IF(S70="","",IF(T70="Y",ROUNDUP(S70*RarityBackground!$D$4,0),IF(T70="N",ROUNDUP(S70*RarityBackground!$D$3,0)))) | AU70: =IF(U70="","",IF(V70="Y",((RarityBackground!$D$4*U70)*(RarityBackground!$F$3+W70)),((RarityBackground!$D$3*U70)*(RarityBackground!$F$3+W70)))) | AV70: =IF(X70="","",IF(Y70="Y",(RarityBackground!$D$4*X70)*IF(Z70="Y",RarityBackground!$F$9,RarityBackground!$F$10),(RarityBackground!$D$3*X70)*IF(Z70="Y",RarityBackground!$F$9,RarityBackground!$F$10))) | AW70: =IF(AA70="","",AA70*RarityBackground!$D$2) | AX70: =IF(AB70="","",AB70) | AY70: =IF(AC70="","",VLOOKUP(AC70,RarityBackground!$A$7:$B$17,2,0)) -> 300 | AZ70: =IF(AD70="","",IF(AD70="Y",AY70*RarityBackground!$F$5,IF(AD70="N",AY70*(IF(RarityBackground!$F$3+(AE70-1)>10,10,RarityBackground!$F$3+(AE70-1)))))-AY70) -> 2700 | BA70: =IF(AF70="","",VLOOKUP(AF70,RarityBackground!$A$7:$B$17,2,0)) | BB70: =IF(AG70="","",IF(AG70="Y",BA70*RarityBackground!$F$5,IF(AG70="N",BA70*(IF(RarityBackground!$F$3+(AH70-1)>10,10,RarityBackground!$F$3+(AH70-1)))))-BA70)
A71: Crystal Ball | B71: Very Rare | C71: Yes | D71: =IF(A71="","",ROUNDUP(SUM(AI71:BB71)*VLOOKUP(B71,RarityBackground!$A$1:$B$6,2,0)*IF(C71="Yes",1,1.1),0)) -> 18900 | E71: based: scrying | M71: 5 | N71: Y | AI71: =IF(F71="","",F71+IF(G71="",0,VLOOKUP(G71,RarityBackground!$E$7:$F$9,2,0))) | AJ71: =IF(H71="","",F71+IF(H71=1,RarityBackground!$F$1,IF(H71=2,RarityBackground!$F$1*3,IF(H71=3,RarityBackground!$F$1*6,"Error")))) | AK71: =IF(I71="","",IF(I71=1,RarityBackground!$F$2,IF(I71=2,RarityBackground!$F$2*3,IF(I71=3,RarityBackground!$F$2*6,"Error")))) | AL71: =IF(J71="","",ROUNDUP(RarityBackground!$F$6*VLOOKUP(J71, RarityBackground!$A$18:$B$27,2,0),-1)) | AM71: =IF(K71="","",IF(K71="N","",IF(K71="Y",ROUNDUP(RarityBackground!$F$6,-1),""))) | AN71: =IF(L71="","",IF(L71=1,RarityBackground!$D$1,IF(L71=2,RarityBackground!$D$1*3,IF(L71=3,RarityBackground!$D$1*6,"Error")))) | AO71: =IF(M71="","",VLOOKUP(M71,RarityBackground!$A$7:$B$17,2,0)) -> 630 | AP71: =IF(N71="","",IF(N71="Y",AO71*RarityBackground!$F$5,IF(N71="N",AO71*(IF(RarityBackground!$F$3+(O71-1)>10,10,RarityBackground!$F$3+(O71-1)))))-AO71) -> 5670 | AQ71: =IF(P71="","",(P71*AO71)-AO71) | AR71: =IF(Q71="","",Q71*RarityBackground!$D$5) | AS71: =IF(R71="","",VLOOKUP(R71&"Save1Minute", RarityBackground!$C$6:$D$20,2,0)) | AT71: =IF(S71="","",IF(T71="Y",ROUNDUP(S71*RarityBackground!$D$4,0),IF(T71="N",ROUNDUP(S71*RarityBackground!$D$3,0)))) | AU71: =IF(U71="","",IF(V71="Y",((RarityBackground!$D$4*U71)*(RarityBackground!$F$3+W71)),((RarityBackground!$D$3*U71)*(RarityBackground!$F$3+W71)))) | AV71: =IF(X71="","",IF(Y71="Y",(RarityBackground!$D$4*X71)*IF(Z71="Y",RarityBackground!$F$9,RarityBackground!$F$10),(RarityBackground!$D$3*X71)*IF(Z71="Y",RarityBackground!$F$9,RarityBackground!$F$10))) | AW71: =IF(AA71="","",AA71*RarityBackground!$D$2) | AX71: =IF(AB71="","",AB71) | AY71: =IF(AC71="","",VLOOKUP(AC71,RarityBackground!$A$7:$B$17,2,0)) | AZ71: =IF(AD71="","",IF(AD71="Y",AY71*RarityBackground!$F$5,IF(AD71="N",AY71*(IF(RarityBackground!$F$3+(AE71-1)>10,10,RarityBackground!$F$3+(AE71-1)))))-AY71) | BA71: =IF(AF71="","",VLOOKUP(AF71,RarityBackground!$A$7:$B$17,2,0)) | BB71: =IF(AG71="","",IF(AG71="Y",BA71*RarityBackground!$F$5,IF(AG71="N",BA71*(IF(RarityBackground!$F$3+(AH71-1)>10,10,RarityBackground!$F$3+(AH71-1)))))-BA71)
A72: Crystal Ball of Mind Reading | B72: Legendary | C72: Yes | D72: =IF(A72="","",ROUNDUP(SUM(AI72:BB72)*VLOOKUP(B72,RarityBackground!$A$1:$B$6,2,0)*IF(C72="Yes",1,1.1),0)) -> 36000 | E72: based: scrying & detect thoughts | M72: 5 | N72: Y | AC72: 1 | AD72: Y | AI72: =IF(F72="","",F72+IF(G72="",0,VLOOKUP(G72,RarityBackground!$E$7:$F$9,2,0))) | AJ72: =IF(H72="","",F72+IF(H72=1,RarityBackground!$F$1,IF(H72=2,RarityBackground!$F$1*3,IF(H72=3,RarityBackground!$F$1*6,"Error")))) | AK72: =IF(I72="","",IF(I72=1,RarityBackground!$F$2,IF(I72=2,RarityBackground!$F$2*3,IF(I72=3,RarityBackground!$F$2*6,"Error")))) | AL72: =IF(J72="","",ROUNDUP(RarityBackground!$F$6*VLOOKUP(J72, RarityBackground!$A$18:$B$27,2,0),-1)) | AM72: =IF(K72="","",IF(K72="N","",IF(K72="Y",ROUNDUP(RarityBackground!$F$6,-1),""))) | AN72: =IF(L72="","",IF(L72=1,RarityBackground!$D$1,IF(L72=2,RarityBackground!$D$1*3,IF(L72=3,RarityBackground!$D$1*6,"Error")))) | AO72: =IF(M72="","",VLOOKUP(M72,RarityBackground!$A$7:$B$17,2,0)) -> 630 | AP72: =IF(N72="","",IF(N72="Y",AO72*RarityBackground!$F$5,IF(N72="N",AO72*(IF(RarityBackground!$F$3+(O72-1)>10,10,RarityBackground!$F$3+(O72-1)))))-AO72) -> 5670 | AQ72: =IF(P72="","",(P72*AO72)-AO72) | AR72: =IF(Q72="","",Q72*RarityBackground!$D$5) | AS72: =IF(R72="","",VLOOKUP(R72&"Save1Minute", RarityBackground!$C$6:$D$20,2,0)) | AT72: =IF(S72="","",IF(T72="Y",ROUNDUP(S72*RarityBackground!$D$4,0),IF(T72="N",ROUNDUP(S72*RarityBackground!$D$3,0)))) | AU72: =IF(U72="","",IF(V72="Y",((RarityBackground!$D$4*U72)*(RarityBackground!$F$3+W72)),((RarityBackground!$D$3*U72)*(RarityBackground!$F$3+W72)))) | AV72: =IF(X72="","",IF(Y72="Y",(RarityBackground!$D$4*X72)*IF(Z72="Y",RarityBackground!$F$9,RarityBackground!$F$10),(RarityBackground!$D$3*X72)*IF(Z72="Y",RarityBackground!$F$9,RarityBackground!$F$10))) | AW72: =IF(AA72="","",AA72*RarityBackground!$D$2) | AX72: =IF(AB72="","",AB72) | AY72: =IF(AC72="","",VLOOKUP(AC72,RarityBackground!$A$7:$B$17,2,0)) -> 90 | AZ72: =IF(AD72="","",IF(AD72="Y",AY72*RarityBackground!$F$5,IF(AD72="N",AY72*(IF(RarityBackground!$F$3+(AE72-1)>10,10,RarityBackground!$F$3+(AE72-1)))))-AY72) -> 810 | BA72: =IF(AF72="","",VLOOKUP(AF72,RarityBackground!$A$7:$B$17,2,0)) | BB72: =IF(AG72="","",IF(AG72="Y",BA72*RarityBackground!$F$5,IF(AG72="N",BA72*(IF(RarityBackground!$F$3+(AH72-1)>10,10,RarityBackground!$F$3+(AH72-1)))))-BA72)
A73: Crystal Ball of Telepathy | B73: Legendary | C73: Yes | D73: =IF(A73="","",ROUNDUP(SUM(AI73:BB73)*VLOOKUP(B73,RarityBackground!$A$1:$B$6,2,0)*IF(C73="Yes",1,1.1),0)) -> 33300 | E73: based: scrying & suggestion | M73: 5 | N73: Y | AC73: 1 | AD73: N | AE73: 1 | AI73: =IF(F73="","",F73+IF(G73="",0,VLOOKUP(G73,RarityBackground!$E$7:$F$9,2,0))) | AJ73: =IF(H73="","",F73+IF(H73=1,RarityBackground!$F$1,IF(H73=2,RarityBackground!$F$1*3,IF(H73=3,RarityBackground!$F$1*6,"Error")))) | AK73: =IF(I73="","",IF(I73=1,RarityBackground!$F$2,IF(I73=2,RarityBackground!$F$2*3,IF(I73=3,RarityBackground!$F$2*6,"Error")))) | AL73: =IF(J73="","",ROUNDUP(RarityBackground!$F$6*VLOOKUP(J73, RarityBackground!$A$18:$B$27,2,0),-1)) | AM73: =IF(K73="","",IF(K73="N","",IF(K73="Y",ROUNDUP(RarityBackground!$F$6,-1),""))) | AN73: =IF(L73="","",IF(L73=1,RarityBackground!$D$1,IF(L73=2,RarityBackground!$D$1*3,IF(L73=3,RarityBackground!$D$1*6,"Error")))) | AO73: =IF(M73="","",VLOOKUP(M73,RarityBackground!$A$7:$B$17,2,0)) -> 630 | AP73: =IF(N73="","",IF(N73="Y",AO73*RarityBackground!$F$5,IF(N73="N",AO73*(IF(RarityBackground!$F$3+(O73-1)>10,10,RarityBackground!$F$3+(O73-1)))))-AO73) -> 5670 | AQ73: =IF(P73="","",(P73*AO73)-AO73) | AR73: =IF(Q73="","",Q73*RarityBackground!$D$5) | AS73: =IF(R73="","",VLOOKUP(R73&"Save1Minute", RarityBackground!$C$6:$D$20,2,0)) | AT73: =IF(S73="","",IF(T73="Y",ROUNDUP(S73*RarityBackground!$D$4,0),IF(T73="N",ROUNDUP(S73*RarityBackground!$D$3,0)))) | AU73: =IF(U73="","",IF(V73="Y",((RarityBackground!$D$4*U73)*(RarityBackground!$F$3+W73)),((RarityBackground!$D$3*U73)*(RarityBackground!$F$3+W73)))) | AV73: =IF(X73="","",IF(Y73="Y",(RarityBackground!$D$4*X73)*IF(Z73="Y",RarityBackground!$F$9,RarityBackground!$F$10),(RarityBackground!$D$3*X73)*IF(Z73="Y",RarityBackground!$F$9,RarityBackground!$F$10))) | AW73: =IF(AA73="","",AA73*RarityBackground!$D$2) | AX73: =IF(AB73="","",AB73) | AY73: =IF(AC73="","",VLOOKUP(AC73,RarityBackground!$A$7:$B$17,2,0)) -> 90 | AZ73: =IF(AD73="","",IF(AD73="Y",AY73*RarityBackground!$F$5,IF(AD73="N",AY73*(IF(RarityBackground!$F$3+(AE73-1)>10,10,RarityBackground!$F$3+(AE73-1)))))-AY73) -> 270 | BA73: =IF(AF73="","",VLOOKUP(AF73,RarityBackground!$A$7:$B$17,2,0)) | BB73: =IF(AG73="","",IF(AG73="Y",BA73*RarityBackground!$F$5,IF(AG73="N",BA73*(IF(RarityBackground!$F$3+(AH73-1)>10,10,RarityBackground!$F$3+(AH73-1)))))-BA73)
A74: Crystal Ball of True Seeing | B74: Legendary | C74: Yes | D74: =IF(A74="","",ROUNDUP(SUM(AI74:BB74)*VLOOKUP(B74,RarityBackground!$A$1:$B$6,2,0)*IF(C74="Yes",1,1.1),0)) -> 73500 | E74: based: scrying & truesight | M74: 5 | N74: Y | AC74: 6 | AD74: Y | AI74: =IF(F74="","",F74+IF(G74="",0,VLOOKUP(G74,RarityBackground!$E$7:$F$9,2,0))) | AJ74: =IF(H74="","",F74+IF(H74=1,RarityBackground!$F$1,IF(H74=2,RarityBackground!$F$1*3,IF(H74=3,RarityBackground!$F$1*6,"Error")))) | AK74: =IF(I74="","",IF(I74=1,RarityBackground!$F$2,IF(I74=2,RarityBackground!$F$2*3,IF(I74=3,RarityBackground!$F$2*6,"Error")))) | AL74: =IF(J74="","",ROUNDUP(RarityBackground!$F$6*VLOOKUP(J74, RarityBackground!$A$18:$B$27,2,0),-1)) | AM74: =IF(K74="","",IF(K74="N","",IF(K74="Y",ROUNDUP(RarityBackground!$F$6,-1),""))) | AN74: =IF(L74="","",IF(L74=1,RarityBackground!$D$1,IF(L74=2,RarityBackground!$D$1*3,IF(L74=3,RarityBackground!$D$1*6,"Error")))) | AO74: =IF(M74="","",VLOOKUP(M74,RarityBackground!$A$7:$B$17,2,0)) -> 630 | AP74: =IF(N74="","",IF(N74="Y",AO74*RarityBackground!$F$5,IF(N74="N",AO74*(IF(RarityBackground!$F$3+(O74-1)>10,10,RarityBackground!$F$3+(O74-1)))))-AO74) -> 5670 | AQ74: =IF(P74="","",(P74*AO74)-AO74) | AR74: =IF(Q74="","",Q74*RarityBackground!$D$5) | AS74: =IF(R74="","",VLOOKUP(R74&"Save1Minute", RarityBackground!$C$6:$D$20,2,0)) | AT74: =IF(S74="","",IF(T74="Y",ROUNDUP(S74*RarityBackground!$D$4,0),IF(T74="N",ROUNDUP(S74*RarityBackground!$D$3,0)))) | AU74: =IF(U74="","",IF(V74="Y",((RarityBackground!$D$4*U74)*(RarityBackground!$F$3+W74)),((RarityBackground!$D$3*U74)*(RarityBackground!$F$3+W74)))) | AV74: =IF(X74="","",IF(Y74="Y",(RarityBackground!$D$4*X74)*IF(Z74="Y",RarityBackground!$F$9,RarityBackground!$F$10),(RarityBackground!$D$3*X74)*IF(Z74="Y",RarityBackground!$F$9,RarityBackground!$F$10))) | AW74: =IF(AA74="","",AA74*RarityBackground!$D$2) | AX74: =IF(AB74="","",AB74) | AY74: =IF(AC74="","",VLOOKUP(AC74,RarityBackground!$A$7:$B$17,2,0)) -> 840 | AZ74: =IF(AD74="","",IF(AD74="Y",AY74*RarityBackground!$F$5,IF(AD74="N",AY74*(IF(RarityBackground!$F$3+(AE74-1)>10,10,RarityBackground!$F$3+(AE74-1)))))-AY74) -> 7560 | BA74: =IF(AF74="","",VLOOKUP(AF74,RarityBackground!$A$7:$B$17,2,0)) | BB74: =IF(AG74="","",IF(AG74="Y",BA74*RarityBackground!$F$5,IF(AG74="N",BA74*(IF(RarityBackground!$F$3+(AH74-1)>10,10,RarityBackground!$F$3+(AH74-1)))))-BA74)
A75: Cube of Force | B75: Rare | C75: Yes | D75: =IF(A75="","",ROUNDUP(SUM(AI75:BB75)*VLOOKUP(B75,RarityBackground!$A$1:$B$6,2,0)*IF(C75="Yes",1,1.1),0)) -> 12600 | E75: based: resilient sphere (plus 1 level, no concentration) | M75: 5 | N75: N | O75: 7 | AI75: =IF(F75="","",F75+IF(G75="",0,VLOOKUP(G75,RarityBackground!$E$7:$F$9,2,0))) | AJ75: =IF(H75="","",F75+IF(H75=1,RarityBackground!$F$1,IF(H75=2,RarityBackground!$F$1*3,IF(H75=3,RarityBackground!$F$1*6,"Error")))) | AK75: =IF(I75="","",IF(I75=1,RarityBackground!$F$2,IF(I75=2,RarityBackground!$F$2*3,IF(I75=3,RarityBackground!$F$2*6,"Error")))) | AL75: =IF(J75="","",ROUNDUP(RarityBackground!$F$6*VLOOKUP(J75, RarityBackground!$A$18:$B$27,2,0),-1)) | AM75: =IF(K75="","",IF(K75="N","",IF(K75="Y",ROUNDUP(RarityBackground!$F$6,-1),""))) | AN75: =IF(L75="","",IF(L75=1,RarityBackground!$D$1,IF(L75=2,RarityBackground!$D$1*3,IF(L75=3,RarityBackground!$D$1*6,"Error")))) | AO75: =IF(M75="","",VLOOKUP(M75,RarityBackground!$A$7:$B$17,2,0)) -> 630 | AP75: =IF(N75="","",IF(N75="Y",AO75*RarityBackground!$F$5,IF(N75="N",AO75*(IF(RarityBackground!$F$3+(O75-1)>10,10,RarityBackground!$F$3+(O75-1)))))-AO75) -> 5670 | AQ75: =IF(P75="","",(P75*AO75)-AO75) | AR75: =IF(Q75="","",Q75*RarityBackground!$D$5) | AS75: =IF(R75="","",VLOOKUP(R75&"Save1Minute", RarityBackground!$C$6:$D$20,2,0)) | AT75: =IF(S75="","",IF(T75="Y",ROUNDUP(S75*RarityBackground!$D$4,0),IF(T75="N",ROUNDUP(S75*RarityBackground!$D$3,0)))) | AU75: =IF(U75="","",IF(V75="Y",((RarityBackground!$D$4*U75)*(RarityBackground!$F$3+W75)),((RarityBackground!$D$3*U75)*(RarityBackground!$F$3+W75)))) | AV75: =IF(X75="","",IF(Y75="Y",(RarityBackground!$D$4*X75)*IF(Z75="Y",RarityBackground!$F$9,RarityBackground!$F$10),(RarityBackground!$D$3*X75)*IF(Z75="Y",RarityBackground!$F$9,RarityBackground!$F$10))) | AW75: =IF(AA75="","",AA75*RarityBackground!$D$2) | AX75: =IF(AB75="","",AB75) | AY75: =IF(AC75="","",VLOOKUP(AC75,RarityBackground!$A$7:$B$17,2,0)) | AZ75: =IF(AD75="","",IF(AD75="Y",AY75*RarityBackground!$F$5,IF(AD75="N",AY75*(IF(RarityBackground!$F$3+(AE75-1)>10,10,RarityBackground!$F$3+(AE75-1)))))-AY75) | BA75: =IF(AF75="","",VLOOKUP(AF75,RarityBackground!$A$7:$B$17,2,0)) | BB75: =IF(AG75="","",IF(AG75="Y",BA75*RarityBackground!$F$5,IF(AG75="N",BA75*(IF(RarityBackground!$F$3+(AH75-1)>10,10,RarityBackground!$F$3+(AH75-1)))))-BA75)
A76: Cubic Gate | B76: Legendary | C76: No | D76: =IF(A76="","",ROUNDUP(SUM(AI76:BB76)*VLOOKUP(B76,RarityBackground!$A$1:$B$6,2,0)*IF(C76="Yes",1,1.1),0)) -> 60390 | E76: based: gate & planeshift (charges based on highest level spell) | M76: 9 | N76: N | O76: 3 | AC76: 7 | AI76: =IF(F76="","",F76+IF(G76="",0,VLOOKUP(G76,RarityBackground!$E$7:$F$9,2,0))) | AJ76: =IF(H76="","",F76+IF(H76=1,RarityBackground!$F$1,IF(H76=2,RarityBackground!$F$1*3,IF(H76=3,RarityBackground!$F$1*6,"Error")))) | AK76: =IF(I76="","",IF(I76=1,RarityBackground!$F$2,IF(I76=2,RarityBackground!$F$2*3,IF(I76=3,RarityBackground!$F$2*6,"Error")))) | AL76: =IF(J76="","",ROUNDUP(RarityBackground!$F$6*VLOOKUP(J76, RarityBackground!$A$18:$B$27,2,0),-1)) | AM76: =IF(K76="","",IF(K76="N","",IF(K76="Y",ROUNDUP(RarityBackground!$F$6,-1),""))) | AN76: =IF(L76="","",IF(L76=1,RarityBackground!$D$1,IF(L76=2,RarityBackground!$D$1*3,IF(L76=3,RarityBackground!$D$1*6,"Error")))) | AO76: =IF(M76="","",VLOOKUP(M76,RarityBackground!$A$7:$B$17,2,0)) -> 1650 | AP76: =IF(N76="","",IF(N76="Y",AO76*RarityBackground!$F$5,IF(N76="N",AO76*(IF(RarityBackground!$F$3+(O76-1)>10,10,RarityBackground!$F$3+(O76-1)))))-AO76) -> 8250 | AQ76: =IF(P76="","",(P76*AO76)-AO76) | AR76: =IF(Q76="","",Q76*RarityBackground!$D$5) | AS76: =IF(R76="","",VLOOKUP(R76&"Save1Minute", RarityBackground!$C$6:$D$20,2,0)) | AT76: =IF(S76="","",IF(T76="Y",ROUNDUP(S76*RarityBackground!$D$4,0),IF(T76="N",ROUNDUP(S76*RarityBackground!$D$3,0)))) | AU76: =IF(U76="","",IF(V76="Y",((RarityBackground!$D$4*U76)*(RarityBackground!$F$3+W76)),((RarityBackground!$D$3*U76)*(RarityBackground!$F$3+W76)))) | AV76: =IF(X76="","",IF(Y76="Y",(RarityBackground!$D$4*X76)*IF(Z76="Y",RarityBackground!$F$9,RarityBackground!$F$10),(RarityBackground!$D$3*X76)*IF(Z76="Y",RarityBackground!$F$9,RarityBackground!$F$10))) | AW76: =IF(AA76="","",AA76*RarityBackground!$D$2) | AX76: =IF(AB76="","",AB76) | AY76: =IF(AC76="","",VLOOKUP(AC76,RarityBackground!$A$7:$B$17,2,0)) -> 1080 | AZ76: =IF(AD76="","",IF(AD76="Y",AY76*RarityBackground!$F$5,IF(AD76="N",AY76*(IF(RarityBackground!$F$3+(AE76-1)>10,10,RarityBackground!$F$3+(AE76-1)))))-AY76) | BA76: =IF(AF76="","",VLOOKUP(AF76,RarityBackground!$A$7:$B$17,2,0)) | BB76: =IF(AG76="","",IF(AG76="Y",BA76*RarityBackground!$F$5,IF(AG76="N",BA76*(IF(RarityBackground!$F$3+(AH76-1)>10,10,RarityBackground!$F$3+(AH76-1)))))-BA76)
A77: Daern's Instant Fortress | B77: Rare | C77: No | D77: =IF(A77="","",ROUNDUP(SUM(AI77:BB77)*VLOOKUP(B77,RarityBackground!$A$1:$B$6,2,0)*IF(C77="Yes",1,1.1),0)) -> 18480 | E77: based: magnificent mansion (minus 1 level) | M77: 6 | N77: Y | AI77: =IF(F77="","",F77+IF(G77="",0,VLOOKUP(G77,RarityBackground!$E$7:$F$9,2,0))) | AJ77: =IF(H77="","",F77+IF(H77=1,RarityBackground!$F$1,IF(H77=2,RarityBackground!$F$1*3,IF(H77=3,RarityBackground!$F$1*6,"Error")))) | AK77: =IF(I77="","",IF(I77=1,RarityBackground!$F$2,IF(I77=2,RarityBackground!$F$2*3,IF(I77=3,RarityBackground!$F$2*6,"Error")))) | AL77: =IF(J77="","",ROUNDUP(RarityBackground!$F$6*VLOOKUP(J77, RarityBackground!$A$18:$B$27,2,0),-1)) | AM77: =IF(K77="","",IF(K77="N","",IF(K77="Y",ROUNDUP(RarityBackground!$F$6,-1),""))) | AN77: =IF(L77="","",IF(L77=1,RarityBackground!$D$1,IF(L77=2,RarityBackground!$D$1*3,IF(L77=3,RarityBackground!$D$1*6,"Error")))) | AO77: =IF(M77="","",VLOOKUP(M77,RarityBackground!$A$7:$B$17,2,0)) -> 840 | AP77: =IF(N77="","",IF(N77="Y",AO77*RarityBackground!$F$5,IF(N77="N",AO77*(IF(RarityBackground!$F$3+(O77-1)>10,10,RarityBackground!$F$3+(O77-1)))))-AO77) -> 7560 | AQ77: =IF(P77="","",(P77*AO77)-AO77) | AR77: =IF(Q77="","",Q77*RarityBackground!$D$5) | AS77: =IF(R77="","",VLOOKUP(R77&"Save1Minute", RarityBackground!$C$6:$D$20,2,0)) | AT77: =IF(S77="","",IF(T77="Y",ROUNDUP(S77*RarityBackground!$D$4,0),IF(T77="N",ROUNDUP(S77*RarityBackground!$D$3,0)))) | AU77: =IF(U77="","",IF(V77="Y",((RarityBackground!$D$4*U77)*(RarityBackground!$F$3+W77)),((RarityBackground!$D$3*U77)*(RarityBackground!$F$3+W77)))) | AV77: =IF(X77="","",IF(Y77="Y",(RarityBackground!$D$4*X77)*IF(Z77="Y",RarityBackground!$F$9,RarityBackground!$F$10),(RarityBackground!$D$3*X77)*IF(Z77="Y",RarityBackground!$F$9,RarityBackground!$F$10))) | AW77: =IF(AA77="","",AA77*RarityBackground!$D$2) | AX77: =IF(AB77="","",AB77) | AY77: =IF(AC77="","",VLOOKUP(AC77,RarityBackground!$A$7:$B$17,2,0)) | AZ77: =IF(AD77="","",IF(AD77="Y",AY77*RarityBackground!$F$5,IF(AD77="N",AY77*(IF(RarityBackground!$F$3+(AE77-1)>10,10,RarityBackground!$F$3+(AE77-1)))))-AY77) | BA77: =IF(AF77="","",VLOOKUP(AF77,RarityBackground!$A$7:$B$17,2,0)) | BB77: =IF(AG77="","",IF(AG77="Y",BA77*RarityBackground!$F$5,IF(AG77="N",BA77*(IF(RarityBackground!$F$3+(AH77-1)>10,10,RarityBackground!$F$3+(AH77-1)))))-BA77)
A78: Dagger of Venom | B78: Rare | C78: No | D78: =IF(A78="","",ROUNDUP(SUM(AI78:BB78)*VLOOKUP(B78,RarityBackground!$A$1:$B$6,2,0)*IF(C78="Yes",1,1.1),0)) -> 2350 | L78: 1 | R78: Poisoned | U78: 11 | V78: Y | W78: 0 | AI78: =IF(F78="","",F78+IF(G78="",0,VLOOKUP(G78,RarityBackground!$E$7:$F$9,2,0))) | AJ78: =IF(H78="","",F78+IF(H78=1,RarityBackground!$F$1,IF(H78=2,RarityBackground!$F$1*3,IF(H78=3,RarityBackground!$F$1*6,"Error")))) | AK78: =IF(I78="","",IF(I78=1,RarityBackground!$F$2,IF(I78=2,RarityBackground!$F$2*3,IF(I78=3,RarityBackground!$F$2*6,"Error")))) | AL78: =IF(J78="","",ROUNDUP(RarityBackground!$F$6*VLOOKUP(J78, RarityBackground!$A$18:$B$27,2,0),-1)) | AM78: =IF(K78="","",IF(K78="N","",IF(K78="Y",ROUNDUP(RarityBackground!$F$6,-1),""))) | AN78: =IF(L78="","",IF(L78=1,RarityBackground!$D$1,IF(L78=2,RarityBackground!$D$1*3,IF(L78=3,RarityBackground!$D$1*6,"Error")))) -> 500 | AO78: =IF(M78="","",VLOOKUP(M78,RarityBackground!$A$7:$B$17,2,0)) | AP78: =IF(N78="","",IF(N78="Y",AO78*RarityBackground!$F$5,IF(N78="N",AO78*(IF(RarityBackground!$F$3+(O78-1)>10,10,RarityBackground!$F$3+(O78-1)))))-AO78) | AQ78: =IF(P78="","",(P78*AO78)-AO78) | AR78: =IF(Q78="","",Q78*RarityBackground!$D$5) | AS78: =IF(R78="","",VLOOKUP(R78&"Save1Minute", RarityBackground!$C$6:$D$20,2,0)) -> 450 | AT78: =IF(S78="","",IF(T78="Y",ROUNDUP(S78*RarityBackground!$D$4,0),IF(T78="N",ROUNDUP(S78*RarityBackground!$D$3,0)))) | AU78: =IF(U78="","",IF(V78="Y",((RarityBackground!$D$4*U78)*(RarityBackground!$F$3+W78)),((RarityBackground!$D$3*U78)*(RarityBackground!$F$3+W78)))) -> 117.92 | AV78: =IF(X78="","",IF(Y78="Y",(RarityBackground!$D$4*X78)*IF(Z78="Y",RarityBackground!$F$9,RarityBackground!$F$10),(RarityBackground!$D$3*X78)*IF(Z78="Y",RarityBackground!$F$9,RarityBackground!$F$10))) | AW78: =IF(AA78="","",AA78*RarityBackground!$D$2) | AX78: =IF(AB78="","",AB78) | AY78: =IF(AC78="","",VLOOKUP(AC78,RarityBackground!$A$7:$B$17,2,0)) | AZ78: =IF(AD78="","",IF(AD78="Y",AY78*RarityBackground!$F$5,IF(AD78="N",AY78*(IF(RarityBackground!$F$3+(AE78-1)>10,10,RarityBackground!$F$3+(AE78-1)))))-AY78) | BA78: =IF(AF78="","",VLOOKUP(AF78,RarityBackground!$A$7:$B$17,2,0)) | BB78: =IF(AG78="","",IF(AG78="Y",BA78*RarityBackground!$F$5,IF(AG78="N",BA78*(IF(RarityBackground!$F$3+(AH78-1)>10,10,RarityBackground!$F$3+(AH78-1)))))-BA78)
A79: Dancing Sword | B79: Very Rare | C79: Yes | D79: =IF(A79="","",ROUNDUP(SUM(AI79:BB79)*VLOOKUP(B79,RarityBackground!$A$1:$B$6,2,0)*IF(C79="Yes",1,1.1),0)) -> 5400 | E79: based: spiritual weapon | M79: 2 | N79: Y | AI79: =IF(F79="","",F79+IF(G79="",0,VLOOKUP(G79,RarityBackground!$E$7:$F$9,2,0))) | AJ79: =IF(H79="","",F79+IF(H79=1,RarityBackground!$F$1,IF(H79=2,RarityBackground!$F$1*3,IF(H79=3,RarityBackground!$F$1*6,"Error")))) | AK79: =IF(I79="","",IF(I79=1,RarityBackground!$F$2,IF(I79=2,RarityBackground!$F$2*3,IF(I79=3,RarityBackground!$F$2*6,"Error")))) | AL79: =IF(J79="","",ROUNDUP(RarityBackground!$F$6*VLOOKUP(J79, RarityBackground!$A$18:$B$27,2,0),-1)) | AM79: =IF(K79="","",IF(K79="N","",IF(K79="Y",ROUNDUP(RarityBackground!$F$6,-1),""))) | AN79: =IF(L79="","",IF(L79=1,RarityBackground!$D$1,IF(L79=2,RarityBackground!$D$1*3,IF(L79=3,RarityBackground!$D$1*6,"Error")))) | AO79: =IF(M79="","",VLOOKUP(M79,RarityBackground!$A$7:$B$17,2,0)) -> 180 | AP79: =IF(N79="","",IF(N79="Y",AO79*RarityBackground!$F$5,IF(N79="N",AO79*(IF(RarityBackground!$F$3+(O79-1)>10,10,RarityBackground!$F$3+(O79-1)))))-AO79) -> 1620 | AQ79: =IF(P79="","",(P79*AO79)-AO79) | AR79: =IF(Q79="","",Q79*RarityBackground!$D$5) | AS79: =IF(R79="","",VLOOKUP(R79&"Save1Minute", RarityBackground!$C$6:$D$20,2,0)) | AT79: =IF(S79="","",IF(T79="Y",ROUNDUP(S79*RarityBackground!$D$4,0),IF(T79="N",ROUNDUP(S79*RarityBackground!$D$3,0)))) | AU79: =IF(U79="","",IF(V79="Y",((RarityBackground!$D$4*U79)*(RarityBackground!$F$3+W79)),((RarityBackground!$D$3*U79)*(RarityBackground!$F$3+W79)))) | AV79: =IF(X79="","",IF(Y79="Y",(RarityBackground!$D$4*X79)*IF(Z79="Y",RarityBackground!$F$9,RarityBackground!$F$10),(RarityBackground!$D$3*X79)*IF(Z79="Y",RarityBackground!$F$9,RarityBackground!$F$10))) | AW79: =IF(AA79="","",AA79*RarityBackground!$D$2) | AX79: =IF(AB79="","",AB79) | AY79: =IF(AC79="","",VLOOKUP(AC79,RarityBackground!$A$7:$B$17,2,0)) | AZ79: =IF(AD79="","",IF(AD79="Y",AY79*RarityBackground!$F$5,IF(AD79="N",AY79*(IF(RarityBackground!$F$3+(AE79-1)>10,10,RarityBackground!$F$3+(AE79-1)))))-AY79) | BA79: =IF(AF79="","",VLOOKUP(AF79,RarityBackground!$A$7:$B$17,2,0)) | BB79: =IF(AG79="","",IF(AG79="Y",BA79*RarityBackground!$F$5,IF(AG79="N",BA79*(IF(RarityBackground!$F$3+(AH79-1)>10,10,RarityBackground!$F$3+(AH79-1)))))-BA79)
A80: Decanter of Endless Water | B80: Uncommon | C80: No | D80: =IF(A80="","",ROUNDUP(SUM(AI80:BB80)*VLOOKUP(B80,RarityBackground!$A$1:$B$6,2,0)*IF(C80="Yes",1,1.1),0)) -> 1570 | E80: based: create or destroy water | M80: 1 | N80: Y | R80: Prone | U80: 2 | V80: Y | W80: 0 | AI80: =IF(F80="","",F80+IF(G80="",0,VLOOKUP(G80,RarityBackground!$E$7:$F$9,2,0))) | AJ80: =IF(H80="","",F80+IF(H80=1,RarityBackground!$F$1,IF(H80=2,RarityBackground!$F$1*3,IF(H80=3,RarityBackground!$F$1*6,"Error")))) | AK80: =IF(I80="","",IF(I80=1,RarityBackground!$F$2,IF(I80=2,RarityBackground!$F$2*3,IF(I80=3,RarityBackground!$F$2*6,"Error")))) | AL80: =IF(J80="","",ROUNDUP(RarityBackground!$F$6*VLOOKUP(J80, RarityBackground!$A$18:$B$27,2,0),-1)) | AM80: =IF(K80="","",IF(K80="N","",IF(K80="Y",ROUNDUP(RarityBackground!$F$6,-1),""))) | AN80: =IF(L80="","",IF(L80=1,RarityBackground!$D$1,IF(L80=2,RarityBackground!$D$1*3,IF(L80=3,RarityBackground!$D$1*6,"Error")))) | AO80: =IF(M80="","",VLOOKUP(M80,RarityBackground!$A$7:$B$17,2,0)) -> 90 | AP80: =IF(N80="","",IF(N80="Y",AO80*RarityBackground!$F$5,IF(N80="N",AO80*(IF(RarityBackground!$F$3+(O80-1)>10,10,RarityBackground!$F$3+(O80-1)))))-AO80) -> 810 | AQ80: =IF(P80="","",(P80*AO80)-AO80) | AR80: =IF(Q80="","",Q80*RarityBackground!$D$5) | AS80: =IF(R80="","",VLOOKUP(R80&"Save1Minute", RarityBackground!$C$6:$D$20,2,0)) -> 30 | AT80: =IF(S80="","",IF(T80="Y",ROUNDUP(S80*RarityBackground!$D$4,0),IF(T80="N",ROUNDUP(S80*RarityBackground!$D$3,0)))) | AU80: =IF(U80="","",IF(V80="Y",((RarityBackground!$D$4*U80)*(RarityBackground!$F$3+W80)),((RarityBackground!$D$3*U80)*(RarityBackground!$F$3+W80)))) -> 21.44 | AV80: =IF(X80="","",IF(Y80="Y",(RarityBackground!$D$4*X80)*IF(Z80="Y",RarityBackground!$F$9,RarityBackground!$F$10),(RarityBackground!$D$3*X80)*IF(Z80="Y",RarityBackground!$F$9,RarityBackground!$F$10))) | AW80: =IF(AA80="","",AA80*RarityBackground!$D$2) | AX80: =IF(AB80="","",AB80) | AY80: =IF(AC80="","",VLOOKUP(AC80,RarityBackground!$A$7:$B$17,2,0)) | AZ80: =IF(AD80="","",IF(AD80="Y",AY80*RarityBackground!$F$5,IF(AD80="N",AY80*(IF(RarityBackground!$F$3+(AE80-1)>10,10,RarityBackground!$F$3+(AE80-1)))))-AY80) | BA80: =IF(AF80="","",VLOOKUP(AF80,RarityBackground!$A$7:$B$17,2,0)) | BB80: =IF(AG80="","",IF(AG80="Y",BA80*RarityBackground!$F$5,IF(AG80="N",BA80*(IF(RarityBackground!$F$3+(AH80-1)>10,10,RarityBackground!$F$3+(AH80-1)))))-BA80)
A81: Deck of Illusions | B81: Uncommon | C81: Yes | D81: =IF(A81="","",ROUNDUP(SUM(AI81:BB81)*VLOOKUP(B81,RarityBackground!$A$1:$B$6,2,0)*IF(C81="Yes",1,1.1),0)) -> 16200 | E81: based: major image, add charges based on cards | M81: 3 | N81: N | P81: 34 | AI81: =IF(F81="","",F81+IF(G81="",0,VLOOKUP(G81,RarityBackground!$E$7:$F$9,2,0))) | AJ81: =IF(H81="","",F81+IF(H81=1,RarityBackground!$F$1,IF(H81=2,RarityBackground!$F$1*3,IF(H81=3,RarityBackground!$F$1*6,"Error")))) | AK81: =IF(I81="","",IF(I81=1,RarityBackground!$F$2,IF(I81=2,RarityBackground!$F$2*3,IF(I81=3,RarityBackground!$F$2*6,"Error")))) | AL81: =IF(J81="","",ROUNDUP(RarityBackground!$F$6*VLOOKUP(J81, RarityBackground!$A$18:$B$27,2,0),-1)) | AM81: =IF(K81="","",IF(K81="N","",IF(K81="Y",ROUNDUP(RarityBackground!$F$6,-1),""))) | AN81: =IF(L81="","",IF(L81=1,RarityBackground!$D$1,IF(L81=2,RarityBackground!$D$1*3,IF(L81=3,RarityBackground!$D$1*6,"Error")))) | AO81: =IF(M81="","",VLOOKUP(M81,RarityBackground!$A$7:$B$17,2,0)) -> 300 | AP81: =IF(N81="","",IF(N81="Y",AO81*RarityBackground!$F$5,IF(N81="N",AO81*(IF(RarityBackground!$F$3+(O81-1)>10,10,RarityBackground!$F$3+(O81-1)))))-AO81) -> 600 | AQ81: =IF(P81="","",(P81*AO81)-AO81) -> 9900 | AR81: =IF(Q81="","",Q81*RarityBackground!$D$5) | AS81: =IF(R81="","",VLOOKUP(R81&"Save1Minute", RarityBackground!$C$6:$D$20,2,0)) | AT81: =IF(S81="","",IF(T81="Y",ROUNDUP(S81*RarityBackground!$D$4,0),IF(T81="N",ROUNDUP(S81*RarityBackground!$D$3,0)))) | AU81: =IF(U81="","",IF(V81="Y",((RarityBackground!$D$4*U81)*(RarityBackground!$F$3+W81)),((RarityBackground!$D$3*U81)*(RarityBackground!$F$3+W81)))) | AV81: =IF(X81="","",IF(Y81="Y",(RarityBackground!$D$4*X81)*IF(Z81="Y",RarityBackground!$F$9,RarityBackground!$F$10),(RarityBackground!$D$3*X81)*IF(Z81="Y",RarityBackground!$F$9,RarityBackground!$F$10))) | AW81: =IF(AA81="","",AA81*RarityBackground!$D$2) | AX81: =IF(AB81="","",AB81) | AY81: =IF(AC81="","",VLOOKUP(AC81,RarityBackground!$A$7:$B$17,2,0)) | AZ81: =IF(AD81="","",IF(AD81="Y",AY81*RarityBackground!$F$5,IF(AD81="N",AY81*(IF(RarityBackground!$F$3+(AE81-1)>10,10,RarityBackground!$F$3+(AE81-1)))))-AY81) | BA81: =IF(AF81="","",VLOOKUP(AF81,RarityBackground!$A$7:$B$17,2,0)) | BB81: =IF(AG81="","",IF(AG81="Y",BA81*RarityBackground!$F$5,IF(AG81="N",BA81*(IF(RarityBackground!$F$3+(AH81-1)>10,10,RarityBackground!$F$3+(AH81-1)))))-BA81)
A82: Deck of Many Things | B82: Legendary | C82: No | D82: =IF(A82="","",ROUNDUP(SUM(AI82:BB82)*VLOOKUP(B82,RarityBackground!$A$1:$B$6,2,0)*IF(C82="Yes",1,1.1),0)) -> 0 | E82: haha | AI82: =IF(F82="","",F82+IF(G82="",0,VLOOKUP(G82,RarityBackground!$E$7:$F$9,2,0))) | AJ82: =IF(H82="","",F82+IF(H82=1,RarityBackground!$F$1,IF(H82=2,RarityBackground!$F$1*3,IF(H82=3,RarityBackground!$F$1*6,"Error")))) | AK82: =IF(I82="","",IF(I82=1,RarityBackground!$F$2,IF(I82=2,RarityBackground!$F$2*3,IF(I82=3,RarityBackground!$F$2*6,"Error")))) | AL82: =IF(J82="","",ROUNDUP(RarityBackground!$F$6*VLOOKUP(J82, RarityBackground!$A$18:$B$27,2,0),-1)) | AM82: =IF(K82="","",IF(K82="N","",IF(K82="Y",ROUNDUP(RarityBackground!$F$6,-1),""))) | AN82: =IF(L82="","",IF(L82=1,RarityBackground!$D$1,IF(L82=2,RarityBackground!$D$1*3,IF(L82=3,RarityBackground!$D$1*6,"Error")))) | AO82: =IF(M82="","",VLOOKUP(M82,RarityBackground!$A$7:$B$17,2,0)) | AP82: =IF(N82="","",IF(N82="Y",AO82*RarityBackground!$F$5,IF(N82="N",AO82*(IF(RarityBackground!$F$3+(O82-1)>10,10,RarityBackground!$F$3+(O82-1)))))-AO82) | AQ82: =IF(P82="","",(P82*AO82)-AO82) | AR82: =IF(Q82="","",Q82*RarityBackground!$D$5) | AS82: =IF(R82="","",VLOOKUP(R82&"Save1Minute", RarityBackground!$C$6:$D$20,2,0)) | AT82: =IF(S82="","",IF(T82="Y",ROUNDUP(S82*RarityBackground!$D$4,0),IF(T82="N",ROUNDUP(S82*RarityBackground!$D$3,0)))) | AU82: =IF(U82="","",IF(V82="Y",((RarityBackground!$D$4*U82)*(RarityBackground!$F$3+W82)),((RarityBackground!$D$3*U82)*(RarityBackground!$F$3+W82)))) | AV82: =IF(X82="","",IF(Y82="Y",(RarityBackground!$D$4*X82)*IF(Z82="Y",RarityBackground!$F$9,RarityBackground!$F$10),(RarityBackground!$D$3*X82)*IF(Z82="Y",RarityBackground!$F$9,RarityBackground!$F$10))) | AW82: =IF(AA82="","",AA82*RarityBackground!$D$2) | AX82: =IF(AB82="","",AB82) | AY82: =IF(AC82="","",VLOOKUP(AC82,RarityBackground!$A$7:$B$17,2,0)) | AZ82: =IF(AD82="","",IF(AD82="Y",AY82*RarityBackground!$F$5,IF(AD82="N",AY82*(IF(RarityBackground!$F$3+(AE82-1)>10,10,RarityBackground!$F$3+(AE82-1)))))-AY82) | BA82: =IF(AF82="","",VLOOKUP(AF82,RarityBackground!$A$7:$B$17,2,0)) | BB82: =IF(AG82="","",IF(AG82="Y",BA82*RarityBackground!$F$5,IF(AG82="N",BA82*(IF(RarityBackground!$F$3+(AH82-1)>10,10,RarityBackground!$F$3+(AH82-1)))))-BA82)
A83: Defender | B83: Legendary | C83: Yes | D83: =IF(A83="","",ROUNDUP(SUM(AI83:BB83)*VLOOKUP(B83,RarityBackground!$A$1:$B$6,2,0)*IF(C83="Yes",1,1.1),0)) -> 15000 | L83: 3 | AI83: =IF(F83="","",F83+IF(G83="",0,VLOOKUP(G83,RarityBackground!$E$7:$F$9,2,0))) | AJ83: =IF(H83="","",F83+IF(H83=1,RarityBackground!$F$1,IF(H83=2,RarityBackground!$F$1*3,IF(H83=3,RarityBackground!$F$1*6,"Error")))) | AK83: =IF(I83="","",IF(I83=1,RarityBackground!$F$2,IF(I83=2,RarityBackground!$F$2*3,IF(I83=3,RarityBackground!$F$2*6,"Error")))) | AL83: =IF(J83="","",ROUNDUP(RarityBackground!$F$6*VLOOKUP(J83, RarityBackground!$A$18:$B$27,2,0),-1)) | AM83: =IF(K83="","",IF(K83="N","",IF(K83="Y",ROUNDUP(RarityBackground!$F$6,-1),""))) | AN83: =IF(L83="","",IF(L83=1,RarityBackground!$D$1,IF(L83=2,RarityBackground!$D$1*3,IF(L83=3,RarityBackground!$D$1*6,"Error")))) -> 3000 | AO83: =IF(M83="","",VLOOKUP(M83,RarityBackground!$A$7:$B$17,2,0)) | AP83: =IF(N83="","",IF(N83="Y",AO83*RarityBackground!$F$5,IF(N83="N",AO83*(IF(RarityBackground!$F$3+(O83-1)>10,10,RarityBackground!$F$3+(O83-1)))))-AO83) | AQ83: =IF(P83="","",(P83*AO83)-AO83) | AR83: =IF(Q83="","",Q83*RarityBackground!$D$5) | AS83: =IF(R83="","",VLOOKUP(R83&"Save1Minute", RarityBackground!$C$6:$D$20,2,0)) | AT83: =IF(S83="","",IF(T83="Y",ROUNDUP(S83*RarityBackground!$D$4,0),IF(T83="N",ROUNDUP(S83*RarityBackground!$D$3,0)))) | AU83: =IF(U83="","",IF(V83="Y",((RarityBackground!$D$4*U83)*(RarityBackground!$F$3+W83)),((RarityBackground!$D$3*U83)*(RarityBackground!$F$3+W83)))) | AV83: =IF(X83="","",IF(Y83="Y",(RarityBackground!$D$4*X83)*IF(Z83="Y",RarityBackground!$F$9,RarityBackground!$F$10),(RarityBackground!$D$3*X83)*IF(Z83="Y",RarityBackground!$F$9,RarityBackground!$F$10))) | AW83: =IF(AA83="","",AA83*RarityBackground!$D$2) | AX83: =IF(AB83="","",AB83) | AY83: =IF(AC83="","",VLOOKUP(AC83,RarityBackground!$A$7:$B$17,2,0)) | AZ83: =IF(AD83="","",IF(AD83="Y",AY83*RarityBackground!$F$5,IF(AD83="N",AY83*(IF(RarityBackground!$F$3+(AE83-1)>10,10,RarityBackground!$F$3+(AE83-1)))))-AY83) | BA83: =IF(AF83="","",VLOOKUP(AF83,RarityBackground!$A$7:$B$17,2,0)) | BB83: =IF(AG83="","",IF(AG83="Y",BA83*RarityBackground!$F$5,IF(AG83="N",BA83*(IF(RarityBackground!$F$3+(AH83-1)>10,10,RarityBackground!$F$3+(AH83-1)))))-BA83)
A84: Demon Armor | B84: Very Rare | C84: Yes | D84: =IF(A84="","",ROUNDUP(SUM(AI84:BB84)*VLOOKUP(B84,RarityBackground!$A$1:$B$6,2,0)*IF(C84="Yes",1,1.1),0)) -> 13200 | F84: 1500 | H84: 1 | L84: 1 | AI84: =IF(F84="","",F84+IF(G84="",0,VLOOKUP(G84,RarityBackground!$E$7:$F$9,2,0))) -> 1500 | AJ84: =IF(H84="","",F84+IF(H84=1,RarityBackground!$F$1,IF(H84=2,RarityBackground!$F$1*3,IF(H84=3,RarityBackground!$F$1*6,"Error")))) -> 2400 | AK84: =IF(I84="","",IF(I84=1,RarityBackground!$F$2,IF(I84=2,RarityBackground!$F$2*3,IF(I84=3,RarityBackground!$F$2*6,"Error")))) | AL84: =IF(J84="","",ROUNDUP(RarityBackground!$F$6*VLOOKUP(J84, RarityBackground!$A$18:$B$27,2,0),-1)) | AM84: =IF(K84="","",IF(K84="N","",IF(K84="Y",ROUNDUP(RarityBackground!$F$6,-1),""))) | AN84: =IF(L84="","",IF(L84=1,RarityBackground!$D$1,IF(L84=2,RarityBackground!$D$1*3,IF(L84=3,RarityBackground!$D$1*6,"Error")))) -> 500 | AO84: =IF(M84="","",VLOOKUP(M84,RarityBackground!$A$7:$B$17,2,0)) | AP84: =IF(N84="","",IF(N84="Y",AO84*RarityBackground!$F$5,IF(N84="N",AO84*(IF(RarityBackground!$F$3+(O84-1)>10,10,RarityBackground!$F$3+(O84-1)))))-AO84) | AQ84: =IF(P84="","",(P84*AO84)-AO84) | AR84: =IF(Q84="","",Q84*RarityBackground!$D$5) | AS84: =IF(R84="","",VLOOKUP(R84&"Save1Minute", RarityBackground!$C$6:$D$20,2,0)) | AT84: =IF(S84="","",IF(T84="Y",ROUNDUP(S84*RarityBackground!$D$4,0),IF(T84="N",ROUNDUP(S84*RarityBackground!$D$3,0)))) | AU84: =IF(U84="","",IF(V84="Y",((RarityBackground!$D$4*U84)*(RarityBackground!$F$3+W84)),((RarityBackground!$D$3*U84)*(RarityBackground!$F$3+W84)))) | AV84: =IF(X84="","",IF(Y84="Y",(RarityBackground!$D$4*X84)*IF(Z84="Y",RarityBackground!$F$9,RarityBackground!$F$10),(RarityBackground!$D$3*X84)*IF(Z84="Y",RarityBackground!$F$9,RarityBackground!$F$10))) | AW84: =IF(AA84="","",AA84*RarityBackground!$D$2) | AX84: =IF(AB84="","",AB84) | AY84: =IF(AC84="","",VLOOKUP(AC84,RarityBackground!$A$7:$B$17,2,0)) | AZ84: =IF(AD84="","",IF(AD84="Y",AY84*RarityBackground!$F$5,IF(AD84="N",AY84*(IF(RarityBackground!$F$3+(AE84-1)>10,10,RarityBackground!$F$3+(AE84-1)))))-AY84) | BA84: =IF(AF84="","",VLOOKUP(AF84,RarityBackground!$A$7:$B$17,2,0)) | BB84: =IF(AG84="","",IF(AG84="Y",BA84*RarityBackground!$F$5,IF(AG84="N",BA84*(IF(RarityBackground!$F$3+(AH84-1)>10,10,RarityBackground!$F$3+(AH84-1)))))-BA84)
A85: Dimensional Shackles | B85: Rare | C85: No | D85: =IF(A85="","",ROUNDUP(SUM(AI85:BB85)*VLOOKUP(B85,RarityBackground!$A$1:$B$6,2,0)*IF(C85="Yes",1,1.1),0)) -> 9900 | E85: based: counterspell (plus 1 level) | M85: 4 | N85: Y | AI85: =IF(F85="","",F85+IF(G85="",0,VLOOKUP(G85,RarityBackground!$E$7:$F$9,2,0))) | AJ85: =IF(H85="","",F85+IF(H85=1,RarityBackground!$F$1,IF(H85=2,RarityBackground!$F$1*3,IF(H85=3,RarityBackground!$F$1*6,"Error")))) | AK85: =IF(I85="","",IF(I85=1,RarityBackground!$F$2,IF(I85=2,RarityBackground!$F$2*3,IF(I85=3,RarityBackground!$F$2*6,"Error")))) | AL85: =IF(J85="","",ROUNDUP(RarityBackground!$F$6*VLOOKUP(J85, RarityBackground!$A$18:$B$27,2,0),-1)) | AM85: =IF(K85="","",IF(K85="N","",IF(K85="Y",ROUNDUP(RarityBackground!$F$6,-1),""))) | AN85: =IF(L85="","",IF(L85=1,RarityBackground!$D$1,IF(L85=2,RarityBackground!$D$1*3,IF(L85=3,RarityBackground!$D$1*6,"Error")))) | AO85: =IF(M85="","",VLOOKUP(M85,RarityBackground!$A$7:$B$17,2,0)) -> 450 | AP85: =IF(N85="","",IF(N85="Y",AO85*RarityBackground!$F$5,IF(N85="N",AO85*(IF(RarityBackground!$F$3+(O85-1)>10,10,RarityBackground!$F$3+(O85-1)))))-AO85) -> 4050 | AQ85: =IF(P85="","",(P85*AO85)-AO85) | AR85: =IF(Q85="","",Q85*RarityBackground!$D$5) | AS85: =IF(R85="","",VLOOKUP(R85&"Save1Minute", RarityBackground!$C$6:$D$20,2,0)) | AT85: =IF(S85="","",IF(T85="Y",ROUNDUP(S85*RarityBackground!$D$4,0),IF(T85="N",ROUNDUP(S85*RarityBackground!$D$3,0)))) | AU85: =IF(U85="","",IF(V85="Y",((RarityBackground!$D$4*U85)*(RarityBackground!$F$3+W85)),((RarityBackground!$D$3*U85)*(RarityBackground!$F$3+W85)))) | AV85: =IF(X85="","",IF(Y85="Y",(RarityBackground!$D$4*X85)*IF(Z85="Y",RarityBackground!$F$9,RarityBackground!$F$10),(RarityBackground!$D$3*X85)*IF(Z85="Y",RarityBackground!$F$9,RarityBackground!$F$10))) | AW85: =IF(AA85="","",AA85*RarityBackground!$D$2) | AX85: =IF(AB85="","",AB85) | AY85: =IF(AC85="","",VLOOKUP(AC85,RarityBackground!$A$7:$B$17,2,0)) | AZ85: =IF(AD85="","",IF(AD85="Y",AY85*RarityBackground!$F$5,IF(AD85="N",AY85*(IF(RarityBackground!$F$3+(AE85-1)>10,10,RarityBackground!$F$3+(AE85-1)))))-AY85) | BA85: =IF(AF85="","",VLOOKUP(AF85,RarityBackground!$A$7:$B$17,2,0)) | BB85: =IF(AG85="","",IF(AG85="Y",BA85*RarityBackground!$F$5,IF(AG85="N",BA85*(IF(RarityBackground!$F$3+(AH85-1)>10,10,RarityBackground!$F$3+(AH85-1)))))-BA85)
A86: Dragon Scale Mail | B86: Very Rare | C86: Yes | D86: =IF(A86="","",ROUNDUP(SUM(AI86:BB86)*VLOOKUP(B86,RarityBackground!$A$1:$B$6,2,0)*IF(C86="Yes",1,1.1),0)) -> 21900 | E86: based: locate creature, protection from energy (plus 1 level, no concentration) | F86: 50 | H86: 1 | M86: 4 | N86: Y | AC86: 4 | AD86: N | AE86: 1 | AI86: =IF(F86="","",F86+IF(G86="",0,VLOOKUP(G86,RarityBackground!$E$7:$F$9,2,0))) -> 50 | AJ86: =IF(H86="","",F86+IF(H86=1,RarityBackground!$F$1,IF(H86=2,RarityBackground!$F$1*3,IF(H86=3,RarityBackground!$F$1*6,"Error")))) -> 950 | AK86: =IF(I86="","",IF(I86=1,RarityBackground!$F$2,IF(I86=2,RarityBackground!$F$2*3,IF(I86=3,RarityBackground!$F$2*6,"Error")))) | AL86: =IF(J86="","",ROUNDUP(RarityBackground!$F$6*VLOOKUP(J86, RarityBackground!$A$18:$B$27,2,0),-1)) | AM86: =IF(K86="","",IF(K86="N","",IF(K86="Y",ROUNDUP(RarityBackground!$F$6,-1),""))) | AN86: =IF(L86="","",IF(L86=1,RarityBackground!$D$1,IF(L86=2,RarityBackground!$D$1*3,IF(L86=3,RarityBackground!$D$1*6,"Error")))) | AO86: =IF(M86="","",VLOOKUP(M86,RarityBackground!$A$7:$B$17,2,0)) -> 450 | AP86: =IF(N86="","",IF(N86="Y",AO86*RarityBackground!$F$5,IF(N86="N",AO86*(IF(RarityBackground!$F$3+(O86-1)>10,10,RarityBackground!$F$3+(O86-1)))))-AO86) -> 4050 | AQ86: =IF(P86="","",(P86*AO86)-AO86) | AR86: =IF(Q86="","",Q86*RarityBackground!$D$5) | AS86: =IF(R86="","",VLOOKUP(R86&"Save1Minute", RarityBackground!$C$6:$D$20,2,0)) | AT86: =IF(S86="","",IF(T86="Y",ROUNDUP(S86*RarityBackground!$D$4,0),IF(T86="N",ROUNDUP(S86*RarityBackground!$D$3,0)))) | AU86: =IF(U86="","",IF(V86="Y",((RarityBackground!$D$4*U86)*(RarityBackground!$F$3+W86)),((RarityBackground!$D$3*U86)*(RarityBackground!$F$3+W86)))) | AV86: =IF(X86="","",IF(Y86="Y",(RarityBackground!$D$4*X86)*IF(Z86="Y",RarityBackground!$F$9,RarityBackground!$F$10),(RarityBackground!$D$3*X86)*IF(Z86="Y",RarityBackground!$F$9,RarityBackground!$F$10))) | AW86: =IF(AA86="","",AA86*RarityBackground!$D$2) | AX86: =IF(AB86="","",AB86) | AY86: =IF(AC86="","",VLOOKUP(AC86,RarityBackground!$A$7:$B$17,2,0)) -> 450 | AZ86: =IF(AD86="","",IF(AD86="Y",AY86*RarityBackground!$F$5,IF(AD86="N",AY86*(IF(RarityBackground!$F$3+(AE86-1)>10,10,RarityBackground!$F$3+(AE86-1)))))-AY86) -> 1350 | BA86: =IF(AF86="","",VLOOKUP(AF86,RarityBackground!$A$7:$B$17,2,0)) | BB86: =IF(AG86="","",IF(AG86="Y",BA86*RarityBackground!$F$5,IF(AG86="N",BA86*(IF(RarityBackground!$F$3+(AH86-1)>10,10,RarityBackground!$F$3+(AH86-1)))))-BA86)
