Workbook

Sheet DMG
A1: Item Name | B1: Rarity | C1: Attunement | D1: Cost (gp) | E1: Note | F1: Armor Cost | G1: Rare Material | H1: AC Bonus | I1: Save Bonus | J1: Set Score (Modifier) | K1: +2 Bonus To Score (Y/N) | L1: Weapon Bonus | M1: Spell Level | N1: Unlimited Charges (Y/N) | O1: Charges/Day (Unlimit = 7) | P1: Charges/Item (Destroyed) | Q1: Spells Share Charges | R1: Condition (1Min, Save) | S1: Consumable Damage (Avg) | T1: Consumable Save? (Y/N) | U1: Semi-Permanent Damage (Avg) | V1: Semi-Perm Save? (Y/N) | W1: Duration? (Minutes) | X1: Permanent Damage (Avg) | Y1: Perm Save? (Y/N) | Z1: Specific Situations (Y/N) | AA1: Restore HP (Avg) | AB1: Misc. Costs | AC1: 2 Spell Level | AD1: 2 Unlimited Charges (Y/N) | AE1: 2 Charges/Day (Unlimit = 7) | AF1: 3 Spell Level | AG1: 3 Unlimited Charges (Y/N) | AH1: 3 Charges/Day (Unlimit = 7) | AI1: MatCost | AJ1: ACCost | AK1: SaveCost | AL1: SetScore Cost | AM1: BonusScore Cost | AN1: WeaponCost | AO1: Consum Spell Cost | AP1: PermCharges Cost | AQ1: Charges - Destroyed | AR1: SpellShare ChargesCost | AS1: ConditionCost | AT1: ConsDMG Cost | AU1: Sm-PrDMG Cost | AV1: PerDMG Cost | AW1: AVGHP Cost | AX1: MiscCost | AY1: 2 Consum Spell Cost | AZ1: 2 Perm Charges Cost | BA1: 3 Consum Spell Cost | BB1: 3 Perm Charges Cost
A2: Adamantine Chain Shirt | B2: Uncommon | C2: No | D2: =IF(A2="","",ROUNDUP(SUM(AI2:BB2)*VLOOKUP(B2,RarityBackground!$A$1:$B$6,2,0)*IF(C2="Yes",1,1.1),0)) -> 5033 | F2: 50 | G2: Adamantine | AI2: =IF(F2="","",F2+IF(G2="",0,VLOOKUP(G2,RarityBackground!$E$7:$F$9,2,0))) -> 3050 | AJ2: =IF(H2="","",F2+IF(H2=1,RarityBackground!$F$1,IF(H2=2,RarityBackground!$F$1*3,IF(H2=3,RarityBackground!$F$1*6,"Error")))) | AK2: =IF(I2="","",IF(I2=1,RarityBackground!$F$2,IF(I2=2,RarityBackground!$F$2*3,IF(I2=3,RarityBackground!$F$2*6,"Error")))) | AL2: =IF(J2="","",ROUNDUP(RarityBackground!$F$6*VLOOKUP(J2, RarityBackground!$A$18:$B$27,2,0),-1)) | AM2: =IF(K2="","",IF(K2="N","",IF(K2="Y",ROUNDUP(RarityBackground!$F$6,-1),""))) | AN2: =IF(L2="","",IF(L2=1,RarityBackground!$D$1,IF(L2=2,RarityBackground!$D$1*3,IF(L2=3,RarityBackground!$D$1*6,"Error")))) | AO2: =IF(M2="","",VLOOKUP(M2,RarityBackground!$A$7:$B$17,2,0)) | AP2: =IF(N2="","",IF(N2="Y",AO2*RarityBackground!$F$5,IF(N2="N",AO2*(IF(RarityBackground!$F$3+(O2-1)>10,10,RarityBackground!$F$3+(O2-1)))))-AO2) | AQ2: =IF(P2="","",(P2*AO2)-AO2) | AR2: =IF(Q2="","",Q2*RarityBackground!$D$5) | AS2: =IF(R2="","",VLOOKUP(R2&"Save1Minute", RarityBackground!$C$6:$D$20,2,0)) | AT2: =IF(S2="","",IF(T2="Y",ROUNDUP(S2*RarityBackground!$D$4,0),IF(T2="N",ROUNDUP(S2*RarityBackground!$D$3,0)))) | AU2: =IF(U2="","",IF(V2="Y",((RarityBackground!$D$4*U2)*(RarityBackground!$F$3+W2)),((RarityBackground!$D$3*U2)*(RarityBackground!$F$3+W2)))) | AV2: =IF(X2="","",IF(Y2="Y",(RarityBackground!$D$4*X2)*IF(Z2="Y",RarityBackground!$F$9,RarityBackground!$F$10),(RarityBackground!$D$3*X2)*IF(Z2="Y",RarityBackground!$F$9,RarityBackground!$F$10))) | AW2: =IF(AA2="","",AA2*RarityBackground!$D$2) | AX2: =IF(AB2="","",AB2) | AY2: =IF(AC2="","",VLOOKUP(AC2,RarityBackground!$A$7:$B$17,2,0)) | AZ2: =IF(AD2="","",IF(AD2="Y",AY2*RarityBackground!$F$5,IF(AD2="N",AY2*(IF(RarityBackground!$F$3+(AE2-1)>10,10,RarityBackground!$F$3+(AE2-1)))))-AY2) | BA2: =IF(AF2="","",VLOOKUP(AF2,RarityBackground!$A$7:$B$17,2,0)) | BB2: =IF(AG2="","",IF(AG2="Y",BA2*RarityBackground!$F$5,IF(AG2="N",BA2*(IF(RarityBackground!$F$3+(AH2-1)>10,10,RarityBackground!$F$3+(AH2-1)))))-BA2)
A3: Adamantine Scale Mail | B3: Uncommon | C3: No | D3: =IF(A3="","",ROUNDUP(SUM(AI3:BB3)*VLOOKUP(B3,RarityBackground!$A$1:$B$6,2,0)*IF(C3="Yes",1,1.1),0)) -> 5033 | F3: 50 | G3: Adamantine | AI3: =IF(F3="","",F3+IF(G3="",0,VLOOKUP(G3,RarityBackground!$E$7:$F$9,2,0))) -> 3050 | AJ3: =IF(H3="","",F3+IF(H3=1,RarityBackground!$F$1,IF(H3=2,RarityBackground!$F$1*3,IF(H3=3,RarityBackground!$F$1*6,"Error")))) | AK3: =IF(I3="","",IF(I3=1,RarityBackground!$F$2,IF(I3=2,RarityBackground!$F$2*3,IF(I3=3,RarityBackground!$F$2*6,"Error")))) | AL3: =IF(J3="","",ROUNDUP(RarityBackground!$F$6*VLOOKUP(J3, RarityBackground!$A$18:$B$27,2,0),-1)) | AM3: =IF(K3="","",IF(K3="N","",IF(K3="Y",ROUNDUP(RarityBackground!$F$6,-1),""))) | AN3: =IF(L3="","",IF(L3=1,RarityBackground!$D$1,IF(L3=2,RarityBackground!$D$1*3,IF(L3=3,RarityBackground!$D$1*6,"Error")))) | AO3: =IF(M3="","",VLOOKUP(M3,RarityBackground!$A$7:$B$17,2,0)) | AP3: =IF(N3="","",IF(N3="Y",AO3*RarityBackground!$F$5,IF(N3="N",AO3*(IF(RarityBackground!$F$3+(O3-1)>10,10,RarityBackground!$F$3+(O3-1)))))-AO3) | AQ3: =IF(P3="","",(P3*AO3)-AO3) | AR3: =IF(Q3="","",Q3*RarityBackground!$D$5) | AS3: =IF(R3="","",VLOOKUP(R3&"Save1Minute", RarityBackground!$C$6:$D$20,2,0)) | AT3: =IF(S3="","",IF(T3="Y",ROUNDUP(S3*RarityBackground!$D$4,0),IF(T3="N",ROUNDUP(S3*RarityBackground!$D$3,0)))) | AU3: =IF(U3="","",IF(V3="Y",((RarityBackground!$D$4*U3)*(RarityBackground!$F$3+W3)),((RarityBackground!$D$3*U3)*(RarityBackground!$F$3+W3)))) | AV3: =IF(X3="","",IF(Y3="Y",(RarityBackground!$D$4*X3)*IF(Z3="Y",RarityBackground!$F$9,RarityBackground!$F$10),(RarityBackground!$D$3*X3)*IF(Z3="Y",RarityBackground!$F$9,RarityBackground!$F$10))) | AW3: =IF(AA3="","",AA3*RarityBackground!$D$2) | AX3: =IF(AB3="","",AB3) | AY3: =IF(AC3="","",VLOOKUP(AC3,RarityBackground!$A$7:$B$17,2,0)) | AZ3: =IF(AD3="","",IF(AD3="Y",AY3*RarityBackground!$F$5,IF(AD3="N",AY3*(IF(RarityBackground!$F$3+(AE3-1)>10,10,RarityBackground!$F$3+(AE3-1)))))-AY3) | BA3: =IF(AF3="","",VLOOKUP(AF3,RarityBackground!$A$7:$B$17,2,0)) | BB3: =IF(AG3="","",IF(AG3="Y",BA3*RarityBackground!$F$5,IF(AG3="N",BA3*(IF(RarityBackground!$F$3+(AH3-1)>10,10,RarityBackground!$F$3+(AH3-1)))))-BA3)
A4: Adamantine Breastplate | B4: Uncommon | C4: No | D4: =IF(A4="","",ROUNDUP(SUM(AI4:BB4)*VLOOKUP(B4,RarityBackground!$A$1:$B$6,2,0)*IF(C4="Yes",1,1.1),0)) -> 5610 | F4: 400 | G4: Adamantine | AI4: =IF(F4="","",F4+IF(G4="",0,VLOOKUP(G4,RarityBackground!$E$7:$F$9,2,0))) -> 3400 | AJ4: =IF(H4="","",F4+IF(H4=1,RarityBackground!$F$1,IF(H4=2,RarityBackground!$F$1*3,IF(H4=3,RarityBackground!$F$1*6,"Error")))) | AK4: =IF(I4="","",IF(I4=1,RarityBackground!$F$2,IF(I4=2,RarityBackground!$F$2*3,IF(I4=3,RarityBackground!$F$2*6,"Error")))) | AL4: =IF(J4="","",ROUNDUP(RarityBackground!$F$6*VLOOKUP(J4, RarityBackground!$A$18:$B$27,2,0),-1)) | AM4: =IF(K4="","",IF(K4="N","",IF(K4="Y",ROUNDUP(RarityBackground!$F$6,-1),""))) | AN4: =IF(L4="","",IF(L4=1,RarityBackground!$D$1,IF(L4=2,RarityBackground!$D$1*3,IF(L4=3,RarityBackground!$D$1*6,"Error")))) | AO4: =IF(M4="","",VLOOKUP(M4,RarityBackground!$A$7:$B$17,2,0)) | AP4: =IF(N4="","",IF(N4="Y",AO4*RarityBackground!$F$5,IF(N4="N",AO4*(IF(RarityBackground!$F$3+(O4-1)>10,10,RarityBackground!$F$3+(O4-1)))))-AO4) | AQ4: =IF(P4="","",(P4*AO4)-AO4) | AR4: =IF(Q4="","",Q4*RarityBackground!$D$5) | AS4: =IF(R4="","",VLOOKUP(R4&"Save1Minute", RarityBackground!$C$6:$D$20,2,0)) | AT4: =IF(S4="","",IF(T4="Y",ROUNDUP(S4*RarityBackground!$D$4,0),IF(T4="N",ROUNDUP(S4*RarityBackground!$D$3,0)))) | AU4: =IF(U4="","",IF(V4="Y",((RarityBackground!$D$4*U4)*(RarityBackground!$F$3+W4)),((RarityBackground!$D$3*U4)*(RarityBackground!$F$3+W4)))) | AV4: =IF(X4="","",IF(Y4="Y",(RarityBackground!$D$4*X4)*IF(Z4="Y",RarityBackground!$F$9,RarityBackground!$F$10),(RarityBackground!$D$3*X4)*IF(Z4="Y",RarityBackground!$F$9,RarityBackground!$F$10))) | AW4: =IF(AA4="","",AA4*RarityBackground!$D$2) | AX4: =IF(AB4="","",AB4) | AY4: =IF(AC4="","",VLOOKUP(AC4,RarityBackground!$A$7:$B$17,2,0)) | AZ4: =IF(AD4="","",IF(AD4="Y",AY4*RarityBackground!$F$5,IF(AD4="N",AY4*(IF(RarityBackground!$F$3+(AE4-1)>10,10,RarityBackground!$F$3+(AE4-1)))))-AY4) | BA4: =IF(AF4="","",VLOOKUP(AF4,RarityBackground!$A$7:$B$17,2,0)) | BB4: =IF(AG4="","",IF(AG4="Y",BA4*RarityBackground!$F$5,IF(AG4="N",BA4*(IF(RarityBackground!$F$3+(AH4-1)>10,10,RarityBackground!$F$3+(AH4-1)))))-BA4)
A5: Adamantine Half Plate | B5: Uncommon | C5: No | D5: =IF(A5="","",ROUNDUP(SUM(AI5:BB5)*VLOOKUP(B5,RarityBackground!$A$1:$B$6,2,0)*IF(C5="Yes",1,1.1),0)) -> 6188 | F5: 750 | G5: Adamantine | AI5: =IF(F5="","",F5+IF(G5="",0,VLOOKUP(G5,RarityBackground!$E$7:$F$9,2,0))) -> 3750 | AJ5: =IF(H5="","",F5+IF(H5=1,RarityBackground!$F$1,IF(H5=2,RarityBackground!$F$1*3,IF(H5=3,RarityBackground!$F$1*6,"Error")))) | AK5: =IF(I5="","",IF(I5=1,RarityBackground!$F$2,IF(I5=2,RarityBackground!$F$2*3,IF(I5=3,RarityBackground!$F$2*6,"Error")))) | AL5: =IF(J5="","",ROUNDUP(RarityBackground!$F$6*VLOOKUP(J5, RarityBackground!$A$18:$B$27,2,0),-1)) | AM5: =IF(K5="","",IF(K5="N","",IF(K5="Y",ROUNDUP(RarityBackground!$F$6,-1),""))) | AN5: =IF(L5="","",IF(L5=1,RarityBackground!$D$1,IF(L5=2,RarityBackground!$D$1*3,IF(L5=3,RarityBackground!$D$1*6,"Error")))) | AO5: =IF(M5="","",VLOOKUP(M5,RarityBackground!$A$7:$B$17,2,0)) | AP5: =IF(N5="","",IF(N5="Y",AO5*RarityBackground!$F$5,IF(N5="N",AO5*(IF(RarityBackground!$F$3+(O5-1)>10,10,RarityBackground!$F$3+(O5-1)))))-AO5) | AQ5: =IF(P5="","",(P5*AO5)-AO5) | AR5: =IF(Q5="","",Q5*RarityBackground!$D$5) | AS5: =IF(R5="","",VLOOKUP(R5&"Save1Minute", RarityBackground!$C$6:$D$20,2,0)) | AT5: =IF(S5="","",IF(T5="Y",ROUNDUP(S5*RarityBackground!$D$4,0),IF(T5="N",ROUNDUP(S5*RarityBackground!$D$3,0)))) | AU5: =IF(U5="","",IF(V5="Y",((RarityBackground!$D$4*U5)*(RarityBackground!$F$3+W5)),((RarityBackground!$D$3*U5)*(RarityBackground!$F$3+W5)))) | AV5: =IF(X5="","",IF(Y5="Y",(RarityBackground!$D$4*X5)*IF(Z5="Y",RarityBackground!$F$9,RarityBackground!$F$10),(RarityBackground!$D$3*X5)*IF(Z5="Y",RarityBackground!$F$9,RarityBackground!$F$10))) | AW5: =IF(AA5="","",AA5*RarityBackground!$D$2) | AX5: =IF(AB5="","",AB5) | AY5: =IF(AC5="","",VLOOKUP(AC5,RarityBackground!$A$7:$B$17,2,0)) | AZ5: =IF(AD5="","",IF(AD5="Y",AY5*RarityBackground!$F$5,IF(AD5="N",AY5*(IF(RarityBackground!$F$3+(AE5-1)>10,10,RarityBackground!$F$3+(AE5-1)))))-AY5) | BA5: =IF(AF5="","",VLOOKUP(AF5,RarityBackground!$A$7:$B$17,2,0)) | BB5: =IF(AG5="","",IF(AG5="Y",BA5*RarityBackground!$F$5,IF(AG5="N",BA5*(IF(RarityBackground!$F$3+(AH5-1)>10,10,RarityBackground!$F$3+(AH5-1)))))-BA5)
A6: Adamantine Ring Mail | B6: Uncommon | C6: No | D6: =IF(A6="","",ROUNDUP(SUM(AI6:BB6)*VLOOKUP(B6,RarityBackground!$A$1:$B$6,2,0)*IF(C6="Yes",1,1.1),0)) -> 5000 | F6: 30 | G6: Adamantine | AI6: =IF(F6="","",F6+IF(G6="",0,VLOOKUP(G6,RarityBackground!$E$7:$F$9,2,0))) -> 3030 | AJ6: =IF(H6="","",F6+IF(H6=1,RarityBackground!$F$1,IF(H6=2,RarityBackground!$F$1*3,IF(H6=3,RarityBackground!$F$1*6,"Error")))) | AK6: =IF(I6="","",IF(I6=1,RarityBackground!$F$2,IF(I6=2,RarityBackground!$F$2*3,IF(I6=3,RarityBackground!$F$2*6,"Error")))) | AL6: =IF(J6="","",ROUNDUP(RarityBackground!$F$6*VLOOKUP(J6, RarityBackground!$A$18:$B$27,2,0),-1)) | AM6: =IF(K6="","",IF(K6="N","",IF(K6="Y",ROUNDUP(RarityBackground!$F$6,-1),""))) | AN6: =IF(L6="","",IF(L6=1,RarityBackground!$D$1,IF(L6=2,RarityBackground!$D$1*3,IF(L6=3,RarityBackground!$D$1*6,"Error")))) | AO6: =IF(M6="","",VLOOKUP(M6,RarityBackground!$A$7:$B$17,2,0)) | AP6: =IF(N6="","",IF(N6="Y",AO6*RarityBackground!$F$5,IF(N6="N",AO6*(IF(RarityBackground!$F$3+(O6-1)>10,10,RarityBackground!$F$3+(O6-1)))))-AO6) | AQ6: =IF(P6="","",(P6*AO6)-AO6) | AR6: =IF(Q6="","",Q6*RarityBackground!$D$5) | AS6: =IF(R6="","",VLOOKUP(R6&"Save1Minute", RarityBackground!$C$6:$D$20,2,0)) | AT6: =IF(S6="","",IF(T6="Y",ROUNDUP(S6*RarityBackground!$D$4,0),IF(T6="N",ROUNDUP(S6*RarityBackground!$D$3,0)))) | AU6: =IF(U6="","",IF(V6="Y",((RarityBackground!$D$4*U6)*(RarityBackground!$F$3+W6)),((RarityBackground!$D$3*U6)*(RarityBackground!$F$3+W6)))) | AV6: =IF(X6="","",IF(Y6="Y",(RarityBackground!$D$4*X6)*IF(Z6="Y",RarityBackground!$F$9,RarityBackground!$F$10),(RarityBackground!$D$3*X6)*IF(Z6="Y",RarityBackground!$F$9,RarityBackground!$F$10))) | AW6: =IF(AA6="","",AA6*RarityBackground!$D$2) | AX6: =IF(AB6="","",AB6) | AY6: =IF(AC6="","",VLOOKUP(AC6,RarityBackground!$A$7:$B$17,2,0)) | AZ6: =IF(AD6="","",IF(AD6="Y",AY6*RarityBackground!$F$5,IF(AD6="N",AY6*(IF(RarityBackground!$F$3+(AE6-1)>10,10,RarityBackground!$F$3+(AE6-1)))))-AY6) | BA6: =IF(AF6="","",VLOOKUP(AF6,RarityBackground!$A$7:$B$17,2,0)) | BB6: =IF(AG6="","",IF(AG6="Y",BA6*RarityBackground!$F$5,IF(AG6="N",BA6*(IF(RarityBackground!$F$3+(AH6-1)>10,10,RarityBackground!$F$3+(AH6-1)))))-BA6)
A7: Adamantine Chain Mail | B7: Uncommon | C7: No | D7: =IF(A7="","",ROUNDUP(SUM(AI7:BB7)*VLOOKUP(B7,RarityBackground!$A$1:$B$6,2,0)*IF(C7="Yes",1,1.1),0)) -> 5074 | F7: 75 | G7: Adamantine | AI7: =IF(F7="","",F7+IF(G7="",0,VLOOKUP(G7,RarityBackground!$E$7:$F$9,2,0))) -> 3075 | AJ7: =IF(H7="","",F7+IF(H7=1,RarityBackground!$F$1,IF(H7=2,RarityBackground!$F$1*3,IF(H7=3,RarityBackground!$F$1*6,"Error")))) | AK7: =IF(I7="","",IF(I7=1,RarityBackground!$F$2,IF(I7=2,RarityBackground!$F$2*3,IF(I7=3,RarityBackground!$F$2*6,"Error")))) | AL7: =IF(J7="","",ROUNDUP(RarityBackground!$F$6*VLOOKUP(J7, RarityBackground!$A$18:$B$27,2,0),-1)) | AM7: =IF(K7="","",IF(K7="N","",IF(K7="Y",ROUNDUP(RarityBackground!$F$6,-1),""))) | AN7: =IF(L7="","",IF(L7=1,RarityBackground!$D$1,IF(L7=2,RarityBackground!$D$1*3,IF(L7=3,RarityBackground!$D$1*6,"Error")))) | AO7: =IF(M7="","",VLOOKUP(M7,RarityBackground!$A$7:$B$17,2,0)) | AP7: =IF(N7="","",IF(N7="Y",AO7*RarityBackground!$F$5,IF(N7="N",AO7*(IF(RarityBackground!$F$3+(O7-1)>10,10,RarityBackground!$F$3+(O7-1)))))-AO7) | AQ7: =IF(P7="","",(P7*AO7)-AO7) | AR7: =IF(Q7="","",Q7*RarityBackground!$D$5) | AS7: =IF(R7="","",VLOOKUP(R7&"Save1Minute", RarityBackground!$C$6:$D$20,2,0)) | AT7: =IF(S7="","",IF(T7="Y",ROUNDUP(S7*RarityBackground!$D$4,0),IF(T7="N",ROUNDUP(S7*RarityBackground!$D$3,0)))) | AU7: =IF(U7="","",IF(V7="Y",((RarityBackground!$D$4*U7)*(RarityBackground!$F$3+W7)),((RarityBackground!$D$3*U7)*(RarityBackground!$F$3+W7)))) | AV7: =IF(X7="","",IF(Y7="Y",(RarityBackground!$D$4*X7)*IF(Z7="Y",RarityBackground!$F$9,RarityBackground!$F$10),(RarityBackground!$D$3*X7)*IF(Z7="Y",RarityBackground!$F$9,RarityBackground!$F$10))) | AW7: =IF(AA7="","",AA7*RarityBackground!$D$2) | AX7: =IF(AB7="","",AB7) | AY7: =IF(AC7="","",VLOOKUP(AC7,RarityBackground!$A$7:$B$17,2,0)) | AZ7: =IF(AD7="","",IF(AD7="Y",AY7*RarityBackground!$F$5,IF(AD7="N",AY7*(IF(RarityBackground!$F$3+(AE7-1)>10,10,RarityBackground!$F$3+(AE7-1)))))-AY7) | BA7: =IF(AF7="","",VLOOKUP(AF7,RarityBackground!$A$7:$B$17,2,0)) | BB7: =IF(AG7="","",IF(AG7="Y",BA7*RarityBackground!$F$5,IF(AG7="N",BA7*(IF(RarityBackground!$F$3+(AH7-1)>10,10,RarityBackground!$F$3+(AH7-1)))))-BA7)
A8: Adamantine Splint | B8: Uncommon | C8: No | D8: =IF(A8="","",ROUNDUP(SUM(AI8:BB8)*VLOOKUP(B8,RarityBackground!$A$1:$B$6,2,0)*IF(C8="Yes",1,1.1),0)) -> 5280 | F8: 200 | G8: Adamantine | AI8: =IF(F8="","",F8+IF(G8="",0,VLOOKUP(G8,RarityBackground!$E$7:$F$9,2,0))) -> 3200 | AJ8: =IF(H8="","",F8+IF(H8=1,RarityBackground!$F$1,IF(H8=2,RarityBackground!$F$1*3,IF(H8=3,RarityBackground!$F$1*6,"Error")))) | AK8: =IF(I8="","",IF(I8=1,RarityBackground!$F$2,IF(I8=2,RarityBackground!$F$2*3,IF(I8=3,RarityBackground!$F$2*6,"Error")))) | AL8: =IF(J8="","",ROUNDUP(RarityBackground!$F$6*VLOOKUP(J8, RarityBackground!$A$18:$B$27,2,0),-1)) | AM8: =IF(K8="","",IF(K8="N","",IF(K8="Y",ROUNDUP(RarityBackground!$F$6,-1),""))) | AN8: =IF(L8="","",IF(L8=1,RarityBackground!$D$1,IF(L8=2,RarityBackground!$D$1*3,IF(L8=3,RarityBackground!$D$1*6,"Error")))) | AO8: =IF(M8="","",VLOOKUP(M8,RarityBackground!$A$7:$B$17,2,0)) | AP8: =IF(N8="","",IF(N8="Y",AO8*RarityBackground!$F$5,IF(N8="N",AO8*(IF(RarityBackground!$F$3+(O8-1)>10,10,RarityBackground!$F$3+(O8-1)))))-AO8) | AQ8: =IF(P8="","",(P8*AO8)-AO8) | AR8: =IF(Q8="","",Q8*RarityBackground!$D$5) | AS8: =IF(R8="","",VLOOKUP(R8&"Save1Minute", RarityBackground!$C$6:$D$20,2,0)) | AT8: =IF(S8="","",IF(T8="Y",ROUNDUP(S8*RarityBackground!$D$4,0),IF(T8="N",ROUNDUP(S8*RarityBackground!$D$3,0)))) | AU8: =IF(U8="","",IF(V8="Y",((RarityBackground!$D$4*U8)*(RarityBackground!$F$3+W8)),((RarityBackground!$D$3*U8)*(RarityBackground!$F$3+W8)))) | AV8: =IF(X8="","",IF(Y8="Y",(RarityBackground!$D$4*X8)*IF(Z8="Y",RarityBackground!$F$9,RarityBackground!$F$10),(RarityBackground!$D$3*X8)*IF(Z8="Y",RarityBackground!$F$9,RarityBackground!$F$10))) | AW8: =IF(AA8="","",AA8*RarityBackground!$D$2) | AX8: =IF(AB8="","",AB8) | AY8: =IF(AC8="","",VLOOKUP(AC8,RarityBackground!$A$7:$B$17,2,0)) | AZ8: =IF(AD8="","",IF(AD8="Y",AY8*RarityBackground!$F$5,IF(AD8="N",AY8*(IF(RarityBackground!$F$3+(AE8-1)>10,10,RarityBackground!$F$3+(AE8-1)))))-AY8) | BA8: =IF(AF8="","",VLOOKUP(AF8,RarityBackground!$A$7:$B$17,2,0)) | BB8: =IF(AG8="","",IF(AG8="Y",BA8*RarityBackground!$F$5,IF(AG8="N",BA8*(IF(RarityBackground!$F$3+(AH8-1)>10,10,RarityBackground!$F$3+(AH8-1)))))-BA8)
A9: Adamantine Plate | B9: Uncommon | C9: No | D9: =IF(A9="","",ROUNDUP(SUM(AI9:BB9)*VLOOKUP(B9,RarityBackground!$A$1:$B$6,2,0)*IF(C9="Yes",1,1.1),0)) -> 7425 | F9: 1500 | G9: Adamantine | AI9: =IF(F9="","",F9+IF(G9="",0,VLOOKUP(G9,RarityBackground!$E$7:$F$9,2,0))) -> 4500 | AJ9: =IF(H9="","",F9+IF(H9=1,RarityBackground!$F$1,IF(H9=2,RarityBackground!$F$1*3,IF(H9=3,RarityBackground!$F$1*6,"Error")))) | AK9: =IF(I9="","",IF(I9=1,RarityBackground!$F$2,IF(I9=2,RarityBackground!$F$2*3,IF(I9=3,RarityBackground!$F$2*6,"Error")))) | AL9: =IF(J9="","",ROUNDUP(RarityBackground!$F$6*VLOOKUP(J9, RarityBackground!$A$18:$B$27,2,0),-1)) | AM9: =IF(K9="","",IF(K9="N","",IF(K9="Y",ROUNDUP(RarityBackground!$F$6,-1),""))) | AN9: =IF(L9="","",IF(L9=1,RarityBackground!$D$1,IF(L9=2,RarityBackground!$D$1*3,IF(L9=3,RarityBackground!$D$1*6,"Error")))) | AO9: =IF(M9="","",VLOOKUP(M9,RarityBackground!$A$7:$B$17,2,0)) | AP9: =IF(N9="","",IF(N9="Y",AO9*RarityBackground!$F$5,IF(N9="N",AO9*(IF(RarityBackground!$F$3+(O9-1)>10,10,RarityBackground!$F$3+(O9-1)))))-AO9) | AQ9: =IF(P9="","",(P9*AO9)-AO9) | AR9: =IF(Q9="","",Q9*RarityBackground!$D$5) | AS9: =IF(R9="","",VLOOKUP(R9&"Save1Minute", RarityBackground!$C$6:$D$20,2,0)) | AT9: =IF(S9="","",IF(T9="Y",ROUNDUP(S9*RarityBackground!$D$4,0),IF(T9="N",ROUNDUP(S9*RarityBackground!$D$3,0)))) | AU9: =IF(U9="","",IF(V9="Y",((RarityBackground!$D$4*U9)*(RarityBackground!$F$3+W9)),((RarityBackground!$D$3*U9)*(RarityBackground!$F$3+W9)))) | AV9: =IF(X9="","",IF(Y9="Y",(RarityBackground!$D$4*X9)*IF(Z9="Y",RarityBackground!$F$9,RarityBackground!$F$10),(RarityBackground!$D$3*X9)*IF(Z9="Y",RarityBackground!$F$9,RarityBackground!$F$10))) | AW9: =IF(AA9="","",AA9*RarityBackground!$D$2) | AX9: =IF(AB9="","",AB9) | AY9: =IF(AC9="","",VLOOKUP(AC9,RarityBackground!$A$7:$B$17,2,0)) | AZ9: =IF(AD9="","",IF(AD9="Y",AY9*RarityBackground!$F$5,IF(AD9="N",AY9*(IF(RarityBackground!$F$3+(AE9-1)>10,10,RarityBackground!$F$3+(AE9-1)))))-AY9) | BA9: =IF(AF9="","",VLOOKUP(AF9,RarityBackground!$A$7:$B$17,2,0)) | BB9: =IF(AG9="","",IF(AG9="Y",BA9*RarityBackground!$F$5,IF(AG9="N",BA9*(IF(RarityBackground!$F$3+(AH9-1)>10,10,RarityBackground!$F$3+(AH9-1)))))-BA9)
A10: Alchemy Jug | B10: Uncommon | C10: No | D10: =IF(A10="","",ROUNDUP(SUM(AI10:BB10)*VLOOKUP(B10,RarityBackground!$A$1:$B$6,2,0)*IF(C10="Yes",1,1.1),0)) -> 4950 | E10: based: create food and water | M10: 3 | N10: Y | O10: 7 | AI10: =IF(F10="","",F10+IF(G10="",0,VLOOKUP(G10,RarityBackground!$E$7:$F$9,2,0))) | AJ10: =IF(H10="","",F10+IF(H10=1,RarityBackground!$F$1,IF(H10=2,RarityBackground!$F$1*3,IF(H10=3,RarityBackground!$F$1*6,"Error")))) | AK10: =IF(I10="","",IF(I10=1,RarityBackground!$F$2,IF(I10=2,RarityBackground!$F$2*3,IF(I10=3,RarityBackground!$F$2*6,"Error")))) | AL10: =IF(J10="","",ROUNDUP(RarityBackground!$F$6*VLOOKUP(J10, RarityBackground!$A$18:$B$27,2,0),-1)) | AM10: =IF(K10="","",IF(K10="N","",IF(K10="Y",ROUNDUP(RarityBackground!$F$6,-1),""))) | AN10: =IF(L10="","",IF(L10=1,RarityBackground!$D$1,IF(L10=2,RarityBackground!$D$1*3,IF(L10=3,RarityBackground!$D$1*6,"Error")))) | AO10: =IF(M10="","",VLOOKUP(M10,RarityBackground!$A$7:$B$17,2,0)) -> 300 | AP10: =IF(N10="","",IF(N10="Y",AO10*RarityBackground!$F$5,IF(N10="N",AO10*(IF(RarityBackground!$F$3+(O10-1)>10,10,RarityBackground!$F$3+(O10-1)))))-AO10) -> 2700 | AQ10: =IF(P10="","",(P10*AO10)-AO10) | AR10: =IF(Q10="","",Q10*RarityBackground!$D$5) | AS10: =IF(R10="","",VLOOKUP(R10&"Save1Minute", RarityBackground!$C$6:$D$20,2,0)) | AT10: =IF(S10="","",IF(T10="Y",ROUNDUP(S10*RarityBackground!$D$4,0),IF(T10="N",ROUNDUP(S10*RarityBackground!$D$3,0)))) | AU10: =IF(U10="","",IF(V10="Y",((RarityBackground!$D$4*U10)*(RarityBackground!$F$3+W10)),((RarityBackground!$D$3*U10)*(RarityBackground!$F$3+W10)))) | AV10: =IF(X10="","",IF(Y10="Y",(RarityBackground!$D$4*X10)*IF(Z10="Y",RarityBackground!$F$9,RarityBackground!$F$10),(RarityBackground!$D$3*X10)*IF(Z10="Y",RarityBackground!$F$9,RarityBackground!$F$10))) | AW10: =IF(AA10="","",AA10*RarityBackground!$D$2) | AX10: =IF(AB10="","",AB10) | AY10: =IF(AC10="","",VLOOKUP(AC10,RarityBackground!$A$7:$B$17,2,0)) | AZ10: =IF(AD10="","",IF(AD10="Y",AY10*RarityBackground!$F$5,IF(AD10="N",AY10*(IF(RarityBackground!$F$3+(AE10-1)>10,10,RarityBackground!$F$3+(AE10-1)))))-AY10) | BA10: =IF(AF10="","",VLOOKUP(AF10,RarityBackground!$A$7:$B$17,2,0)) | BB10: =IF(AG10="","",IF(AG10="Y",BA10*RarityBackground!$F$5,IF(AG10="N",BA10*(IF(RarityBackground!$F$3+(AH10-1)>10,10,RarityBackground!$F$3+(AH10-1)))))-BA10)
A11: Ammunition, +1 | B11: Uncommon | C11: No | D11: =IF(A11="","",ROUNDUP(SUM(AI11:BB11)*VLOOKUP(B11,RarityBackground!$A$1:$B$6,2,0)*IF(C11="Yes",1,1.1),0)) -> 297 | M11: 2 | AI11: =IF(F11="","",F11+IF(G11="",0,VLOOKUP(G11,RarityBackground!$E$7:$F$9,2,0))) | AJ11: =IF(H11="","",F11+IF(H11=1,RarityBackground!$F$1,IF(H11=2,RarityBackground!$F$1*3,IF(H11=3,RarityBackground!$F$1*6,"Error")))) | AK11: =IF(I11="","",IF(I11=1,RarityBackground!$F$2,IF(I11=2,RarityBackground!$F$2*3,IF(I11=3,RarityBackground!$F$2*6,"Error")))) | AL11: =IF(J11="","",ROUNDUP(RarityBackground!$F$6*VLOOKUP(J11, RarityBackground!$A$18:$B$27,2,0),-1)) | AM11: =IF(K11="","",IF(K11="N","",IF(K11="Y",ROUNDUP(RarityBackground!$F$6,-1),""))) | AN11: =IF(L11="","",IF(L11=1,RarityBackground!$D$1,IF(L11=2,RarityBackground!$D$1*3,IF(L11=3,RarityBackground!$D$1*6,"Error")))) | AO11: =IF(M11="","",VLOOKUP(M11,RarityBackground!$A$7:$B$17,2,0)) -> 180 | AP11: =IF(N11="","",IF(N11="Y",AO11*RarityBackground!$F$5,IF(N11="N",AO11*(IF(RarityBackground!$F$3+(O11-1)>10,10,RarityBackground!$F$3+(O11-1)))))-AO11) | AQ11: =IF(P11="","",(P11*AO11)-AO11) | AR11: =IF(Q11="","",Q11*RarityBackground!$D$5) | AS11: =IF(R11="","",VLOOKUP(R11&"Save1Minute", RarityBackground!$C$6:$D$20,2,0)) | AT11: =IF(S11="","",IF(T11="Y",ROUNDUP(S11*RarityBackground!$D$4,0),IF(T11="N",ROUNDUP(S11*RarityBackground!$D$3,0)))) | AU11: =IF(U11="","",IF(V11="Y",((RarityBackground!$D$4*U11)*(RarityBackground!$F$3+W11)),((RarityBackground!$D$3*U11)*(RarityBackground!$F$3+W11)))) | AV11: =IF(X11="","",IF(Y11="Y",(RarityBackground!$D$4*X11)*IF(Z11="Y",RarityBackground!$F$9,RarityBackground!$F$10),(RarityBackground!$D$3*X11)*IF(Z11="Y",RarityBackground!$F$9,RarityBackground!$F$10))) | AW11: =IF(AA11="","",AA11*RarityBackground!$D$2) | AX11: =IF(AB11="","",AB11) | AY11: =IF(AC11="","",VLOOKUP(AC11,RarityBackground!$A$7:$B$17,2,0)) | AZ11: =IF(AD11="","",IF(AD11="Y",AY11*RarityBackground!$F$5,IF(AD11="N",AY11*(IF(RarityBackground!$F$3+(AE11-1)>10,10,RarityBackground!$F$3+(AE11-1)))))-AY11) | BA11: =IF(AF11="","",VLOOKUP(AF11,RarityBackground!$A$7:$B$17,2,0)) | BB11: =IF(AG11="","",IF(AG11="Y",BA11*RarityBackground!$F$5,IF(AG11="N",BA11*(IF(RarityBackground!$F$3+(AH11-1)>10,10,RarityBackground!$F$3+(AH11-1)))))-BA11)
A12: Ammunition, +2 | B12: Rare | C12: No | D12: =IF(A12="","",ROUNDUP(SUM(AI12:BB12)*VLOOKUP(B12,RarityBackground!$A$1:$B$6,2,0)*IF(C12="Yes",1,1.1),0)) -> 990 | M12: 4 | AI12: =IF(F12="","",F12+IF(G12="",0,VLOOKUP(G12,RarityBackground!$E$7:$F$9,2,0))) | AJ12: =IF(H12="","",F12+IF(H12=1,RarityBackground!$F$1,IF(H12=2,RarityBackground!$F$1*3,IF(H12=3,RarityBackground!$F$1*6,"Error")))) | AK12: =IF(I12="","",IF(I12=1,RarityBackground!$F$2,IF(I12=2,RarityBackground!$F$2*3,IF(I12=3,RarityBackground!$F$2*6,"Error")))) | AL12: =IF(J12="","",ROUNDUP(RarityBackground!$F$6*VLOOKUP(J12, RarityBackground!$A$18:$B$27,2,0),-1)) | AM12: =IF(K12="","",IF(K12="N","",IF(K12="Y",ROUNDUP(RarityBackground!$F$6,-1),""))) | AN12: =IF(L12="","",IF(L12=1,RarityBackground!$D$1,IF(L12=2,RarityBackground!$D$1*3,IF(L12=3,RarityBackground!$D$1*6,"Error")))) | AO12: =IF(M12="","",VLOOKUP(M12,RarityBackground!$A$7:$B$17,2,0)) -> 450 | AP12: =IF(N12="","",IF(N12="Y",AO12*RarityBackground!$F$5,IF(N12="N",AO12*(IF(RarityBackground!$F$3+(O12-1)>10,10,RarityBackground!$F$3+(O12-1)))))-AO12) | AQ12: =IF(P12="","",(P12*AO12)-AO12) | AR12: =IF(Q12="","",Q12*RarityBackground!$D$5) | AS12: =IF(R12="","",VLOOKUP(R12&"Save1Minute", RarityBackground!$C$6:$D$20,2,0)) | AT12: =IF(S12="","",IF(T12="Y",ROUNDUP(S12*RarityBackground!$D$4,0),IF(T12="N",ROUNDUP(S12*RarityBackground!$D$3,0)))) | AU12: =IF(U12="","",IF(V12="Y",((RarityBackground!$D$4*U12)*(RarityBackground!$F$3+W12)),((RarityBackground!$D$3*U12)*(RarityBackground!$F$3+W12)))) | AV12: =IF(X12="","",IF(Y12="Y",(RarityBackground!$D$4*X12)*IF(Z12="Y",RarityBackground!$F$9,RarityBackground!$F$10),(RarityBackground!$D$3*X12)*IF(Z12="Y",RarityBackground!$F$9,RarityBackground!$F$10))) | AW12: =IF(AA12="","",AA12*RarityBackground!$D$2) | AX12: =IF(AB12="","",AB12) | AY12: =IF(AC12="","",VLOOKUP(AC12,RarityBackground!$A$7:$B$17,2,0)) | AZ12: =IF(AD12="","",IF(AD12="Y",AY12*RarityBackground!$F$5,IF(AD12="N",AY12*(IF(RarityBackground!$F$3+(AE12-1)>10,10,RarityBackground!$F$3+(AE12-1)))))-AY12) | BA12: =IF(AF12="","",VLOOKUP(AF12,RarityBackground!$A$7:$B$17,2,0)) | BB12: =IF(AG12="","",IF(AG12="Y",BA12*RarityBackground!$F$5,IF(AG12="N",BA12*(IF(RarityBackground!$F$3+(AH12-1)>10,10,RarityBackground!$F$3+(AH12-1)))))-BA12)
A13: Ammunition, +3 | B13: Very Rare | C13: No | D13: =IF(A13="","",ROUNDUP(SUM(AI13:BB13)*VLOOKUP(B13,RarityBackground!$A$1:$B$6,2,0)*IF(C13="Yes",1,1.1),0)) -> 2772 | M13: 6 | AI13: =IF(F13="","",F13+IF(G13="",0,VLOOKUP(G13,RarityBackground!$E$7:$F$9,2,0))) | AJ13: =IF(H13="","",F13+IF(H13=1,RarityBackground!$F$1,IF(H13=2,RarityBackground!$F$1*3,IF(H13=3,RarityBackground!$F$1*6,"Error")))) | AK13: =IF(I13="","",IF(I13=1,RarityBackground!$F$2,IF(I13=2,RarityBackground!$F$2*3,IF(I13=3,RarityBackground!$F$2*6,"Error")))) | AL13: =IF(J13="","",ROUNDUP(RarityBackground!$F$6*VLOOKUP(J13, RarityBackground!$A$18:$B$27,2,0),-1)) | AM13: =IF(K13="","",IF(K13="N","",IF(K13="Y",ROUNDUP(RarityBackground!$F$6,-1),""))) | AN13: =IF(L13="","",IF(L13=1,RarityBackground!$D$1,IF(L13=2,RarityBackground!$D$1*3,IF(L13=3,RarityBackground!$D$1*6,"Error")))) | AO13: =IF(M13="","",VLOOKUP(M13,RarityBackground!$A$7:$B$17,2,0)) -> 840 | AP13: =IF(N13="","",IF(N13="Y",AO13*RarityBackground!$F$5,IF(N13="N",AO13*(IF(RarityBackground!$F$3+(O13-1)>10,10,RarityBackground!$F$3+(O13-1)))))-AO13) | AQ13: =IF(P13="","",(P13*AO13)-AO13) | AR13: =IF(Q13="","",Q13*RarityBackground!$D$5) | AS13: =IF(R13="","",VLOOKUP(R13&"Save1Minute", RarityBackground!$C$6:$D$20,2,0)) | AT13: =IF(S13="","",IF(T13="Y",ROUNDUP(S13*RarityBackground!$D$4,0),IF(T13="N",ROUNDUP(S13*RarityBackground!$D$3,0)))) | AU13: =IF(U13="","",IF(V13="Y",((RarityBackground!$D$4*U13)*(RarityBackground!$F$3+W13)),((RarityBackground!$D$3*U13)*(RarityBackground!$F$3+W13)))) | AV13: =IF(X13="","",IF(Y13="Y",(RarityBackground!$D$4*X13)*IF(Z13="Y",RarityBackground!$F$9,RarityBackground!$F$10),(RarityBackground!$D$3*X13)*IF(Z13="Y",RarityBackground!$F$9,RarityBackground!$F$10))) | AW13: =IF(AA13="","",AA13*RarityBackground!$D$2) | AX13: =IF(AB13="","",AB13) | AY13: =IF(AC13="","",VLOOKUP(AC13,RarityBackground!$A$7:$B$17,2,0)) | AZ13: =IF(AD13="","",IF(AD13="Y",AY13*RarityBackground!$F$5,IF(AD13="N",AY13*(IF(RarityBackground!$F$3+(AE13-1)>10,10,RarityBackground!$F$3+(AE13-1)))))-AY13) | BA13: =IF(AF13="","",VLOOKUP(AF13,RarityBackground!$A$7:$B$17,2,0)) | BB13: =IF(AG13="","",IF(AG13="Y",BA13*RarityBackground!$F$5,IF(AG13="N",BA13*(IF(RarityBackground!$F$3+(AH13-1)>10,10,RarityBackground!$F$3+(AH13-1)))))-BA13)
A14: Amulet of Health | B14: Rare | C14: Yes | D14: =IF(A14="","",ROUNDUP(SUM(AI14:BB14)*VLOOKUP(B14,RarityBackground!$A$1:$B$6,2,0)*IF(C14="Yes",1,1.1),0)) -> 12600 | J14: 4 | AI14: =IF(F14="","",F14+IF(G14="",0,VLOOKUP(G14,RarityBackground!$E$7:$F$9,2,0))) | AJ14: =IF(H14="","",F14+IF(H14=1,RarityBackground!$F$1,IF(H14=2,RarityBackground!$F$1*3,IF(H14=3,RarityBackground!$F$1*6,"Error")))) | AK14: =IF(I14="","",IF(I14=1,RarityBackground!$F$2,IF(I14=2,RarityBackground!$F$2*3,IF(I14=3,RarityBackground!$F$2*6,"Error")))) | AL14: =IF(J14="","",ROUNDUP(RarityBackground!$F$6*VLOOKUP(J14, RarityBackground!$A$18:$B$27,2,0),-1)) -> 6300 | AM14: =IF(K14="","",IF(K14="N","",IF(K14="Y",ROUNDUP(RarityBackground!$F$6,-1),""))) | AN14: =IF(L14="","",IF(L14=1,RarityBackground!$D$1,IF(L14=2,RarityBackground!$D$1*3,IF(L14=3,RarityBackground!$D$1*6,"Error")))) | AO14: =IF(M14="","",VLOOKUP(M14,RarityBackground!$A$7:$B$17,2,0)) | AP14: =IF(N14="","",IF(N14="Y",AO14*RarityBackground!$F$5,IF(N14="N",AO14*(IF(RarityBackground!$F$3+(O14-1)>10,10,RarityBackground!$F$3+(O14-1)))))-AO14) | AQ14: =IF(P14="","",(P14*AO14)-AO14) | AR14: =IF(Q14="","",Q14*RarityBackground!$D$5) | AS14: =IF(R14="","",VLOOKUP(R14&"Save1Minute", RarityBackground!$C$6:$D$20,2,0)) | AT14: =IF(S14="","",IF(T14="Y",ROUNDUP(S14*RarityBackground!$D$4,0),IF(T14="N",ROUNDUP(S14*RarityBackground!$D$3,0)))) | AU14: =IF(U14="","",IF(V14="Y",((RarityBackground!$D$4*U14)*(RarityBackground!$F$3+W14)),((RarityBackground!$D$3*U14)*(RarityBackground!$F$3+W14)))) | AV14: =IF(X14="","",IF(Y14="Y",(RarityBackground!$D$4*X14)*IF(Z14="Y",RarityBackground!$F$9,RarityBackground!$F$10),(RarityBackground!$D$3*X14)*IF(Z14="Y",RarityBackground!$F$9,RarityBackground!$F$10))) | AW14: =IF(AA14="","",AA14*RarityBackground!$D$2) | AX14: =IF(AB14="","",AB14) | AY14: =IF(AC14="","",VLOOKUP(AC14,RarityBackground!$A$7:$B$17,2,0)) | AZ14: =IF(AD14="","",IF(AD14="Y",AY14*RarityBackground!$F$5,IF(AD14="N",AY14*(IF(RarityBackground!$F$3+(AE14-1)>10,10,RarityBackground!$F$3+(AE14-1)))))-AY14) | BA14: =IF(AF14="","",VLOOKUP(AF14,RarityBackground!$A$7:$B$17,2,0)) | BB14: =IF(AG14="","",IF(AG14="Y",BA14*RarityBackground!$F$5,IF(AG14="N",BA14*(IF(RarityBackground!$F$3+(AH14-1)>10,10,RarityBackground!$F$3+(AH14-1)))))-BA14)
A15: Amulet of Proof Against Detect and Location | B15: Uncommon | C15: Yes | D15: =IF(A15="","",ROUNDUP(SUM(AI15:BB15)*VLOOKUP(B15,RarityBackground!$A$1:$B$6,2,0)*IF(C15="Yes",1,1.1),0)) -> 2700 | M15: 3 | N15: N | O15: 3 | AI15: =IF(F15="","",F15+IF(G15="",0,VLOOKUP(G15,RarityBackground!$E$7:$F$9,2,0))) | AJ15: =IF(H15="","",F15+IF(H15=1,RarityBackground!$F$1,IF(H15=2,RarityBackground!$F$1*3,IF(H15=3,RarityBackground!$F$1*6,"Error")))) | AK15: =IF(I15="","",IF(I15=1,RarityBackground!$F$2,IF(I15=2,RarityBackground!$F$2*3,IF(I15=3,RarityBackground!$F$2*6,"Error")))) | AL15: =IF(J15="","",ROUNDUP(RarityBackground!$F$6*VLOOKUP(J15, RarityBackground!$A$18:$B$27,2,0),-1)) | AM15: =IF(K15="","",IF(K15="N","",IF(K15="Y",ROUNDUP(RarityBackground!$F$6,-1),""))) | AN15: =IF(L15="","",IF(L15=1,RarityBackground!$D$1,IF(L15=2,RarityBackground!$D$1*3,IF(L15=3,RarityBackground!$D$1*6,"Error")))) | AO15: =IF(M15="","",VLOOKUP(M15,RarityBackground!$A$7:$B$17,2,0)) -> 300 | AP15: =IF(N15="","",IF(N15="Y",AO15*RarityBackground!$F$5,IF(N15="N",AO15*(IF(RarityBackground!$F$3+(O15-1)>10,10,RarityBackground!$F$3+(O15-1)))))-AO15) -> 1500 | AQ15: =IF(P15="","",(P15*AO15)-AO15) | AR15: =IF(Q15="","",Q15*RarityBackground!$D$5) | AS15: =IF(R15="","",VLOOKUP(R15&"Save1Minute", RarityBackground!$C$6:$D$20,2,0)) | AT15: =IF(S15="","",IF(T15="Y",ROUNDUP(S15*RarityBackground!$D$4,0),IF(T15="N",ROUNDUP(S15*RarityBackground!$D$3,0)))) | AU15: =IF(U15="","",IF(V15="Y",((RarityBackground!$D$4*U15)*(RarityBackground!$F$3+W15)),((RarityBackground!$D$3*U15)*(RarityBackground!$F$3+W15)))) | AV15: =IF(X15="","",IF(Y15="Y",(RarityBackground!$D$4*X15)*IF(Z15="Y",RarityBackground!$F$9,RarityBackground!$F$10),(RarityBackground!$D$3*X15)*IF(Z15="Y",RarityBackground!$F$9,RarityBackground!$F$10))) | AW15: =IF(AA15="","",AA15*RarityBackground!$D$2) | AX15: =IF(AB15="","",AB15) | AY15: =IF(AC15="","",VLOOKUP(AC15,RarityBackground!$A$7:$B$17,2,0)) | AZ15: =IF(AD15="","",IF(AD15="Y",AY15*RarityBackground!$F$5,IF(AD15="N",AY15*(IF(RarityBackground!$F$3+(AE15-1)>10,10,RarityBackground!$F$3+(AE15-1)))))-AY15) | BA15: =IF(AF15="","",VLOOKUP(AF15,RarityBackground!$A$7:$B$17,2,0)) | BB15: =IF(AG15="","",IF(AG15="Y",BA15*RarityBackground!$F$5,IF(AG15="N",BA15*(IF(RarityBackground!$F$3+(AH15-1)>10,10,RarityBackground!$F$3+(AH15-1)))))-BA15)
A16: Amulet of the Planes | B16: Very Rare | C16: Yes | D16: =IF(A16="","",ROUNDUP(SUM(AI16:BB16)*VLOOKUP(B16,RarityBackground!$A$1:$B$6,2,0)*IF(C16="Yes",1,1.1),0)) -> 32400 | M16: 7 | N16: Y | O16: 7 | AI16: =IF(F16="","",F16+IF(G16="",0,VLOOKUP(G16,RarityBackground!$E$7:$F$9,2,0))) | AJ16: =IF(H16="","",F16+IF(H16=1,RarityBackground!$F$1,IF(H16=2,RarityBackground!$F$1*3,IF(H16=3,RarityBackground!$F$1*6,"Error")))) | AK16: =IF(I16="","",IF(I16=1,RarityBackground!$F$2,IF(I16=2,RarityBackground!$F$2*3,IF(I16=3,RarityBackground!$F$2*6,"Error")))) | AL16: =IF(J16="","",ROUNDUP(RarityBackground!$F$6*VLOOKUP(J16, RarityBackground!$A$18:$B$27,2,0),-1)) | AM16: =IF(K16="","",IF(K16="N","",IF(K16="Y",ROUNDUP(RarityBackground!$F$6,-1),""))) | AN16: =IF(L16="","",IF(L16=1,RarityBackground!$D$1,IF(L16=2,RarityBackground!$D$1*3,IF(L16=3,RarityBackground!$D$1*6,"Error")))) | AO16: =IF(M16="","",VLOOKUP(M16,RarityBackground!$A$7:$B$17,2,0)) -> 1080 | AP16: =IF(N16="","",IF(N16="Y",AO16*RarityBackground!$F$5,IF(N16="N",AO16*(IF(RarityBackground!$F$3+(O16-1)>10,10,RarityBackground!$F$3+(O16-1)))))-AO16) -> 9720 | AQ16: =IF(P16="","",(P16*AO16)-AO16) | AR16: =IF(Q16="","",Q16*RarityBackground!$D$5) | AS16: =IF(R16="","",VLOOKUP(R16&"Save1Minute", RarityBackground!$C$6:$D$20,2,0)) | AT16: =IF(S16="","",IF(T16="Y",ROUNDUP(S16*RarityBackground!$D$4,0),IF(T16="N",ROUNDUP(S16*RarityBackground!$D$3,0)))) | AU16: =IF(U16="","",IF(V16="Y",((RarityBackground!$D$4*U16)*(RarityBackground!$F$3+W16)),((RarityBackground!$D$3*U16)*(RarityBackground!$F$3+W16)))) | AV16: =IF(X16="","",IF(Y16="Y",(RarityBackground!$D$4*X16)*IF(Z16="Y",RarityBackground!$F$9,RarityBackground!$F$10),(RarityBackground!$D$3*X16)*IF(Z16="Y",RarityBackground!$F$9,RarityBackground!$F$10))) | AW16: =IF(AA16="","",AA16*RarityBackground!$D$2) | AX16: =IF(AB16="","",AB16) | AY16: =IF(AC16="","",VLOOKUP(AC16,RarityBackground!$A$7:$B$17,2,0)) | AZ16: =IF(AD16="","",IF(AD16="Y",AY16*RarityBackground!$F$5,IF(AD16="N",AY16*(IF(RarityBackground!$F$3+(AE16-1)>10,10,RarityBackground!$F$3+(AE16-1)))))-AY16) | BA16: =IF(AF16="","",VLOOKUP(AF16,RarityBackground!$A$7:$B$17,2,0)) | BB16: =IF(AG16="","",IF(AG16="Y",BA16*RarityBackground!$F$5,IF(AG16="N",BA16*(IF(RarityBackground!$F$3+(AH16-1)>10,10,RarityBackground!$F$3+(AH16-1)))))-BA16)
A17: Animated Shield | B17: Very Rare | C17: Yes | D17: =IF(A17="","",ROUNDUP(SUM(AI17:BB17)*VLOOKUP(B17,RarityBackground!$A$1:$B$6,2,0)*IF(C17="Yes",1,1.1),0)) -> 2700 | M17: 1 | N17: Y | AI17: =IF(F17="","",F17+IF(G17="",0,VLOOKUP(G17,RarityBackground!$E$7:$F$9,2,0))) | AJ17: =IF(H17="","",F17+IF(H17=1,RarityBackground!$F$1,IF(H17=2,RarityBackground!$F$1*3,IF(H17=3,RarityBackground!$F$1*6,"Error")))) | AK17: =IF(I17="","",IF(I17=1,RarityBackground!$F$2,IF(I17=2,RarityBackground!$F$2*3,IF(I17=3,RarityBackground!$F$2*6,"Error")))) | AL17: =IF(J17="","",ROUNDUP(RarityBackground!$F$6*VLOOKUP(J17, RarityBackground!$A$18:$B$27,2,0),-1)) | AM17: =IF(K17="","",IF(K17="N","",IF(K17="Y",ROUNDUP(RarityBackground!$F$6,-1),""))) | AN17: =IF(L17="","",IF(L17=1,RarityBackground!$D$1,IF(L17=2,RarityBackground!$D$1*3,IF(L17=3,RarityBackground!$D$1*6,"Error")))) | AO17: =IF(M17="","",VLOOKUP(M17,RarityBackground!$A$7:$B$17,2,0)) -> 90 | AP17: =IF(N17="","",IF(N17="Y",AO17*RarityBackground!$F$5,IF(N17="N",AO17*(IF(RarityBackground!$F$3+(O17-1)>10,10,RarityBackground!$F$3+(O17-1)))))-AO17) -> 810 | AQ17: =IF(P17="","",(P17*AO17)-AO17) | AR17: =IF(Q17="","",Q17*RarityBackground!$D$5) | AS17: =IF(R17="","",VLOOKUP(R17&"Save1Minute", RarityBackground!$C$6:$D$20,2,0)) | AT17: =IF(S17="","",IF(T17="Y",ROUNDUP(S17*RarityBackground!$D$4,0),IF(T17="N",ROUNDUP(S17*RarityBackground!$D$3,0)))) | AU17: =IF(U17="","",IF(V17="Y",((RarityBackground!$D$4*U17)*(RarityBackground!$F$3+W17)),((RarityBackground!$D$3*U17)*(RarityBackground!$F$3+W17)))) | AV17: =IF(X17="","",IF(Y17="Y",(RarityBackground!$D$4*X17)*IF(Z17="Y",RarityBackground!$F$9,RarityBackground!$F$10),(RarityBackground!$D$3*X17)*IF(Z17="Y",RarityBackground!$F$9,RarityBackground!$F$10))) | AW17: =IF(AA17="","",AA17*RarityBackground!$D$2) | AX17: =IF(AB17="","",AB17) | AY17: =IF(AC17="","",VLOOKUP(AC17,RarityBackground!$A$7:$B$17,2,0)) | AZ17: =IF(AD17="","",IF(AD17="Y",AY17*RarityBackground!$F$5,IF(AD17="N",AY17*(IF(RarityBackground!$F$3+(AE17-1)>10,10,RarityBackground!$F$3+(AE17-1)))))-AY17) | BA17: =IF(AF17="","",VLOOKUP(AF17,RarityBackground!$A$7:$B$17,2,0)) | BB17: =IF(AG17="","",IF(AG17="Y",BA17*RarityBackground!$F$5,IF(AG17="N",BA17*(IF(RarityBackground!$F$3+(AH17-1)>10,10,RarityBackground!$F$3+(AH17-1)))))-BA17)
A18: Apparatus of Kwalish | B18: Legendary | C18: No | D18: =IF(A18="","",ROUNDUP(SUM(AI18:BB18)*VLOOKUP(B18,RarityBackground!$A$1:$B$6,2,0)*IF(C18="Yes",1,1.1),0)) -> 137500 | AB18: 25000 | AI18: =IF(F18="","",F18+IF(G18="",0,VLOOKUP(G18,RarityBackground!$E$7:$F$9,2,0))) | AJ18: =IF(H18="","",F18+IF(H18=1,RarityBackground!$F$1,IF(H18=2,RarityBackground!$F$1*3,IF(H18=3,RarityBackground!$F$1*6,"Error")))) | AK18: =IF(I18="","",IF(I18=1,RarityBackground!$F$2,IF(I18=2,RarityBackground!$F$2*3,IF(I18=3,RarityBackground!$F$2*6,"Error")))) | AL18: =IF(J18="","",ROUNDUP(RarityBackground!$F$6*VLOOKUP(J18, RarityBackground!$A$18:$B$27,2,0),-1)) | AM18: =IF(K18="","",IF(K18="N","",IF(K18="Y",ROUNDUP(RarityBackground!$F$6,-1),""))) | AN18: =IF(L18="","",IF(L18=1,RarityBackground!$D$1,IF(L18=2,RarityBackground!$D$1*3,IF(L18=3,RarityBackground!$D$1*6,"Error")))) | AO18: =IF(M18="","",VLOOKUP(M18,RarityBackground!$A$7:$B$17,2,0)) | AP18: =IF(N18="","",IF(N18="Y",AO18*RarityBackground!$F$5,IF(N18="N",AO18*(IF(RarityBackground!$F$3+(O18-1)>10,10,RarityBackground!$F$3+(O18-1)))))-AO18) | AQ18: =IF(P18="","",(P18*AO18)-AO18) | AR18: =IF(Q18="","",Q18*RarityBackground!$D$5) | AS18: =IF(R18="","",VLOOKUP(R18&"Save1Minute", RarityBackground!$C$6:$D$20,2,0)) | AT18: =IF(S18="","",IF(T18="Y",ROUNDUP(S18*RarityBackground!$D$4,0),IF(T18="N",ROUNDUP(S18*RarityBackground!$D$3,0)))) | AU18: =IF(U18="","",IF(V18="Y",((RarityBackground!$D$4*U18)*(RarityBackground!$F$3+W18)),((RarityBackground!$D$3*U18)*(RarityBackground!$F$3+W18)))) | AV18: =IF(X18="","",IF(Y18="Y",(RarityBackground!$D$4*X18)*IF(Z18="Y",RarityBackground!$F$9,RarityBackground!$F$10),(RarityBackground!$D$3*X18)*IF(Z18="Y",RarityBackground!$F$9,RarityBackground!$F$10))) | AW18: =IF(AA18="","",AA18*RarityBackground!$D$2) | AX18: =IF(AB18="","",AB18) -> 25000 | AY18: =IF(AC18="","",VLOOKUP(AC18,RarityBackground!$A$7:$B$17,2,0)) | AZ18: =IF(AD18="","",IF(AD18="Y",AY18*RarityBackground!$F$5,IF(AD18="N",AY18*(IF(RarityBackground!$F$3+(AE18-1)>10,10,RarityBackground!$F$3+(AE18-1)))))-AY18) | BA18: =IF(AF18="","",VLOOKUP(AF18,RarityBackground!$A$7:$B$17,2,0)) | BB18: =IF(AG18="","",IF(AG18="Y",BA18*RarityBackground!$F$5,IF(AG18="N",BA18*(IF(RarityBackground!$F$3+(AH18-1)>10,10,RarityBackground!$F$3+(AH18-1)))))-BA18)
A19: Armor, +1 | B19: Rare | C19: No | D19: =IF(A19="","",ROUNDUP(SUM(AI19:BB19)*VLOOKUP(B19,RarityBackground!$A$1:$B$6,2,0)*IF(C19="Yes",1,1.1),0)) -> 1980 | E19: Add armor cost for total | H19: 1 | AI19: =IF(F19="","",F19+IF(G19="",0,VLOOKUP(G19,RarityBackground!$E$7:$F$9,2,0))) | AJ19: =IF(H19="","",F19+IF(H19=1,RarityBackground!$F$1,IF(H19=2,RarityBackground!$F$1*3,IF(H19=3,RarityBackground!$F$1*6,"Error")))) -> 900 | AK19: =IF(I19="","",IF(I19=1,RarityBackground!$F$2,IF(I19=2,RarityBackground!$F$2*3,IF(I19=3,RarityBackground!$F$2*6,"Error")))) | AL19: =IF(J19="","",ROUNDUP(RarityBackground!$F$6*VLOOKUP(J19, RarityBackground!$A$18:$B$27,2,0),-1)) | AM19: =IF(K19="","",IF(K19="N","",IF(K19="Y",ROUNDUP(RarityBackground!$F$6,-1),""))) | AN19: =IF(L19="","",IF(L19=1,RarityBackground!$D$1,IF(L19=2,RarityBackground!$D$1*3,IF(L19=3,RarityBackground!$D$1*6,"Error")))) | AO19: =IF(M19="","",VLOOKUP(M19,RarityBackground!$A$7:$B$17,2,0)) | AP19: =IF(N19="","",IF(N19="Y",AO19*RarityBackground!$F$5,IF(N19="N",AO19*(IF(RarityBackground!$F$3+(O19-1)>10,10,RarityBackground!$F$3+(O19-1)))))-AO19) | AQ19: =IF(P19="","",(P19*AO19)-AO19) | AR19: =IF(Q19="","",Q19*RarityBackground!$D$5) | AS19: =IF(R19="","",VLOOKUP(R19&"Save1Minute", RarityBackground!$C$6:$D$20,2,0)) | AT19: =IF(S19="","",IF(T19="Y",ROUNDUP(S19*RarityBackground!$D$4,0),IF(T19="N",ROUNDUP(S19*RarityBackground!$D$3,0)))) | AU19: =IF(U19="","",IF(V19="Y",((RarityBackground!$D$4*U19)*(RarityBackground!$F$3+W19)),((RarityBackground!$D$3*U19)*(RarityBackground!$F$3+W19)))) | AV19: =IF(X19="","",IF(Y19="Y",(RarityBackground!$D$4*X19)*IF(Z19="Y",RarityBackground!$F$9,RarityBackground!$F$10),(RarityBackground!$D$3*X19)*IF(Z19="Y",RarityBackground!$F$9,RarityBackground!$F$10))) | AW19: =IF(AA19="","",AA19*RarityBackground!$D$2) | AX19: =IF(AB19="","",AB19) | AY19: =IF(AC19="","",VLOOKUP(AC19,RarityBackground!$A$7:$B$17,2,0)) | AZ19: =IF(AD19="","",IF(AD19="Y",AY19*RarityBackground!$F$5,IF(AD19="N",AY19*(IF(RarityBackground!$F$3+(AE19-1)>10,10,RarityBackground!$F$3+(AE19-1)))))-AY19) | BA19: =IF(AF19="","",VLOOKUP(AF19,RarityBackground!$A$7:$B$17,2,0)) | BB19: =IF(AG19="","",IF(AG19="Y",BA19*RarityBackground!$F$5,IF(AG19="N",BA19*(IF(RarityBackground!$F$3+(AH19-1)>10,10,RarityBackground!$F$3+(AH19-1)))))-BA19)
A20: Armor, +2 | B20: Very Rare | C20: No | D20: =IF(A20="","",ROUNDUP(SUM(AI20:BB20)*VLOOKUP(B20,RarityBackground!$A$1:$B$6,2,0)*IF(C20="Yes",1,1.1),0)) -> 8910 | E20: Add armor cost for total | H20: 2 | AI20: =IF(F20="","",F20+IF(G20="",0,VLOOKUP(G20,RarityBackground!$E$7:$F$9,2,0))) | AJ20: =IF(H20="","",F20+IF(H20=1,RarityBackground!$F$1,IF(H20=2,RarityBackground!$F$1*3,IF(H20=3,RarityBackground!$F$1*6,"Error")))) -> 2700 | AK20: =IF(I20="","",IF(I20=1,RarityBackground!$F$2,IF(I20=2,RarityBackground!$F$2*3,IF(I20=3,RarityBackground!$F$2*6,"Error")))) | AL20: =IF(J20="","",ROUNDUP(RarityBackground!$F$6*VLOOKUP(J20, RarityBackground!$A$18:$B$27,2,0),-1)) | AM20: =IF(K20="","",IF(K20="N","",IF(K20="Y",ROUNDUP(RarityBackground!$F$6,-1),""))) | AN20: =IF(L20="","",IF(L20=1,RarityBackground!$D$1,IF(L20=2,RarityBackground!$D$1*3,IF(L20=3,RarityBackground!$D$1*6,"Error")))) | AO20: =IF(M20="","",VLOOKUP(M20,RarityBackground!$A$7:$B$17,2,0)) | AP20: =IF(N20="","",IF(N20="Y",AO20*RarityBackground!$F$5,IF(N20="N",AO20*(IF(RarityBackground!$F$3+(O20-1)>10,10,RarityBackground!$F$3+(O20-1)))))-AO20) | AQ20: =IF(P20="","",(P20*AO20)-AO20) | AR20: =IF(Q20="","",Q20*RarityBackground!$D$5) | AS20: =IF(R20="","",VLOOKUP(R20&"Save1Minute", RarityBackground!$C$6:$D$20,2,0)) | AT20: =IF(S20="","",IF(T20="Y",ROUNDUP(S20*RarityBackground!$D$4,0),IF(T20="N",ROUNDUP(S20*RarityBackground!$D$3,0)))) | AU20: =IF(U20="","",IF(V20="Y",((RarityBackground!$D$4*U20)*(RarityBackground!$F$3+W20)),((RarityBackground!$D$3*U20)*(RarityBackground!$F$3+W20)))) | AV20: =IF(X20="","",IF(Y20="Y",(RarityBackground!$D$4*X20)*IF(Z20="Y",RarityBackground!$F$9,RarityBackground!$F$10),(RarityBackground!$D$3*X20)*IF(Z20="Y",RarityBackground!$F$9,RarityBackground!$F$10))) | AW20: =IF(AA20="","",AA20*RarityBackground!$D$2) | AX20: =IF(AB20="","",AB20) | AY20: =IF(AC20="","",VLOOKUP(AC20,RarityBackground!$A$7:$B$17,2,0)) | AZ20: =IF(AD20="","",IF(AD20="Y",AY20*RarityBackground!$F$5,IF(AD20="N",AY20*(IF(RarityBackground!$F$3+(AE20-1)>10,10,RarityBackground!$F$3+(AE20-1)))))-AY20) | BA20: =IF(AF20="","",VLOOKUP(AF20,RarityBackground!$A$7:$B$17,2,0)) | BB20: =IF(AG20="","",IF(AG20="Y",BA20*RarityBackground!$F$5,IF(AG20="N",BA20*(IF(RarityBackground!$F$3+(AH20-1)>10,10,RarityBackground!$F$3+(AH20-1)))))-BA20)
A21: Armor, +3 | B21: Legendary | C21: No | D21: =IF(A21="","",ROUNDUP(SUM(AI21:BB21)*VLOOKUP(B21,RarityBackground!$A$1:$B$6,2,0)*IF(C21="Yes",1,1.1),0)) -> 29700 | E21: Add armor cost for total | H21: 3 | AI21: =IF(F21="","",F21+IF(G21="",0,VLOOKUP(G21,RarityBackground!$E$7:$F$9,2,0))) | AJ21: =IF(H21="","",F21+IF(H21=1,RarityBackground!$F$1,IF(H21=2,RarityBackground!$F$1*3,IF(H21=3,RarityBackground!$F$1*6,"Error")))) -> 5400 | AK21: =IF(I21="","",IF(I21=1,RarityBackground!$F$2,IF(I21=2,RarityBackground!$F$2*3,IF(I21=3,RarityBackground!$F$2*6,"Error")))) | AL21: =IF(J21="","",ROUNDUP(RarityBackground!$F$6*VLOOKUP(J21, RarityBackground!$A$18:$B$27,2,0),-1)) | AM21: =IF(K21="","",IF(K21="N","",IF(K21="Y",ROUNDUP(RarityBackground!$F$6,-1),""))) | AN21: =IF(L21="","",IF(L21=1,RarityBackground!$D$1,IF(L21=2,RarityBackground!$D$1*3,IF(L21=3,RarityBackground!$D$1*6,"Error")))) | AO21: =IF(M21="","",VLOOKUP(M21,RarityBackground!$A$7:$B$17,2,0)) | AP21: =IF(N21="","",IF(N21="Y",AO21*RarityBackground!$F$5,IF(N21="N",AO21*(IF(RarityBackground!$F$3+(O21-1)>10,10,RarityBackground!$F$3+(O21-1)))))-AO21) | AQ21: =IF(P21="","",(P21*AO21)-AO21) | AR21: =IF(Q21="","",Q21*RarityBackground!$D$5) | AS21: =IF(R21="","",VLOOKUP(R21&"Save1Minute", RarityBackground!$C$6:$D$20,2,0)) | AT21: =IF(S21="","",IF(T21="Y",ROUNDUP(S21*RarityBackground!$D$4,0),IF(T21="N",ROUNDUP(S21*RarityBackground!$D$3,0)))) | AU21: =IF(U21="","",IF(V21="Y",((RarityBackground!$D$4*U21)*(RarityBackground!$F$3+W21)),((RarityBackground!$D$3*U21)*(RarityBackground!$F$3+W21)))) | AV21: =IF(X21="","",IF(Y21="Y",(RarityBackground!$D$4*X21)*IF(Z21="Y",RarityBackground!$F$9,RarityBackground!$F$10),(RarityBackground!$D$3*X21)*IF(Z21="Y",RarityBackground!$F$9,RarityBackground!$F$10))) | AW21: =IF(AA21="","",AA21*RarityBackground!$D$2) | AX21: =IF(AB21="","",AB21) | AY21: =IF(AC21="","",VLOOKUP(AC21,RarityBackground!$A$7:$B$17,2,0)) | AZ21: =IF(AD21="","",IF(AD21="Y",AY21*RarityBackground!$F$5,IF(AD21="N",AY21*(IF(RarityBackground!$F$3+(AE21-1)>10,10,RarityBackground!$F$3+(AE21-1)))))-AY21) | BA21: =IF(AF21="","",VLOOKUP(AF21,RarityBackground!$A$7:$B$17,2,0)) | BB21: =IF(AG21="","",IF(AG21="Y",BA21*RarityBackground!$F$5,IF(AG21="N",BA21*(IF(RarityBackground!$F$3+(AH21-1)>10,10,RarityBackground!$F$3+(AH21-1)))))-BA21)
A22: Armor of Invulnerability | B22: Legendary | C22: Yes | D22: =IF(A22="","",ROUNDUP(SUM(AI22:BB22)*VLOOKUP(B22,RarityBackground!$A$1:$B$6,2,0)*IF(C22="Yes",1,1.1),0)) -> 69300 | E22: Add armor cost for total | M22: 5 | N22: Y | AC22: 7 | AD22: N | AE22: 4 | AI22: =IF(F22="","",F22+IF(G22="",0,VLOOKUP(G22,RarityBackground!$E$7:$F$9,2,0))) | AJ22: =IF(H22="","",F22+IF(H22=1,RarityBackground!$F$1,IF(H22=2,RarityBackground!$F$1*3,IF(H22=3,RarityBackground!$F$1*6,"Error")))) | AK22: =IF(I22="","",IF(I22=1,RarityBackground!$F$2,IF(I22=2,RarityBackground!$F$2*3,IF(I22=3,RarityBackground!$F$2*6,"Error")))) | AL22: =IF(J22="","",ROUNDUP(RarityBackground!$F$6*VLOOKUP(J22, RarityBackground!$A$18:$B$27,2,0),-1)) | AM22: =IF(K22="","",IF(K22="N","",IF(K22="Y",ROUNDUP(RarityBackground!$F$6,-1),""))) | AN22: =IF(L22="","",IF(L22=1,RarityBackground!$D$1,IF(L22=2,RarityBackground!$D$1*3,IF(L22=3,RarityBackground!$D$1*6,"Error")))) | AO22: =IF(M22="","",VLOOKUP(M22,RarityBackground!$A$7:$B$17,2,0)) -> 630 | AP22: =IF(N22="","",IF(N22="Y",AO22*RarityBackground!$F$5,IF(N22="N",AO22*(IF(RarityBackground!$F$3+(O22-1)>10,10,RarityBackground!$F$3+(O22-1)))))-AO22) -> 5670 | AQ22: =IF(P22="","",(P22*AO22)-AO22) | AR22: =IF(Q22="","",Q22*RarityBackground!$D$5) | AS22: =IF(R22="","",VLOOKUP(R22&"Save1Minute", RarityBackground!$C$6:$D$20,2,0)) | AT22: =IF(S22="","",IF(T22="Y",ROUNDUP(S22*RarityBackground!$D$4,0),IF(T22="N",ROUNDUP(S22*RarityBackground!$D$3,0)))) | AU22: =IF(U22="","",IF(V22="Y",((RarityBackground!$D$4*U22)*(RarityBackground!$F$3+W22)),((RarityBackground!$D$3*U22)*(RarityBackground!$F$3+W22)))) | AV22: =IF(X22="","",IF(Y22="Y",(RarityBackground!$D$4*X22)*IF(Z22="Y",RarityBackground!$F$9,RarityBackground!$F$10),(RarityBackground!$D$3*X22)*IF(Z22="Y",RarityBackground!$F$9,RarityBackground!$F$10))) | AW22: =IF(AA22="","",AA22*RarityBackground!$D$2) | AX22: =IF(AB22="","",AB22) | AY22: =IF(AC22="","",VLOOKUP(AC22,RarityBackground!$A$7:$B$17,2,0)) -> 1080 | AZ22: =IF(AD22="","",IF(AD22="Y",AY22*RarityBackground!$F$5,IF(AD22="N",AY22*(IF(RarityBackground!$F$3+(AE22-1)>10,10,RarityBackground!$F$3+(AE22-1)))))-AY22) -> 6480 | BA22: =IF(AF22="","",VLOOKUP(AF22,RarityBackground!$A$7:$B$17,2,0)) | BB22: =IF(AG22="","",IF(AG22="Y",BA22*RarityBackground!$F$5,IF(AG22="N",BA22*(IF(RarityBackground!$F$3+(AH22-1)>10,10,RarityBackground!$F$3+(AH22-1)))))-BA22)
A23: Armor of Resistance | B23: Rare | C23: Yes | D23: =IF(A23="","",ROUNDUP(SUM(AI23:BB23)*VLOOKUP(B23,RarityBackground!$A$1:$B$6,2,0)*IF(C23="Yes",1,1.1),0)) -> 9000 | E23: Add armor cost for total; based: protection from energy (plus 1 level, no concentration) | M23: 4 | N23: Y | AI23: =IF(F23="","",F23+IF(G23="",0,VLOOKUP(G23,RarityBackground!$E$7:$F$9,2,0))) | AJ23: =IF(H23="","",F23+IF(H23=1,RarityBackground!$F$1,IF(H23=2,RarityBackground!$F$1*3,IF(H23=3,RarityBackground!$F$1*6,"Error")))) | AK23: =IF(I23="","",IF(I23=1,RarityBackground!$F$2,IF(I23=2,RarityBackground!$F$2*3,IF(I23=3,RarityBackground!$F$2*6,"Error")))) | AL23: =IF(J23="","",ROUNDUP(RarityBackground!$F$6*VLOOKUP(J23, RarityBackground!$A$18:$B$27,2,0),-1)) | AM23: =IF(K23="","",IF(K23="N","",IF(K23="Y",ROUNDUP(RarityBackground!$F$6,-1),""))) | AN23: =IF(L23="","",IF(L23=1,RarityBackground!$D$1,IF(L23=2,RarityBackground!$D$1*3,IF(L23=3,RarityBackground!$D$1*6,"Error")))) | AO23: =IF(M23="","",VLOOKUP(M23,RarityBackground!$A$7:$B$17,2,0)) -> 450 | AP23: =IF(N23="","",IF(N23="Y",AO23*RarityBackground!$F$5,IF(N23="N",AO23*(IF(RarityBackground!$F$3+(O23-1)>10,10,RarityBackground!$F$3+(O23-1)))))-AO23) -> 4050 | AQ23: =IF(P23="","",(P23*AO23)-AO23) | AR23: =IF(Q23="","",Q23*RarityBackground!$D$5) | AS23: =IF(R23="","",VLOOKUP(R23&"Save1Minute", RarityBackground!$C$6:$D$20,2,0)) | AT23: =IF(S23="","",IF(T23="Y",ROUNDUP(S23*RarityBackground!$D$4,0),IF(T23="N",ROUNDUP(S23*RarityBackground!$D$3,0)))) | AU23: =IF(U23="","",IF(V23="Y",((RarityBackground!$D$4*U23)*(RarityBackground!$F$3+W23)),((RarityBackground!$D$3*U23)*(RarityBackground!$F$3+W23)))) | AV23: =IF(X23="","",IF(Y23="Y",(RarityBackground!$D$4*X23)*IF(Z23="Y",RarityBackground!$F$9,RarityBackground!$F$10),(RarityBackground!$D$3*X23)*IF(Z23="Y",RarityBackground!$F$9,RarityBackground!$F$10))) | AW23: =IF(AA23="","",AA23*RarityBackground!$D$2) | AX23: =IF(AB23="","",AB23) | AY23: =IF(AC23="","",VLOOKUP(AC23,RarityBackground!$A$7:$B$17,2,0)) | AZ23: =IF(AD23="","",IF(AD23="Y",AY23*RarityBackground!$F$5,IF(AD23="N",AY23*(IF(RarityBackground!$F$3+(AE23-1)>10,10,RarityBackground!$F$3+(AE23-1)))))-AY23) | BA23: =IF(AF23="","",VLOOKUP(AF23,RarityBackground!$A$7:$B$17,2,0)) | BB23: =IF(AG23="","",IF(AG23="Y",BA23*RarityBackground!$F$5,IF(AG23="N",BA23*(IF(RarityBackground!$F$3+(AH23-1)>10,10,RarityBackground!$F$3+(AH23-1)))))-BA23)
A24: Armor of Resistance, Leather | B24: Rare | C24: Yes | D24: =IF(A24="","",ROUNDUP(SUM(AI24:BB24)*VLOOKUP(B24,RarityBackground!$A$1:$B$6,2,0)*IF(C24="Yes",1,1.1),0)) -> 9020 | E24: based: protection from energy (plus 1 level, no concentration) | F24: 10 | M24: 4 | N24: Y | AI24: =IF(F24="","",F24+IF(G24="",0,VLOOKUP(G24,RarityBackground!$E$7:$F$9,2,0))) -> 10 | AJ24: =IF(H24="","",F24+IF(H24=1,RarityBackground!$F$1,IF(H24=2,RarityBackground!$F$1*3,IF(H24=3,RarityBackground!$F$1*6,"Error")))) | AK24: =IF(I24="","",IF(I24=1,RarityBackground!$F$2,IF(I24=2,RarityBackground!$F$2*3,IF(I24=3,RarityBackground!$F$2*6,"Error")))) | AL24: =IF(J24="","",ROUNDUP(RarityBackground!$F$6*VLOOKUP(J24, RarityBackground!$A$18:$B$27,2,0),-1)) | AM24: =IF(K24="","",IF(K24="N","",IF(K24="Y",ROUNDUP(RarityBackground!$F$6,-1),""))) | AN24: =IF(L24="","",IF(L24=1,RarityBackground!$D$1,IF(L24=2,RarityBackground!$D$1*3,IF(L24=3,RarityBackground!$D$1*6,"Error")))) | AO24: =IF(M24="","",VLOOKUP(M24,RarityBackground!$A$7:$B$17,2,0)) -> 450 | AP24: =IF(N24="","",IF(N24="Y",AO24*RarityBackground!$F$5,IF(N24="N",AO24*(IF(RarityBackground!$F$3+(O24-1)>10,10,RarityBackground!$F$3+(O24-1)))))-AO24) -> 4050 | AQ24: =IF(P24="","",(P24*AO24)-AO24) | AR24: =IF(Q24="","",Q24*RarityBackground!$D$5) | AS24: =IF(R24="","",VLOOKUP(R24&"Save1Minute", RarityBackground!$C$6:$D$20,2,0)) | AT24: =IF(S24="","",IF(T24="Y",ROUNDUP(S24*RarityBackground!$D$4,0),IF(T24="N",ROUNDUP(S24*RarityBackground!$D$3,0)))) | AU24: =IF(U24="","",IF(V24="Y",((RarityBackground!$D$4*U24)*(RarityBackground!$F$3+W24)),((RarityBackground!$D$3*U24)*(RarityBackground!$F$3+W24)))) | AV24: =IF(X24="","",IF(Y24="Y",(RarityBackground!$D$4*X24)*IF(Z24="Y",RarityBackground!$F$9,RarityBackground!$F$10),(RarityBackground!$D$3*X24)*IF(Z24="Y",RarityBackground!$F$9,RarityBackground!$F$10))) | AW24: =IF(AA24="","",AA24*RarityBackground!$D$2) | AX24: =IF(AB24="","",AB24) | AY24: =IF(AC24="","",VLOOKUP(AC24,RarityBackground!$A$7:$B$17,2,0)) | AZ24: =IF(AD24="","",IF(AD24="Y",AY24*RarityBackground!$F$5,IF(AD24="N",AY24*(IF(RarityBackground!$F$3+(AE24-1)>10,10,RarityBackground!$F$3+(AE24-1)))))-AY24) | BA24: =IF(AF24="","",VLOOKUP(AF24,RarityBackground!$A$7:$B$17,2,0)) | BB24: =IF(AG24="","",IF(AG24="Y",BA24*RarityBackground!$F$5,IF(AG24="N",BA24*(IF(RarityBackground!$F$3+(AH24-1)>10,10,RarityBackground!$F$3+(AH24-1)))))-BA24)
A25: Armor of Resistance, Chain Shirt | B25: Rare | C25: Yes | D25: =IF(A25="","",ROUNDUP(SUM(AI25:BB25)*VLOOKUP(B25,RarityBackground!$A$1:$B$6,2,0)*IF(C25="Yes",1,1.1),0)) -> 9100 | E25: based: protection from energy (plus 1 level, no concentration) | F25: 50 | M25: 4 | N25: Y | AI25: =IF(F25="","",F25+IF(G25="",0,VLOOKUP(G25,RarityBackground!$E$7:$F$9,2,0))) -> 50 | AJ25: =IF(H25="","",F25+IF(H25=1,RarityBackground!$F$1,IF(H25=2,RarityBackground!$F$1*3,IF(H25=3,RarityBackground!$F$1*6,"Error")))) | AK25: =IF(I25="","",IF(I25=1,RarityBackground!$F$2,IF(I25=2,RarityBackground!$F$2*3,IF(I25=3,RarityBackground!$F$2*6,"Error")))) | AL25: =IF(J25="","",ROUNDUP(RarityBackground!$F$6*VLOOKUP(J25, RarityBackground!$A$18:$B$27,2,0),-1)) | AM25: =IF(K25="","",IF(K25="N","",IF(K25="Y",ROUNDUP(RarityBackground!$F$6,-1),""))) | AN25: =IF(L25="","",IF(L25=1,RarityBackground!$D$1,IF(L25=2,RarityBackground!$D$1*3,IF(L25=3,RarityBackground!$D$1*6,"Error")))) | AO25: =IF(M25="","",VLOOKUP(M25,RarityBackground!$A$7:$B$17,2,0)) -> 450 | AP25: =IF(N25="","",IF(N25="Y",AO25*RarityBackground!$F$5,IF(N25="N",AO25*(IF(RarityBackground!$F$3+(O25-1)>10,10,RarityBackground!$F$3+(O25-1)))))-AO25) -> 4050 | AQ25: =IF(P25="","",(P25*AO25)-AO25) | AR25: =IF(Q25="","",Q25*RarityBackground!$D$5) | AS25: =IF(R25="","",VLOOKUP(R25&"Save1Minute", RarityBackground!$C$6:$D$20,2,0)) | AT25: =IF(S25="","",IF(T25="Y",ROUNDUP(S25*RarityBackground!$D$4,0),IF(T25="N",ROUNDUP(S25*RarityBackground!$D$3,0)))) | AU25: =IF(U25="","",IF(V25="Y",((RarityBackground!$D$4*U25)*(RarityBackground!$F$3+W25)),((RarityBackground!$D$3*U25)*(RarityBackground!$F$3+W25)))) | AV25: =IF(X25="","",IF(Y25="Y",(RarityBackground!$D$4*X25)*IF(Z25="Y",RarityBackground!$F$9,RarityBackground!$F$10),(RarityBackground!$D$3*X25)*IF(Z25="Y",RarityBackground!$F$9,RarityBackground!$F$10))) | AW25: =IF(AA25="","",AA25*RarityBackground!$D$2) | AX25: =IF(AB25="","",AB25) | AY25: =IF(AC25="","",VLOOKUP(AC25,RarityBackground!$A$7:$B$17,2,0)) | AZ25: =IF(AD25="","",IF(AD25="Y",AY25*RarityBackground!$F$5,IF(AD25="N",AY25*(IF(RarityBackground!$F$3+(AE25-1)>10,10,RarityBackground!$F$3+(AE25-1)))))-AY25) | BA25: =IF(AF25="","",VLOOKUP(AF25,RarityBackground!$A$7:$B$17,2,0)) | BB25: =IF(AG25="","",IF(AG25="Y",BA25*RarityBackground!$F$5,IF(AG25="N",BA25*(IF(RarityBackground!$F$3+(AH25-1)>10,10,RarityBackground!$F$3+(AH25-1)))))-BA25)
A26: Armor of Resistance, Breastplate | B26: Rare | C26: Yes | D26: =IF(A26="","",ROUNDUP(SUM(AI26:BB26)*VLOOKUP(B26,RarityBackground!$A$1:$B$6,2,0)*IF(C26="Yes",1,1.1),0)) -> 9800 | E26: based: protection from energy (plus 1 level, no concentration) | F26: 400 | M26: 4 | N26: Y | AI26: =IF(F26="","",F26+IF(G26="",0,VLOOKUP(G26,RarityBackground!$E$7:$F$9,2,0))) -> 400 | AJ26: =IF(H26="","",F26+IF(H26=1,RarityBackground!$F$1,IF(H26=2,RarityBackground!$F$1*3,IF(H26=3,RarityBackground!$F$1*6,"Error")))) | AK26: =IF(I26="","",IF(I26=1,RarityBackground!$F$2,IF(I26=2,RarityBackground!$F$2*3,IF(I26=3,RarityBackground!$F$2*6,"Error")))) | AL26: =IF(J26="","",ROUNDUP(RarityBackground!$F$6*VLOOKUP(J26, RarityBackground!$A$18:$B$27,2,0),-1)) | AM26: =IF(K26="","",IF(K26="N","",IF(K26="Y",ROUNDUP(RarityBackground!$F$6,-1),""))) | AN26: =IF(L26="","",IF(L26=1,RarityBackground!$D$1,IF(L26=2,RarityBackground!$D$1*3,IF(L26=3,RarityBackground!$D$1*6,"Error")))) | AO26: =IF(M26="","",VLOOKUP(M26,RarityBackground!$A$7:$B$17,2,0)) -> 450 | AP26: =IF(N26="","",IF(N26="Y",AO26*RarityBackground!$F$5,IF(N26="N",AO26*(IF(RarityBackground!$F$3+(O26-1)>10,10,RarityBackground!$F$3+(O26-1)))))-AO26) -> 4050 | AQ26: =IF(P26="","",(P26*AO26)-AO26) | AR26: =IF(Q26="","",Q26*RarityBackground!$D$5) | AS26: =IF(R26="","",VLOOKUP(R26&"Save1Minute", RarityBackground!$C$6:$D$20,2,0)) | AT26: =IF(S26="","",IF(T26="Y",ROUNDUP(S26*RarityBackground!$D$4,0),IF(T26="N",ROUNDUP(S26*RarityBackground!$D$3,0)))) | AU26: =IF(U26="","",IF(V26="Y",((RarityBackground!$D$4*U26)*(RarityBackground!$F$3+W26)),((RarityBackground!$D$3*U26)*(RarityBackground!$F$3+W26)))) | AV26: =IF(X26="","",IF(Y26="Y",(RarityBackground!$D$4*X26)*IF(Z26="Y",RarityBackground!$F$9,RarityBackground!$F$10),(RarityBackground!$D$3*X26)*IF(Z26="Y",RarityBackground!$F$9,RarityBackground!$F$10))) | AW26: =IF(AA26="","",AA26*RarityBackground!$D$2) | AX26: =IF(AB26="","",AB26) | AY26: =IF(AC26="","",VLOOKUP(AC26,RarityBackground!$A$7:$B$17,2,0)) | AZ26: =IF(AD26="","",IF(AD26="Y",AY26*RarityBackground!$F$5,IF(AD26="N",AY26*(IF(RarityBackground!$F$3+(AE26-1)>10,10,RarityBackground!$F$3+(AE26-1)))))-AY26) | BA26: =IF(AF26="","",VLOOKUP(AF26,RarityBackground!$A$7:$B$17,2,0)) | BB26: =IF(AG26="","",IF(AG26="Y",BA26*RarityBackground!$F$5,IF(AG26="N",BA26*(IF(RarityBackground!$F$3+(AH26-1)>10,10,RarityBackground!$F$3+(AH26-1)))))-BA26)
